BEGIN:VCALENDAR
VERSION:2.0
PRODID:-//CompARTE Alicante · Asociación Cultural - ECPv5.3.2.1//NONSGML v1.0//EN
CALSCALE:GREGORIAN
METHOD:PUBLISH
X-WR-CALNAME:CompARTE Alicante · Asociación Cultural
X-ORIGINAL-URL:https://www.compartealicante.com
X-WR-CALDESC:Eventos para CompARTE Alicante · Asociación Cultural
BEGIN:VTIMEZONE
TZID:Europe/Madrid
BEGIN:DAYLIGHT
TZOFFSETFROM:+0100
TZOFFSETTO:+0200
TZNAME:CEST
DTSTART:20210328T010000
END:DAYLIGHT
BEGIN:STANDARD
TZOFFSETFROM:+0200
TZOFFSETTO:+0100
TZNAME:CET
DTSTART:20211031T010000
END:STANDARD
END:VTIMEZONE
BEGIN:VEVENT
DTSTART;TZID=Europe/Madrid:20211204T100000
DTEND;TZID=Europe/Madrid:20211204T114000
DTSTAMP:20260421T055913
CREATED:20211125T161639Z
LAST-MODIFIED:20211128T191357Z
UID:3010-1638612000-1638618000@www.compartealicante.com
SUMMARY:[2ª actividad] “Coneixer i estimar el nostre entorn"\, Centro de Interpretación de la guerra civil y refugios de Alicante.
DESCRIPTION:[vc_row][vc_column width=»1/2″][vc_single_image image=»3032″ img_size=»full» alignment=»center»][vc_column_text]El próximo sábado 4 de diciembre os proponemos una visita cultural sobre la historia de Alicante\, donde conoceremos el centro de interpretación de la guerra civil y visitaremos los refugios de Séneca y Balmis. \nEl objetivo de nuestra asociación es el fomento de la cultura y compartirla. Por ello\, a petición de varias personas y gracias a que la cultura\, como término polisémico\, nos permite desarrollar actividades de toda índole\, queremos inaugurar una sección que denominaremos “CONEIXER I ESTIMAR EL NOSTRE ENTORN”. \nVivimos en una zona privilegiada de mar y montaña con un vasto patrimonio cultural. \nEn esta sección os propondremos actividades que nos ayuden a conocer nuestro entorno desde múltiples puntos de vista: geográfico\, histórico\, artístico\, humanístico y gastronómico\, pero también\, a conservar ese entorno con actividades cuyo fin sea el fomento\, cuidado y conservación del medio ambiente. \nLa finalidad es la de conocer nuestro entorno cercano\, con diversas opciones: \n\nParques naturales de la zona\npueblos y ciudades (historia y patrimonio)\nvisitas a diferentes industrias\n\n[/vc_column_text][vc_column_text] \nAbrimos en Alicante con la visita al centro de interpretación de la guerra civil en Alicante y los refugios de Séneca y Balmis \n¡TENEMOS YA RESERVA PARA EL SABADO 4 DE DICIEMBRE! \nVisita guiada \nLa ciudad de Alicante sufrió durante la Guerra Civil Española (1936–1939) hasta 71 bombardeos a pesar de ser una ciudad de retaguardia. En esta visita guiada\, se pretende introducir al visitante en el contexto histórico y social que envuelve la construcción y uso de los refugios en Alicante.\nSe visitan el R31 (plaza de Séneca) y el R46 (plaza de Balmis) \nOs recomendamos el visionado de los siguientes vídeos para enriquecer vuestra visita. \nBOMBARDEOS NOVIEMBRE 1936\, ALICANTE \n \nHISTORIA DEL STANBROOK\, ALICANTE 1939 \n \nEL BUQUE STANBROOK. VIAJE AL EXILIO DESDE ALICANTE  \n \nNos encontraremos a las 9:45 en la antigua estación de autobuses  \n  \nNo te lo pierdas. ¿te apuntas? ¡ya sabes! haz tu reserva.[/vc_column_text][/vc_column][vc_column width=»1/2″][vc_column_text]ROGAMOS MÁXIMA PUNTUALIDAD \nPunto de encuentro Antigua Estación Autobuses (C/Portugal Esq. C/Italia) 9:45h\nComienzo de la visita guiada a las 10:00h[/vc_column_text][vc_column_text]Aportación  socios: 3 €[/vc_column_text][vc_column_text]IMPRESCINDIBLE RESERVAR:[/vc_column_text]\n\n    \n    \n      \n      \n        \n  \n\n\n\n\n\n\n\n\n\n\n\n\n\n\nHe leído y acepto la política de privacidad de Asociación CompARTE\n\n \n        \n\n    \n    \n\n   [/vc_column][/vc_row]
URL:https://www.compartealicante.com/evento/2a-actividad-coneixer-i-estimar-el-nostre-entorn-centro-de-interpretacion-de-la-guerra-civil-y-refugios-de-alicante/
LOCATION:antigua estación de autobuses\, carrer portugal\, 17\, Alicante\, Alicante\, 03003
CATEGORIES:Visitas culturales
ATTACH;FMTTYPE=image/jpeg:https://www.compartealicante.com/wp-content/uploads/2021/11/2a-Actividad-Visita-Alicante-Guerra-2.jpg
END:VEVENT
END:VCALENDAR