BEGIN:VCALENDAR
VERSION:2.0
PRODID:-//CompARTE Alicante · Asociación Cultural - ECPv5.3.2.1//NONSGML v1.0//EN
CALSCALE:GREGORIAN
METHOD:PUBLISH
X-WR-CALNAME:CompARTE Alicante · Asociación Cultural
X-ORIGINAL-URL:https://www.compartealicante.com
X-WR-CALDESC:Eventos para CompARTE Alicante · Asociación Cultural
BEGIN:VTIMEZONE
TZID:Europe/Madrid
BEGIN:DAYLIGHT
TZOFFSETFROM:+0100
TZOFFSETTO:+0200
TZNAME:CEST
DTSTART:20240331T010000
END:DAYLIGHT
BEGIN:STANDARD
TZOFFSETFROM:+0200
TZOFFSETTO:+0100
TZNAME:CET
DTSTART:20241027T010000
END:STANDARD
END:VTIMEZONE
BEGIN:VEVENT
DTSTART;TZID=Europe/Madrid:20240302T091500
DTEND;TZID=Europe/Madrid:20240302T171500
DTSTAMP:20260423T200030
CREATED:20240224T094556Z
LAST-MODIFIED:20240224T105143Z
UID:5338-1709370900-1709399700@www.compartealicante.com
SUMMARY:3ª actividad 2024 "Coneixer i estimar el nostre entorn"\, Visita guiada: Ruta Modernista en Novelda.
DESCRIPTION:[vc_row][vc_column width=»1/2″][vc_column_text]El próximo sábado 2 de marzo te proponemos una visita guiada a Novelda y su fascinante ruta modernista en la que te sumergirás en su rica historia y espectacular arquitectura. \nEl objetivo de nuestra asociación es el fomento de la cultura y compartirla. Por ello\, a petición de varias personas y gracias a que la cultura\, como término polisémico\, nos permite desarrollar actividades de toda índole\, queremos inaugurar una sección que denominaremos “CONEIXER I ESTIMAR EL NOSTRE ENTORN”. \nVivimos en una zona privilegiada de mar y montaña con un vasto patrimonio cultural. \nEn esta sección os propondremos actividades que nos ayuden a conocer nuestro entorno desde múltiples puntos de vista: geográfico\, histórico\, artístico\, humanístico y gastronómico\, pero también\, a conservar ese entorno con actividades cuyo fin sea el fomento\, cuidado y conservación del medio ambiente. \nLa finalidad es la de conocer nuestro entorno cercano\, con diversas opciones: \n\nParques naturales de la zona\npueblos y ciudades (historia y patrimonio)\nvisitas a diferentes industrias\n\n[/vc_column_text][vc_column_text] \nSONY DSC \nEsta ya es nuestra 3ª actividad del Coneixer i estimar el nostre entorne\, para conocer Novelda y su patrimonio modernista. \nVisita guiada \nNovelda es una ciudad que se encuentra en el Valle del Vinalopó\, entre viñedos. La producción de uva de mesa\, la extracción de mármol y el comercio del azafrán\, permitió a finales del siglo XIX que surgiese una cierta clase burguesa que introdujo el modernismo en la ciudad\, lo que le ha permitido la distinción de estar en la Ruta Modernista de Europa. Durante la visita conoceremos:\n– Castillo de la Mola. Es la fortaleza más antigua que se conserva en la provincia. Pero la particularidad la tiene su torre\, única en Europa.\n– El Santuario de María Magdalena\, de estilo modernista. En su interior tenemos el órgano de mármol\, único en el mundo. Podremos disfrutar del sonido de la piedra.\n– Paseo por el Centro Histórico\, conociendo diferentes fachadas de estilo modernista\, la Plaza del Ayuntamiento\, el Monumento a Jorge Juan\, la Iglesia de San Pedro…\n– Casa Museo Modernista. Es un palacete\, unifamiliar\, joya del modernismo. Además del recibidor y la escalera\, podemos conocer los despachos\, dormitorios\, patio y capilla\, salón de baile… Fue el regalo de bodas de Antonia Navarro (más conocida como la Pitxotxa) a su hija Luisa\, donde no escatimó en detalles y en los mejores artistas del momento.\n– Casa Gómez-Tortosa. Es el Centro Cultural de Novelda\, pero también conserva el comedor y la capilla modernista de los anteriores propietarios. \nCONSIDERACIONES:\nLa entrada a la Casa Museo Modernista es opcional y tiene un precio de 3€/persona que se pagará allí mismo. \nAl finalizar la ruta tenemos previsto comer en Novelda\, informaremos de restaurante y precio con vuestra inscripción \nNo te lo pierdas. ¿te apuntas? ¡ya sabes! haz tu reserva. \n[/vc_column_text][/vc_column][vc_column width=»1/2″][vc_column_text]ROGAMOS MÁXIMA PUNTUALIDAD \nPunto de encuentro Decathlon a las 9:15h\nSalida en coches particulares a las 9:30h\nHora estimada de regreso a las 17:30h \n[/vc_column_text][vc_column_text]PRECIO DE LA VISITA GUIADA \nAportación socios: 4 €\nAportación no socios: 6€[/vc_column_text][vc_column_text]IMPRESCINDIBLE RESERVAR:[/vc_column_text]\n\n    \n    \n      \n      \n        \n  \n\n\n\n\n\n\n\n\n\n\n\n\n\n\nHe leído y acepto la política de privacidad de Asociación CompARTE\n\n \n        \n\n    \n    \n\n   [/vc_column][/vc_row]
URL:https://www.compartealicante.com/evento/3a-actividad-2024-coneixer-i-estimar-el-nostre-entorn-visita-guiada-ruta-modernista-de-novelda/
LOCATION:aparcamiento del Decatlon\, Calle Bolulla\, 20\, Alicante\, Alicante\, 03009\, España
CATEGORIES:Excursiones
ATTACH;FMTTYPE=image/png:https://www.compartealicante.com/wp-content/uploads/2024/02/Copia-de-Excursion-Novelda-Modernista-2-1-1.png
END:VEVENT
END:VCALENDAR