BEGIN:VCALENDAR
VERSION:2.0
PRODID:-//CompARTE Alicante · Asociación Cultural - ECPv5.3.2.1//NONSGML v1.0//EN
CALSCALE:GREGORIAN
METHOD:PUBLISH
X-WR-CALNAME:CompARTE Alicante · Asociación Cultural
X-ORIGINAL-URL:https://www.compartealicante.com
X-WR-CALDESC:Eventos para CompARTE Alicante · Asociación Cultural
BEGIN:VTIMEZONE
TZID:Europe/Madrid
BEGIN:DAYLIGHT
TZOFFSETFROM:+0100
TZOFFSETTO:+0200
TZNAME:CEST
DTSTART:20240331T010000
END:DAYLIGHT
BEGIN:STANDARD
TZOFFSETFROM:+0200
TZOFFSETTO:+0100
TZNAME:CET
DTSTART:20241027T010000
END:STANDARD
END:VTIMEZONE
BEGIN:VEVENT
DTSTART;TZID=Europe/Madrid:20241214T093000
DTEND;TZID=Europe/Madrid:20241214T163000
DTSTAMP:20260425T024129
CREATED:20241209T222324Z
LAST-MODIFIED:20241209T222450Z
UID:6694-1734168600-1734193800@www.compartealicante.com
SUMMARY:7ª activitat 2024 "Coneixer i estimar el nostre entorn"\, Visita guiada a la Pineda de Guardamar
DESCRIPTION:[vc_row][vc_column width=»1/2″][vc_column_text]El dissabte 14 de desembre\, et convidem a una visita guiada per la Pineda de Guardamar i el Jaciment arqueològic de la Fonteta i Ràbita. De la mà de l’expert biòleg Josep Candela i Quesada\, explorarem este entorn únic. En finalitzar\, si et vols\, et convidem a compartir un menjar en companyia. \nEl sábado 14 de diciembre\, te invitamos a una visita guiada por la Pinada de Guardamar y el Yacimiento arqueológico de la Fonteta i Ràbita. De la mano del experto biólogo Josep Candela i Quesada\, exploraremos este entorno único. Al finalizar\, si te quieres\, te invitamos a disfrutar de una comida en compañía. \nEl objetivo de nuestra asociación es el fomento de la cultura y compartirla. Por ello\, a petición de varias personas y gracias a que la cultura\, como término polisémico\, nos permite desarrollar actividades de toda índole\, queremos inaugurar una sección que denominaremos “CONEIXER I ESTIMAR EL NOSTRE ENTORN”. \nVivimos en una zona privilegiada de mar y montaña con un vasto patrimonio cultural. \nEn esta sección os propondremos actividades que nos ayuden a conocer nuestro entorno desde múltiples puntos de vista: geográfico\, histórico\, artístico\, humanístico y gastronómico\, pero también\, a conservar ese entorno con actividades cuyo fin sea el fomento\, cuidado y conservación del medio ambiente. \nLa finalidad es la de conocer nuestro entorno cercano\, con diversas opciones: \n\nParques naturales de la zona\npueblos y ciudades (historia y patrimonio)\nvisitas a diferentes industrias\n\n[/vc_column_text][vc_column_text] \nEsta ya es nuestra 7ª actividad del Coneixer i estimar el nostre entorne\, para conocer el entorno natural de la Pinada de Guardamar y el yacimiento arqueológico de la Fonteta i Ràbita. \nEsta ja és la nostra 7a activitat del *Coneixer i estimar el *nostre ajuste\, per a conéixer l’entorn natural de la Pineda de Guardamar i el jaciment arqueològic de la Fonteta i Ràbita. \nITINERARI \nHora i lloc d’inici. 9:30 h. Plaça de la Constitució. Front a l’Ajuntament.- \n\nLlocs que es visitaran:\n– 9:30. Casa museu enginyer Mira.\n– 10:00. Recorregut pels taulells de l’Avgda. E. Mira.\n– Passeig pel camí de vivers o de la Gola.\n– 11:00. Estada en el conjunt forestal dels vivers.\n– Vivers\n– Casa forestal\n– Aljub de volta\n– Monument a Mira\n– Font del Rei\n– 11:30. Jaciment arqueològic de la Fonteta i Ràbita (4€ per persona)\n– 12:30. Tornada\n\nCONTINGUT DE LES EXPLICACIONS \n– Història de la plantació\n– Estat inicial de les arenes\n– Intervenció estatal. Paper de l’Escola d’enginyers de monts.\n– Començament dels treballs. Estratègies: detenció de les arenes en les zones més urgents; utilització de diversos mètodes per a la plantació i fixació. Novetats en la repoblació: primera a Espanya sobre les dunes; introducció dels eucaliptus. Assajos d’espècies arbòries\, herbàcies i arbustives. Vivers principals i volants. Cases forestals.\n– Importància de F. Mira en les repoblacions.\n– Un bon tècnic. Assajos. Utilització de la fotografia com a document i eina de seguiment de les tasques de repoblació.\n– Ricardo Codorniu. Divulgador.\n– Benacantil.\n– Valor actual de la pineda\n– Com a experiment científic a llarg termini\n– Valor social\, com a lloc d’expansió i trobada social. Berenars de Pasqua\n– Protecció front a la urbanització\n– Estat actual. Perspectives de futur\n– Estat de degradació i pèrdua de coberta arbòria. Quan comença el declivi de la pineda? Causes? Degradació progressiva\, estancament de la producció de biomassa i atacs per predadors.\n– Programes d’actuació\n– Perspectives de futur \nJosep Candela i Quesada \nBiòleg\, catedrátic d’institut jubilat\, de biología i geología. Va ser professor associat al departament d’Ecologia de la universitaria d’Alacant.\nActualment és president de l’Institut d’Estudis Guardamarencs\, i membre de diverses associacions culturals\, com La Gola\, de Guardamar\, i l’iInstitut d’Estudis del Baix Vinalopó. \nITINERARIO \nHora y lugar de inicio. 9:30 h. Plaza de la Constitución. Frente en el Ayuntamiento.- \n\nLugares que se visitarán:\n– 9:30. Casa museo ingeniero Mira.\n– 10:00. Recorrido por los azulejos del *Avgda. E. Mira.\n– Paseo por el camino de viveros o de la Garganta.\n– 11:00. Estancia en el conjunto forestal de los viveros.\n– Viveros\n– Casa forestal\n– Aljibe de vuelta\n– Monumento a Mira\n– Font del Rey\n– 11:30. Yacimiento arqueológico de la Fonteta y *Ràbita (4€ por persona)\n– 12:30. Fin de la visita.\n\n  \nCONTENIDO DE LAS EXPLICACIONES \n\n– Historia de la plantación\n– Estado inicial de las arenas\n– Intervención estatal. Papel de la Escuela de ingenieros de montes.\n– Comienzo de los trabajos. Estrategias: detención de las arenas en las zonas más urgentes; utilización de varios métodos para la plantación y fijación. Novedades en la repoblación: primera en España sobre las dunas; introducción de los eucaliptos. Ensayos de especies arbóreas\, herbáceas y arbustivas. Viveros principales y volantes. Casas forestales.\n– Importancia de F. Mira en las repoblaciones.\n– Un buen técnico. Ensayos. Utilización de la fotografía como documento y herramienta de seguimiento de las tareas de repoblación.\n– Ricardo Codorníu. Divulgador.\n– Benacantil.\n– Valor actual del pinar\n– Como experimento científico a largo plazo\n– Valor social\, como lugar de expansión y encuentro social. Meriendas de Pascua\n– Protección frente en la urbanización\n– Sido actual. Perspectivas de futuro\n– Estado de degradación y pérdida de cubierta arbórea. Cuando empieza el declive del pinar? Causas? Degradación progresiva\, estancamiento de la producción de biomasa y ataques por predadores.\n– Programas de actuación\n– Perspectivas de futuro\n\n  \nJosep Candela i Quesada \nBiólogo\, catedrático de instituto jubilado\, de biología y geología. Fue profesor asociado al departamento de Ecología de la Universidad de Alicante.\nActualmente es presidente del Instituto de Estudios Guardamarinos\, y miembro de varias asociaciones culturales\, como La Garganta\, de Guardamar\, y el Institut de Estudis del Baix Vinalopó. \nNo te lo pierdas. ¿te apuntas? ¡ya sabes! haz tu reserva. \n[/vc_column_text][/vc_column][vc_column width=»1/2″][vc_column_text]ROGAMOS MÁXIMA PUNTUALIDAD \nPunt de trobada en la Pl. de la Constitució\, Front a l’Ajuntament de Guardamar a les 9:30h \nPunto de encuentro en la Pza. de la Constitución\, frente al Ayuntamiento de Guardamar a las 9:30h \n[/vc_column_text][vc_column_text]PRECIO \n● Jaciment arqueològic de la Fonteta i Ràbita : 4€ per persona \n  \n[/vc_column_text][vc_column_text]IMPRESCINDIBLE RESERVAR:[/vc_column_text]\n\n    \n    \n      \n      \n        \n  \n\n\n\n\n\n\n\n\n\n\n\n\n\n\nHe leído y acepto la política de privacidad de Asociación CompARTE\n\n \n        \n\n    \n    \n\n   [/vc_column][/vc_row]
URL:https://www.compartealicante.com/evento/7a-activitat-2024-coneixer-i-estimar-el-nostre-entorn-visita-guiada-a-la-pineda-de-guardamar/
LOCATION:Plaça de la Constitució\, Plaça de la Constitució\, Guardamar del Segura\, Alicante\, 03140\, España
CATEGORIES:Excursiones,Visitas culturales
ATTACH;FMTTYPE=image/png:https://www.compartealicante.com/wp-content/uploads/2024/12/VISITA-GUIADA-A-LA-PINADA-DE-GUARDAMAR-1.png
END:VEVENT
END:VCALENDAR