BEGIN:VCALENDAR
VERSION:2.0
PRODID:-//CompARTE Alicante · Asociación Cultural - ECPv5.3.2.1//NONSGML v1.0//EN
CALSCALE:GREGORIAN
METHOD:PUBLISH
X-WR-CALNAME:CompARTE Alicante · Asociación Cultural
X-ORIGINAL-URL:https://www.compartealicante.com
X-WR-CALDESC:Eventos para CompARTE Alicante · Asociación Cultural
BEGIN:VTIMEZONE
TZID:Europe/Madrid
BEGIN:DAYLIGHT
TZOFFSETFROM:+0100
TZOFFSETTO:+0200
TZNAME:CEST
DTSTART:20240331T010000
END:DAYLIGHT
BEGIN:STANDARD
TZOFFSETFROM:+0200
TZOFFSETTO:+0100
TZNAME:CET
DTSTART:20241027T010000
END:STANDARD
END:VTIMEZONE
BEGIN:VEVENT
DTSTART;TZID=Europe/Madrid:20240121T190000
DTEND;TZID=Europe/Madrid:20240121T210000
DTSTAMP:20260425T201327
CREATED:20240115T145652Z
LAST-MODIFIED:20240115T145652Z
UID:5186-1705863600-1705870800@www.compartealicante.com
SUMMARY:Asamblea General compArte 2024
DESCRIPTION:[vc_row][vc_column width=»1/2″][vc_column_text]El próximo domingo 21 de enero a las 19:00 h. (primera convocatoria) y a las 19:15h. (segunda convocatoria) celebraremos la asamblea general de compARTE.[/vc_column_text][vc_column_text]A continuación tenéis los puntos a tratar en la misma\, pero abierta para el caso de que queráis añadir algún asunto especial. Sí así fuera se ruega nos remitáis por adelantado el asunto\, propuestas\, ruegos o preguntas que podáis tener a fin de prepararlas y dar agilidad a la reunión. \nPUNTOS A TRATAR \n📃 ORDEN DEL DÍA: \n1. Informe de presidencia \n2. Informe de secretaría \n3. Informe de tesorería \n4. Propuesta de actividades por la junta directiva \n5. Propuestas de los socios \n6. Ruegos y preguntas \nAl finalizar la reunión se ofrecerá un vino como bienvenida del nuevo año 🍷😊[/vc_column_text][vc_column_text]Aprovechamos para recordar que ya podemos ir formalizando la cuota 2024 mediante transferencia a la cuenta de Triodos\, por el mismo importe que el pasado año\, es decir\, 40€ por persona y descuento de 30% para familias con 3 o más miembros asociados. Los datos bancarios los tenéis abajo. \n  \n  \n[/vc_column_text][/vc_column][vc_column width=»1/2″][vc_column_text]ROGAMOS MÁXIMA PUNTUALIDAD \nInicio de la asamblea las 19:00h. (primera convocatoria)\n19:15h. (segunda convocatoria) \n[/vc_column_text][vc_column_text]Esperamos tu asistencia a la Asamblea General anual de socios. En caso de no poder asistir\, rogamos que nos avises y delegues tu participación y posible voto en quien desees\, para ello será suficiente que nos respondas al email que recibiste el pasado 14 de enero.[/vc_column_text][vc_column_text]Datos bancarios para transferencia de la cuota de asociado 2022. \nCantidad 40€/persona \nConcepto: cuota 2022 \nTRIODOS BANK. Cuenta Asociación compARTEcine \nIBAN: ES23 1491 0001 2230 0009 5764 \nBIC/SWIFT: TRIOESMMXXX[/vc_column_text][/vc_column][/vc_row]
URL:https://www.compartealicante.com/evento/asamblea-general-comparte-2024/
CATEGORIES:Otros
ATTACH;FMTTYPE=image/jpeg:https://www.compartealicante.com/wp-content/uploads/2020/11/Imagenes-eventos-Asociacion-cultural-CompARTE.jpg
END:VEVENT
END:VCALENDAR