BEGIN:VCALENDAR
VERSION:2.0
PRODID:-//CompARTE Alicante · Asociación Cultural - ECPv5.3.2.1//NONSGML v1.0//EN
CALSCALE:GREGORIAN
METHOD:PUBLISH
X-WR-CALNAME:CompARTE Alicante · Asociación Cultural
X-ORIGINAL-URL:https://www.compartealicante.com
X-WR-CALDESC:Eventos para CompARTE Alicante · Asociación Cultural
BEGIN:VTIMEZONE
TZID:Europe/Madrid
BEGIN:DAYLIGHT
TZOFFSETFROM:+0100
TZOFFSETTO:+0200
TZNAME:CEST
DTSTART:20220327T010000
END:DAYLIGHT
BEGIN:STANDARD
TZOFFSETFROM:+0200
TZOFFSETTO:+0100
TZNAME:CET
DTSTART:20221030T010000
END:STANDARD
END:VTIMEZONE
BEGIN:VEVENT
DTSTART;TZID=Europe/Madrid:20220617T190000
DTEND;TZID=Europe/Madrid:20220617T210000
DTSTAMP:20260423T123751
CREATED:20220517T182151Z
LAST-MODIFIED:20220523T164728Z
UID:3523-1655492400-1655499600@www.compartealicante.com
SUMMARY:Café filosófico sobre "EL MIEDO\, ESA EMOCIÓN PODEROSA"
DESCRIPTION:[vc_row][vc_column width=»1/2″][vc_column_text]Con mucha ilusión os comunicamos que el próximo viernes 17 de junio vuelve a compARTE el Café Filosófico liderado por Carolina Fernández\, doctora en filosofía\, psicoterapeuta y una experta en esta actividad.[/vc_column_text][vc_column_text]Para los que no la conocéis\, se trata de una sesión de tertulia dirigida\, con un tema pre-establecido y que en esta ocasión es EL MIEDO\, ESA EMOCIÓN PODEROSA. \nEl Café Filosófico es una de las vertientes de la Filosofía Práctica que promueve la riqueza de la oralidad filosófica fuera de los ámbitos académicos que normalmente se reservan para ello. Es un diálogo filosófico que pretende investigar y alcanzar la máxima claridad sobre un tema propuesto\, y en el que cualquier persona interesada puede participar. \n[/vc_column_text][vc_column_text]Alejado del mero debate o la yuxtaposición de ideas\, el diálogo filosófico eleva las opiniones de cada participante para construir un relato común que supere cada una de ellas\, siendo el máximo objetivo la búsqueda común de la verdad. \nConviene señalar que el objetivo de este tipo de indagación no es algo que se consiga al final del camino\, sino que comienza a dar sus frutos desde que se pone en marcha\, porque la escucha es una de las máximas virtudes de la práctica filosófica. Por ello\, se invita al participante a que escuche a los demás y a sí mismo\, tomando conciencia de cómo se siente\, de qué actitud mantiene ante las opiniones de los demás\, de cómo se enfrenta a un desacuerdo\, etc.\, es decir\, desde qué actitud estoy participando en el diálogo.[/vc_column_text][vc_column_text]Carolina nos introduce el tema sirviéndose de distintos materiales: textos\, películas\, canciones\, etc. Esta introducción servirá para situar a los participantes en diversas perspectivas sobre el tema de reflexión\, así como para suscitar las distintas problemáticas que se deduzcan del mismo. \nUna vez realizada esta primera parte\, y a raíz de una primera pregunta\, los participantes irán haciendo diversas intervenciones con el fin de arrojar luz al problema y ver si es posible la construcción una respuesta válida para todos. \nAunque el fin último no es el acuerdo entre todos los participantes (que en muchas ocasiones no se consigue)\, sí lo es la escucha de todos los planteamientos y la confrontación con las ideas tanto propias como de los demás\, a fin de “aprender todos de todos”. \n¡UNA EXPERIENCIA MUY RECOMENDABLE! \nApúntate sin miedo \n[/vc_column_text][/vc_column][vc_column width=»1/2″][vc_column_text]ROGAMOS MÁXIMA PUNTUALIDAD \nInicio del evento a las 19:00h[/vc_column_text][vc_column_text]Aportación socios: 5€\nGeneral: 8€[/vc_column_text][vc_column_text]IMPRESCINDIBLE RESERVAR:[/vc_column_text]\n\n    \n    \n      \n      \n        \n  \n\n\n\n\n\n\n\n\n\n\n\n\n\n\nHe leído y acepto la política de privacidad de Asociación CompARTE\n\n \n        \n\n    \n    \n\n   [/vc_column][/vc_row]
URL:https://www.compartealicante.com/evento/cafe-filosofico-sobre-el-miedo-esa-emocion-poderosa/
CATEGORIES:Café Filosófico
ATTACH;FMTTYPE=image/png:https://www.compartealicante.com/wp-content/uploads/2022/05/CAFE-FILOSOFICO-EL-MIEDO-ESA-EMOCION-PODEROSA-.png
END:VEVENT
END:VCALENDAR