BEGIN:VCALENDAR
VERSION:2.0
PRODID:-//CompARTE Alicante · Asociación Cultural - ECPv5.3.2.1//NONSGML v1.0//EN
CALSCALE:GREGORIAN
METHOD:PUBLISH
X-WR-CALNAME:CompARTE Alicante · Asociación Cultural
X-ORIGINAL-URL:https://www.compartealicante.com
X-WR-CALDESC:Eventos para CompARTE Alicante · Asociación Cultural
BEGIN:VTIMEZONE
TZID:Europe/Madrid
BEGIN:DAYLIGHT
TZOFFSETFROM:+0100
TZOFFSETTO:+0200
TZNAME:CEST
DTSTART:20230326T010000
END:DAYLIGHT
BEGIN:STANDARD
TZOFFSETFROM:+0200
TZOFFSETTO:+0100
TZNAME:CET
DTSTART:20231029T010000
END:STANDARD
END:VTIMEZONE
BEGIN:VEVENT
DTSTART;TZID=Europe/Madrid:20231206T120000
DTEND;TZID=Europe/Madrid:20231206T220000
DTSTAMP:20260425T124606
CREATED:20231102T093958Z
LAST-MODIFIED:20231102T093958Z
UID:5027-1701864000-1701900000@www.compartealicante.com
SUMMARY:Celebración compARTE2023 - Talento y Solidaridad
DESCRIPTION:[vc_row][vc_column width=»1/2″][vc_column_text]Save the date! Haced un hueco en vuestra agenda porque no os podéis perder nuestro evento anual💃💃. \nEl próximo miércoles 6 de diciembre (es festivo nacional😃) a las 12:00h. y en nuestra asociación\, todos los socios estáis invitados (previa inscripción) a nuestra fiesta anual compARTE 2023\, este año bajo el título Talento y Solidaridad. Por supuesto podéis traer acompañantes y amigos\, pero a estos no les saldrá gratis la fiesta 🙂 ¡Privilegio de ser socios! \nPara la parte de TALENTO: \n \nEste año queremos contar contigo para hacerla más divertida\, por ello nos gustaría que desplegaras y compartieras tu talento. En este espacio cualquier miembro de la asociación\, amigos y acompañantes (parejas\, tríos o grupo mayor) podrá presentar una breve escenificación\, para su disfrute personal y deleite de los asistentes. \nVálido representar un anuncio de manera divertida\, o una actuación de cine o escena musical …estamos abiertos a otras propuestas. \nBases\n1. Duración de cada actuación (entre 3 y 5 minutos máximo).\n2. Cada actuación se procurará de su vestuario o complementos que necesite.\n3. Tema libre.\n4. Deberán informar de su propuesta a comparte (breve descripción) al menos con 5 días de antelación. \nTendremos premios y detalles para los participantes. \n[/vc_column_text][vc_column_text]Para la parte de SOLIDARIDAD: \n \nSubasta pro-Turkana y recogida de móviles \n* Subasta solidaria: Pedimos a los socios aportar lo que os parezca conveniente para donar (objetos o servicios) y subastar entre los asistentes.\nLa recaudación se destinará al proyecto “medicación para el micetoma” Que es la actividad de medicina humanitaria que el grupo Cirugía en Turkana está llevando a cabo en el noroeste de Kenia. Este proyecto está liderado por Kika Colom que se encargará de que la inversión llegue directamente al pueblo Turkana en forma de medicación para la enfermedad. Para más información (o donaciones voluntarias) visitar:\nhttps://mecenazgo.umh.es/project/ayuda-para-el-tratamiento-medico-del-micetoma \nSi quieres aportar algo para la subasta informa con tiempo (enviando correo a comparte) para incluirlo y poner precio de salida. En cualquier caso todos podremos participar de la subasta adquiriendo algún producto donado por otras personas. \n* Recogida de móviles: Animamos a que recordéis nuestro compromiso con la Fundación Jane Goodall y que traigáis los móviles obsoletos para enviarlos al proyecto. Javier Morena nos recordará la importancia de no contribuir más a la explotación del coltán del Congo.[/vc_column_text][vc_column_text]Esta es nuestra propuesta de programa para la fiesta compARTE 2023 Talento y Solidaridad que puede variar un poco dependiendo del número de inscripciones en los talentos artísticos. \nPROGRAMA \n12:00h. Apertura celebración\, bienvenida\n12:30h. Muestra tu talento CompARTE.\n13:30 h. CompARTE solidario.\n14:30h. (aprox) “Comida”. Disfrutaremos de una comida en el jardín\, facilitada por la Asociación.\nPor la tarde (música y baile libre)\, intercalando Karaoke para los que no se atrevieron a preparar algo antes. Puedes pensar en tu canción y la podemos dejar preparada. \nDisfrutaremos de la fiesta mientras nos dure la marcha\, aunque a las 22:00 horas tenemos que dejar todo recogido. \nHemos preparado con mucho cariño para compartir esta divertida esta fiesta con todos los socios y amigos de CompARTE. \nNos encantaría que os sumarais al encuentro de socios. \n¡Reserva tu plaza! \n[/vc_column_text][/vc_column][vc_column width=»1/2″][vc_column_text]ROGAMOS MÁXIMA PUNTUALIDAD \nApertura de puertas a las 11:45h\nInicio del evento a las 12:00h[/vc_column_text][vc_column_text]EVENTO GRATUITO PARA SOCIOS \nAMIGOS DE COMPARTE Y ACOMPAÑANTES: 10€[/vc_column_text][vc_column_text]IMPRESCINDIBLE RESERVAR:[/vc_column_text]\n\n    \n    \n      \n      \n        \n  \n\n\n\n\n\n\n\n\n\n\n\n\n\n\nHe leído y acepto la política de privacidad de Asociación CompARTE\n\n \n        \n\n    \n    \n\n   [/vc_column][/vc_row]
URL:https://www.compartealicante.com/evento/celebracion-comparte2023-talento-y-solidaridad/
CATEGORIES:Otros
ATTACH;FMTTYPE=image/png:https://www.compartealicante.com/wp-content/uploads/2023/11/Copia-de-Copia-de-celebracion2023-1-1.png
END:VEVENT
END:VCALENDAR