BEGIN:VCALENDAR
VERSION:2.0
PRODID:-//CompARTE Alicante · Asociación Cultural - ECPv5.3.2.1//NONSGML v1.0//EN
CALSCALE:GREGORIAN
METHOD:PUBLISH
X-WR-CALNAME:CompARTE Alicante · Asociación Cultural
X-ORIGINAL-URL:https://www.compartealicante.com
X-WR-CALDESC:Eventos para CompARTE Alicante · Asociación Cultural
BEGIN:VTIMEZONE
TZID:Europe/Madrid
BEGIN:DAYLIGHT
TZOFFSETFROM:+0100
TZOFFSETTO:+0200
TZNAME:CEST
DTSTART:20240331T010000
END:DAYLIGHT
BEGIN:STANDARD
TZOFFSETFROM:+0200
TZOFFSETTO:+0100
TZNAME:CET
DTSTART:20241027T010000
END:STANDARD
END:VTIMEZONE
BEGIN:VEVENT
DTSTART;TZID=Europe/Madrid:20240823T210000
DTEND;TZID=Europe/Madrid:20240823T233000
DTSTAMP:20260423T194701
CREATED:20240822T090742Z
LAST-MODIFIED:20240822T090742Z
UID:6100-1724446800-1724455800@www.compartealicante.com
SUMMARY:Cine de verano con la película American Beauty del director Sam Mendes
DESCRIPTION:[vc_row][vc_column width=»1/2″][vc_column_text]Mañana viernes 23 de agosto seguimos con nuestras sesiones de cine de verano\, con la película American Beauty del director Sam Mendes\, en v.s.o en inglés . Esta película estará presentada por nuestro amigo y tesorero de la asociación Pepe Ivorra.  Después\, como siempre\, disfrutaremos de un entretenido debate.[/vc_column_text][vc_column_text] \n AMERICAN BEAUTY \n\nTítulo original: American Beauty\nAño: 1999\nDuración: 122 min.\nPaís: Estados Unidos\nDirección: Sam Mendes\nGuion: Alan Ball\nMúsica: Thomas Newman\nFotografía: Conrad L. Hall\nReparto: Kevin Spacey · Annette Bening · Thora Birch · Allison Janney · Peter Gallagher · Mena Suvari · Wes Bentley · Chris Cooper · Scott Bakula · Sam Robards\, etc.\nGénero: Drama. Comedia | Comedia dramática. Familia. Sátira. Película de culto\nCalificaciones (FA/IMDb/otros):  25 Mejores películas de los años 90/ IMDb 8\,3 / Filmaffinity 7\,9\nPremios:\n1999: 5 Oscars: película\, director\, actor (Kevin Spacey)\, guión\, fotografía. 8 Nominaciones\n1999: 3 Globos de Oro: Mejor película – drama\, director\, guión. 6 nominaciones\n1999: 6 Premios BAFTA\, incluyendo mejor película y actor (Spacey) 14 nominaciones\n1999: Premios Cesar: nominada a la mejor película extranjera\n1999: Premios David di Donatello: Nominada a mejor film extranjero\n1999: 2 premios National Board of Review: Mejor película\, actor (Wes Bentley).\n\nComentarios de Pepe Ivorra sobre la película \nLa trama relata la vida de los Burnham\, una familia disfuncional compuesta por Lester\, su esposa Carolyn y su hija adolescente Jane\, quienes se relacionan con otros personajes\, incluidos sus vecinos\, la familia Fitts. La película es descrita por los críticos como una sátira que abarca la satisfacción personal\, el amor paternal\, la sexualidad\, la belleza\, el materialismo\, la autoliberación y la redención. Además\, abarca temas como la importancia dada por las sociedades occidentales modernas a la apariencia y el éxito económico\, y cómo estos menoscaban las relaciones interpersonales\, deformándolas y generando en ocasiones una necesidad de escapar. Es en ese sentido en que se presenta la relación del protagonista con la amiga de Jane.[/vc_column_text][vc_column_text]¿Por qué ver American Beauty? \n\nUna crítica social mordaz: La película desvela la hipocresía y las frustraciones de la sociedad suburbana estadounidense\, mostrando cómo las apariencias engañan y la búsqueda de la felicidad puede llevar a lugares inesperados.\nPersonajes complejos y realistas: Cada personaje de «American Beauty» es un retrato profundo de la condición humana\, con sus propias luchas internas y deseos reprimidos.\nUna dirección magistral: Sam Mendes logra crear una atmósfera visualmente impactante y llena de simbolismo\, que te mantendrá enganchado desde el primer minuto.\nUn guion inteligente y provocador: Las conversaciones y los diálogos de la película son memorables y te harán reflexionar sobre la vida\, la muerte y los valores de nuestra sociedad.\nUn final sorprendente y conmovedor: La película te dejará pensando mucho tiempo después de haberla visto.\nEn resumen\, «American Beauty» es una obra maestra del cine que te hará reír\, llorar y reflexionar sobre la vida. Si te gustan las películas que te hacen pensar y que te muestran un lado más oscuro de la sociedad\, esta es una película que no te puedes perder.\n\nCuriosidades: \n\nEl final: El final de la película es uno de los más debatidos y controvertidos.\nEl rodaje: La película se rodó en un barrio residencial real\, lo que ayudó a crear una atmósfera más realista.\nEl reparto: Algunos actores\, como Mena Suvari\, se convirtieron en estrellas gracias a esta película.\n\nTemas clave y su importancia: \n\nLa crisis de la identidad y la búsqueda de la felicidad: La película exploró la insatisfacción de muchos individuos con sus vidas\, especialmente en una sociedad que prioriza el éxito material y la conformidad. Lester Burnham\, el protagonista\, representa a aquellos que se sienten atrapados en una rutina y anhelan algo más auténtico.\nLa hipocresía social: «American Beauty» desnudó la farsa de la familia perfecta y la comunidad idealizada. Detrás de las sonrisas y las apariencias\, se esconden secretos\, frustraciones y relaciones disfuncionales.\nLa sexualidad y la represión: La película abordó la sexualidad de manera abierta y sin tabúes\, desafiando las normas sociales establecidas. La obsesión de Lester por la joven vecina y la exploración de la propia sexualidad de Jane son ejemplos de cómo la sociedad reprime los deseos naturales.\nLa muerte y la belleza: La muerte es un tema recurrente en la película\, pero no se presenta como algo negativo. Al contrario\, se muestra como una liberación y una búsqueda de belleza en lo efímero.\n\nContexto histórico y social: \n\nSuburbios estadounidenses: La película se desarrolla en un típico barrio residencial\, un entorno que simboliza la vida americana idealizada\, pero que también revela sus contradicciones y tensiones.\nConsumismo y materialismo: Los años 90 fueron una época marcada por el consumismo y la búsqueda del éxito material. «American Beauty» critica este modelo de vida\, mostrando sus consecuencias negativas en la vida de las personas.\nCambios sociales: La película refleja los cambios sociales que se estaban produciendo en la sociedad estadounidense\, como la creciente aceptación de la diversidad sexual y la búsqueda de una identidad más auténtica.\nEn resumen\, «American Beauty» es una película que resonó profundamente en el público al abordar temas universales como la búsqueda de la felicidad\, la identidad y la muerte\, pero enmarcados en un contexto social específico. Su impacto se debe a su honestidad\, su crítica social y su capacidad para mostrar la complejidad de la condición humana.\n\n  \n¡NO TE QUEDES SIN TU PLAZA\, RESERVA YA! \n¡TRAE TU BOCATA\, DISFRUTARÁS DEL VERDADERO CINE DE VERANO! \n[/vc_column_text][/vc_column][vc_column width=»1/2″][vc_column_text]ROGAMOS MÁXIMA PUNTUALIDAD \nApertura de puertas a las 20:40h\nInicio del evento a las 21:00h[/vc_column_text][vc_column_text]EVENTO GRATUITO \nAFORO LIMITADO A SOCIOS Y ACOMPAÑANTES[/vc_column_text][vc_column_text]IMPRESCINDIBLE RESERVAR:[/vc_column_text]\n\n    \n    \n      \n      \n        \n  \n\n\n\n\n\n\n\n\n\n\n\n\n\n\nHe leído y acepto la política de privacidad de Asociación CompARTE\n\n \n        \n\n    \n    \n\n   [/vc_column][/vc_row]
URL:https://www.compartealicante.com/evento/cine-de-verano-con-la-pelicula-american-beauty-del-director-sam-mendes/
CATEGORIES:Cine,Cine comentado
ATTACH;FMTTYPE=image/png:https://www.compartealicante.com/wp-content/uploads/2024/08/american_beauty-1.png
END:VEVENT
END:VCALENDAR