BEGIN:VCALENDAR
VERSION:2.0
PRODID:-//CompARTE Alicante · Asociación Cultural - ECPv5.3.2.1//NONSGML v1.0//EN
CALSCALE:GREGORIAN
METHOD:PUBLISH
X-WR-CALNAME:CompARTE Alicante · Asociación Cultural
X-ORIGINAL-URL:https://www.compartealicante.com
X-WR-CALDESC:Eventos para CompARTE Alicante · Asociación Cultural
BEGIN:VTIMEZONE
TZID:Europe/Madrid
BEGIN:DAYLIGHT
TZOFFSETFROM:+0100
TZOFFSETTO:+0200
TZNAME:CEST
DTSTART:20250330T010000
END:DAYLIGHT
BEGIN:STANDARD
TZOFFSETFROM:+0200
TZOFFSETTO:+0100
TZNAME:CET
DTSTART:20251026T010000
END:STANDARD
END:VTIMEZONE
BEGIN:VEVENT
DTSTART;TZID=Europe/Madrid:20251206T193000
DTEND;TZID=Europe/Madrid:20251206T223000
DTSTAMP:20260422T222220
CREATED:20251128T145649Z
LAST-MODIFIED:20251128T145649Z
UID:8136-1765049400-1765060200@www.compartealicante.com
SUMMARY:Cine forum con la película "Living in Oblivion" - (Vivir Rodando) del director Tom DiCillo
DESCRIPTION:[vc_row][vc_column width=»1/2″][vc_column_text]El sábado 6 de diciembre\, a las 19:30h. tenemos el placer de presentar una sesión de cine forum\,  con la película Living in Oblivion (Vivir Rodando)\,  del director Tom DiCillo.  \nAntes de la proyección\,  nuestro socio y amigo Gabriel Mirelman hará una breve presentación para situar la película y\, al finalizar\, abriremos un coloquio para compartir impresiones.[/vc_column_text][vc_column_text] \nVIVIR RODANDO – (LIVING IN OBLIVION) \nAÑO: 1995\nDURACIÓN: 90 min\nDIRECTOR: Tom DiCillo\nGUION: Tom DiCillo\nFOTOGRAFÍA: Frank Prinzi\nMÚSICA: Frank Prinzi\nV.S.0. inglés\nINTÉRPRETES: Steve Buscemi\, Catherine Keener\, Dermot Mulroney\, James LeGros \, Danielle von Zerneck\, Peter Dinklage\, Rica Martens\, Michael Griffiths…\nDESCRIPCIÓN: Comedia\, muy aclamada en circuitos de cine independiente. El protagonista (Nick) está rodando una película en la que todo está saliendo mal\, pero no está dispuesto a renunciar e intenta conservar su integridad (FILMAFFINITY) \nPelícula de bajo presupuesto con talento. Enredo satírico y una pieza de cine dentro del cine. El director juega con la oposición entre lo soñado y lo real\, lo filmado y la filmación\, el color y el blanco el negro\, con un brioso guion y unas excelentes interpretaciones de los actores principales \nDestacar:\nFestival de Sundance 1995 – mejor Guión\nSeminci 1995 – Mejor dirección novel\nPremios Sant Jordi 1996 – Mejor actor extranjero (Steve Buscemi) \nRazones para ver Vivir Rodando \n\n\n\n\nRetrato Cómico del Cine Independiente: La película es una sátira hilarante y auténtica de las frustraciones\, el caos y la pasión que caracterizan las producciones cinematográficas de bajo presupuesto. \n\n\nJuego Narrativo con la Realidad: El guion utiliza una estructura en capas que difumina las fronteras entre el sueño\, la realidad y la ficción del film dentro del film. Está dividido en segmentos que reflejan la ansiedad y el colapso mental del director\, sin revelar detalles de la trama. \n\n\nPlataforma de Estrellas: La película es fundamental por impulsar la carrera de grandes talentos del cine\, incluyendo a Steve Buscemi\, Catherine Keener y el debut en la gran pantalla de Peter Dinklage. \n\n\n\n\nCOMETARIOS DE GABRIEL MIRELMAN SOBRE LA PELÍCULA \nCon una la primera escena de 15 minutos ya me atrapó\, pero el extraordinario giro del guion me cautivó\, siendo para mi una de las mejores películas que he visto. \n¡INSCRÍBETE Y NO TE LA PIERDAS! \n[/vc_column_text][/vc_column][vc_column width=»1/2″][vc_column_text]ROGAMOS MÁXIMA PUNTUALIDAD \nApertura de puertas a las 19:15h\nInicio del evento a las 19:30h[/vc_column_text][vc_column_text]EVENTO GRATUITO \n[/vc_column_text][vc_column_text]IMPRESCINDIBLE RESERVAR:[/vc_column_text]\n\n    \n    \n      \n      \n        \n  \n\n\n\n\n\n\n\n\n\n\n\n\n\n\nHe leído y acepto la política de privacidad de Asociación CompARTE\n\n \n        \n\n    \n    \n\n   [/vc_column][/vc_row]
URL:https://www.compartealicante.com/evento/cine-forum-con-la-pelicula-living-in-oblivion-vivir-rodando-del-director-tom-dicillo/
LOCATION:SEDE ASOCIACIÓN compARTE – SALA TOLÓN TELL ON\, Carrer Gastón Castelló\, 4\, El Campello\, Alicante\, 03560\, España
CATEGORIES:Cine,Cine comentado
ATTACH;FMTTYPE=image/png:https://www.compartealicante.com/wp-content/uploads/2025/11/CINEFORUM_VIVIR_RODANDO-2-1.png
END:VEVENT
END:VCALENDAR