BEGIN:VCALENDAR
VERSION:2.0
PRODID:-//CompARTE Alicante · Asociación Cultural - ECPv5.3.2.1//NONSGML v1.0//EN
CALSCALE:GREGORIAN
METHOD:PUBLISH
X-WR-CALNAME:CompARTE Alicante · Asociación Cultural
X-ORIGINAL-URL:https://www.compartealicante.com
X-WR-CALDESC:Eventos para CompARTE Alicante · Asociación Cultural
BEGIN:VTIMEZONE
TZID:Europe/Madrid
BEGIN:DAYLIGHT
TZOFFSETFROM:+0100
TZOFFSETTO:+0200
TZNAME:CEST
DTSTART:20250330T010000
END:DAYLIGHT
BEGIN:STANDARD
TZOFFSETFROM:+0200
TZOFFSETTO:+0100
TZNAME:CET
DTSTART:20251026T010000
END:STANDARD
END:VTIMEZONE
BEGIN:VEVENT
DTSTART;TZID=Europe/Madrid:20251121T193000
DTEND;TZID=Europe/Madrid:20251121T223000
DTSTAMP:20260422T204136
CREATED:20251118T185859Z
LAST-MODIFIED:20251118T185859Z
UID:8110-1763753400-1763764200@www.compartealicante.com
SUMMARY:Cine forum con la película "Monstruo" del director Hirokazu Koreeda
DESCRIPTION:[vc_row][vc_column width=»1/2″][vc_column_text]El viernes 21 de noviembre\, a las 19:30h. tenemos el placer de presentar una sesión de cine forum\,  con la película Monstruo\,  del director Hirokazu Koreeda. \nMonstruo no es una película más; es una obra del maestro Koreeda que te desafía a entender la verdad desde múltiples ángulos. Antes de la proyección\, tendremos una presentación para situar la película y\, al finalizar\, abriremos un coloquio para compartir impresiones.[/vc_column_text][vc_column_text] \nMONSTRUO – (Kaibutsu) \nAÑO: 2023\nDURACIÓN: 126 min\nDIRECTOR: Hirokazu Koreeda\nGUION: Yuji Sakamoto\nFOTOGRAFÍA: Ryûto Kondô\nMÚSICA: Ryūichi Sakamoto\nV.S.0. JAPONÉS\nINTÉRPRETES: Sakura Ando\, Eita Nagayama\, Soya Kurokawa\, Hinata Hiiragi\, Mitsuki Takahata\, Akihiro Kakuta\, Shido Nakamura\, Yuko Tanaka.\nSINOPSIS: Cuando su joven hijo Minato empieza a comportarse de forma extraña\, su madre siente que algo va mal. Al descubrir que el responsable de todo ello es un profesor\, irrumpe en la escuela exigiendo saber qué está pasando. Pero a medida que la historia se desarrolla a través de los ojos de la madre\, el profesor y el niño\, la verdad va saliendo a la luz\, poco a poco… \nDestacar:\n2023: 76 Festival de Cannes 2023: Mejor guión (Yuji Sakamoto)\n20123: 47º Premios de la Academia Japonesa (Películas del 2023): Mejor actriz (Sakura Ando). Nueva estrella del año (Soya Kurokawa). Nueva estrella del año (Hiiragi Hinata)\n2024: Asian Film Awards 2024: Mejor dirección (Hirokazu Koreeda) \nRazones para No Perderte Monstruo \n\nLa Firma del Maestro Koreeda: Si ya conoces películas como Un asunto de familia o Nadie sabe\, ya sabes que Koreeda es un genio contando historias con una sensibilidad brutal. Con Monstruo\, eleva el listón\, ofreciéndote un drama tan sutil como impactante que te llegará al alma.\nUna Trama que te Engancha y te Desafía: La película te obliga a replantearte lo que has visto una y otra vez.  La historia se desvela como un puzle\, cambiando constantemente la perspectiva y demostrando que la realidad nunca es simple.\n\nNo solo verás una gran película\, sino que tienes una presentación para entender mejor su contexto y un coloquio posterior. Es la oportunidad ideal para compartir tus impresiones\, escuchar otras visiones y enriquecer la experiencia. \n¡INSCRÍBETE Y NO TE LA PIERDAS! \n[/vc_column_text][/vc_column][vc_column width=»1/2″][vc_column_text]ROGAMOS MÁXIMA PUNTUALIDAD \nApertura de puertas a las 19:15h\nInicio del evento a las 19:30h[/vc_column_text][vc_column_text]EVENTO GRATUITO \n[/vc_column_text][vc_column_text]IMPRESCINDIBLE RESERVAR:[/vc_column_text]\n\n    \n    \n      \n      \n        \n  \n\n\n\n\n\n\n\n\n\n\n\n\n\n\nHe leído y acepto la política de privacidad de Asociación CompARTE\n\n \n        \n\n    \n    \n\n   [/vc_column][/vc_row]
URL:https://www.compartealicante.com/evento/cine-forum-con-la-pelicula-monstruo-del-director-hirokazu-koreeda/
LOCATION:SEDE ASOCIACIÓN compARTE – SALA TOLÓN TELL ON\, Carrer Gastón Castelló\, 4\, El Campello\, Alicante\, 03560\, España
CATEGORIES:Cine,Cine comentado
ATTACH;FMTTYPE=image/png:https://www.compartealicante.com/wp-content/uploads/2025/11/CINEFORUM_MONSTRUO-DE-KOREEDA-1-1-1.png
ORGANIZER;CN="Asociaci%C3%B3n%20CompARTE":MAILTO:compartealicante@gmail.com
END:VEVENT
END:VCALENDAR