BEGIN:VCALENDAR
VERSION:2.0
PRODID:-//CompARTE Alicante · Asociación Cultural - ECPv5.3.2.1//NONSGML v1.0//EN
CALSCALE:GREGORIAN
METHOD:PUBLISH
X-WR-CALNAME:CompARTE Alicante · Asociación Cultural
X-ORIGINAL-URL:https://www.compartealicante.com
X-WR-CALDESC:Eventos para CompARTE Alicante · Asociación Cultural
BEGIN:VTIMEZONE
TZID:Europe/Madrid
BEGIN:DAYLIGHT
TZOFFSETFROM:+0100
TZOFFSETTO:+0200
TZNAME:CEST
DTSTART:20260329T010000
END:DAYLIGHT
BEGIN:STANDARD
TZOFFSETFROM:+0200
TZOFFSETTO:+0100
TZNAME:CET
DTSTART:20261025T010000
END:STANDARD
END:VTIMEZONE
BEGIN:VEVENT
DTSTART;TZID=Europe/Madrid:20260215T193000
DTEND;TZID=Europe/Madrid:20260215T223000
DTSTAMP:20260421T021816
CREATED:20260206T190809Z
LAST-MODIFIED:20260206T190809Z
UID:8455-1771183800-1771194600@www.compartealicante.com
SUMMARY:Cinefórum con la película "El extraño viaje" del director Fernando Fernán Gómez
DESCRIPTION:[vc_row][vc_column width=»1/2″][vc_column_text]El domingo 15 de febrero\, a las 19:30h. tenemos el placer de presentar una sesión de cinefórum\,  con la película El extraño viaje del director Fernando Fernán Gómez. \nAntes de la proyección\,  nuestra amiga y socia Belén Palacios \, hará una presentación para situar la película y\, al finalizar\, abriremos un coloquio para compartir impresiones.[/vc_column_text][vc_column_text] \nEL EXTRAÑO VIAJE \nAÑO:1964\nDURACIÓN: 98 min\nDIRECTOR: Fernando Fernán Gómez\nGUION: Manuel Ruiz Castillo\, Pedro Beltrán. Argumento: Luis García Berlanga\nFOTOGRAFÍA: José Fernández Aguayo (B&W)\nMÚSICA: Cristóbal Halffter\nV.S.0. Español\nINTÉRPRETES: Carlos Larrañaga\, Tota Alba\, Lina Canalejas\, Jesús Franco\, Rafaela Aparicio\, Sara Lezana\, María Luisa Ponte\, Teresa Gisbert\, Luis Marín\, ….\nCalificaciones (FA/IMDb/otros): Mejor película en 25.ª edición de las Medallas del Círculo de Escritores Cinematográficos.\nDESCRIPCIÓN: Guion basado en la resolución imaginada por José Luis García Berlanga de un misterioso doble crimen sin resolver\, cometido en el año 1956. Es una película contada con realismo\, casi a modo de crónica\, refleja la España rural de los sesenta del siglo XX donde se mezcla con extraordinaria habilidad\, misterio\, terror y erotismo patrio\, todo ello amenizado por algunas notas de zarzuela y no pocos toques de humor. \nCOMENTARIOS DE BELÉN PALACIOS SOBRE LA PELÍCULA \nDe película maldita a estar entre las trece películas españolas favoritas de Pedro Almodovar. \n  \n¡INSCRÍBETE Y NO TE LA PIERDAS! \n[/vc_column_text][/vc_column][vc_column width=»1/2″][vc_column_text]ROGAMOS MÁXIMA PUNTUALIDAD \nApertura de puertas a las 19:20h\nInicio del evento a las 19:30h[/vc_column_text][vc_column_text]EVENTO GRATUITO \n[/vc_column_text][vc_column_text]IMPRESCINDIBLE RESERVAR:[/vc_column_text]\n\n    \n    \n      \n      \n        \n  \n\n\n\n\n\n\n\n\n\n\n\n\n\n\nHe leído y acepto la política de privacidad de Asociación CompARTE\n\n \n        \n\n    \n    \n\n   [/vc_column][/vc_row]
URL:https://www.compartealicante.com/evento/cineforum-con-la-pelicula-el-extrano-viaje-del-director-fernando-fernan-gomez/
LOCATION:SEDE ASOCIACIÓN compARTE – SALA TOLÓN TELL ON\, Carrer Gastón Castelló\, 4\, El Campello\, Alicante\, 03560\, España
CATEGORIES:Cine,Cine comentado
ATTACH;FMTTYPE=image/png:https://www.compartealicante.com/wp-content/uploads/2026/02/CINEFORUM-EL-EXTRANO-VIAJE-1-1-1-1-1.png
END:VEVENT
END:VCALENDAR