BEGIN:VCALENDAR
VERSION:2.0
PRODID:-//CompARTE Alicante · Asociación Cultural - ECPv5.3.2.1//NONSGML v1.0//EN
CALSCALE:GREGORIAN
METHOD:PUBLISH
X-WR-CALNAME:CompARTE Alicante · Asociación Cultural
X-ORIGINAL-URL:https://www.compartealicante.com
X-WR-CALDESC:Eventos para CompARTE Alicante · Asociación Cultural
BEGIN:VTIMEZONE
TZID:Europe/Madrid
BEGIN:DAYLIGHT
TZOFFSETFROM:+0100
TZOFFSETTO:+0200
TZNAME:CEST
DTSTART:20250330T010000
END:DAYLIGHT
BEGIN:STANDARD
TZOFFSETFROM:+0200
TZOFFSETTO:+0100
TZNAME:CET
DTSTART:20251026T010000
END:STANDARD
END:VTIMEZONE
BEGIN:VEVENT
DTSTART;TZID=Europe/Madrid:20251113T190000
DTEND;TZID=Europe/Madrid:20251113T213000
DTSTAMP:20260422T204753
CREATED:20250921T091450Z
LAST-MODIFIED:20250921T091450Z
UID:7849-1763060400-1763069400@www.compartealicante.com
SUMMARY:Club de lectura con el libro "Demasiada felicidad" de Alice Munro.
DESCRIPTION:[vc_row][vc_column width=»1/2″][vc_column_text]¡Te invitamos al Club de Lectura! \nEl jueves 13 de noviembre a las 19:00 horas\, nos complace invitarte a un nuevo encuentro de nuestro club de lectura. En esta ocasión\, se trata de la novela  «Demasiada felicidad» de la autora canadiense Alice Munro. \nMar Gran\,  socia y amiga\, será en esta ocasión quien presentará y conducirá la actividad. \n¡Únete a nuestro club de lectura! Sumérgete en el mundo de la literatura junto a personas apasionadas como tú. Regularmente seleccionamos un libro interesante para que lo disfrutes y después nos reunimos para charlar sobre él. ¡Es una oportunidad genial para descubrir nuevas historias y compartir opiniones mientras exploramos juntos el universo de los libros! ¡No te lo pierdas![/vc_column_text][vc_column_text] \nDEMASIADA FELICIDAD \nAÑO: 2012\nPÁGINAS: 344\nAUTORA: Alice Munro\nNACIONALIDAD: Canadá\nEDITORIAL: Debolsillo \nDemasiada felicidad contiene 10 maravillosas historias cortas. En todos los relatos recogidos en este libro los personajes nacen\, viven\, sufren o mueren con naturalidad\, sin emociones intensas\, ni tramas complejas. La autora construye historias en las que los personajes no son víctimas ni héroes…sencillamente se sobreponen como pueden y siguen adelante con sus vidas. Alice Munro nos desvela en este libro y a través de sus relatos\, su visión estoica de la vida. \nCOMENTARIO DE MAR GRAN SOBRE EL LIBRO PROPUESTO \nPara facilitar la tertulia del día 13 proponemos leer al menos los siguientes relatos: Madera\, Radicales libres\, Juego de Niños y Demasiada felicidad. \n¡NO TE LO PIERDAS! APÚNTATE YA.! \n[/vc_column_text][/vc_column][vc_column width=»1/2″][vc_column_text]ROGAMOS MÁXIMA PUNTUALIDAD \nInicio del evento a las 19:00h\nFinalización del evento a las 21:00h[/vc_column_text][vc_column_text]ACTIVIDAD GRATUITA[/vc_column_text][vc_column_text]IMPRESCINDIBLE RESERVAR:[/vc_column_text]\n\n    \n    \n      \n      \n        \n  \n\n\n\n\n\n\n\n\n\n\n\n\n\n\nHe leído y acepto la política de privacidad de Asociación CompARTE\n\n \n        \n\n    \n    \n\n   [/vc_column][/vc_row]
URL:https://www.compartealicante.com/evento/club-de-lectura-con-el-libro-demasiada-felicidad-de-alice-munro/
LOCATION:SEDE ASOCIACIÓN compARTE – SALA TOLÓN TELL ON\, Carrer Gastón Castelló\, 4\, El Campello\, Alicante\, 03560\, España
CATEGORIES:club de lectura
ATTACH;FMTTYPE=image/png:https://www.compartealicante.com/wp-content/uploads/2025/09/CARTEL-CLUB-DE-LECTURA-DEMASIADA-FELICIDAD-DE-ALICE-MUNRO-1.png
END:VEVENT
END:VCALENDAR