BEGIN:VCALENDAR
VERSION:2.0
PRODID:-//CompARTE Alicante · Asociación Cultural - ECPv5.3.2.1//NONSGML v1.0//EN
CALSCALE:GREGORIAN
METHOD:PUBLISH
X-WR-CALNAME:CompARTE Alicante · Asociación Cultural
X-ORIGINAL-URL:https://www.compartealicante.com
X-WR-CALDESC:Eventos para CompARTE Alicante · Asociación Cultural
BEGIN:VTIMEZONE
TZID:Europe/Madrid
BEGIN:DAYLIGHT
TZOFFSETFROM:+0100
TZOFFSETTO:+0200
TZNAME:CEST
DTSTART:20250330T010000
END:DAYLIGHT
BEGIN:STANDARD
TZOFFSETFROM:+0200
TZOFFSETTO:+0100
TZNAME:CET
DTSTART:20251026T010000
END:STANDARD
END:VTIMEZONE
BEGIN:VEVENT
DTSTART;TZID=Europe/Madrid:20250918T190000
DTEND;TZID=Europe/Madrid:20250918T210000
DTSTAMP:20260420T170252
CREATED:20250811T092500Z
LAST-MODIFIED:20250811T092500Z
UID:7740-1758222000-1758229200@www.compartealicante.com
SUMMARY:Club de lectura con el libro "El murmullo de las abejas" de Sofía Segovia.
DESCRIPTION:[vc_row][vc_column width=»1/2″][vc_column_text]¡Te invitamos al Club de Lectura! \nEl jueves 18 de septiembre a las 19:00 horas\, nos complace invitarte a un nuevo encuentro de nuestro club de lectura. En esta ocasión\, nos sumergiremos en la obra  «El murmullo de las abejas» de la  autora mexicana Sofía Segovia. \nXema Alavedra\,  socio y amigo\, será en esta ocasión quien presentará y conducirá la actividad. \n¡Únete a nuestro club de lectura! Sumérgete en el mundo de la literatura junto a personas apasionadas como tú. Regularmente seleccionamos un libro interesante para que lo disfrutes y después nos reunimos para charlar sobre él. ¡Es una oportunidad genial para descubrir nuevas historias y compartir opiniones mientras exploramos juntos el universo de los libros! ¡No te lo pierdas![/vc_column_text][vc_column_text] \nEL MURMULLO DE LAS ABEJAS \nAÑO: 2015\nPÁGINAS: 536\nAUTORA: Sofía Segovia\nNACIONALIDAD: México\nEDITORIAL: Lumen \nÉrase una vez una saga familiar de terratenientes mexicanos y un niño rodeado de abejas. Con estos elementos Sofía Segovia ha creado una historia de amor por la tierra y del poder de la complicidad entre los seres humanos. \nCOMENTARIO DE XEMA ALAVEDRA SOBRE EL LIBRO PROPUESTO \nNovela que se inscribe un realismo mágico distante de los sudamericanos (colombiano\, peruano\, etc). Más conservadora políticamente. También tal vez más realista. El personaje de Simonopio es de una construcción interesante que creo que dará para comentar bastante. También otros personajes con sus aspectos míticos y realistas.\nLa acción transcurre entre Linares y Monterrey (a 130 km y menos de 2 horas en coche entre ellas). Sofia Segovia nos habla de ambientes muy alejados de México DF. Otra visión. \n¡NO TE LO PIERDAS! APÚNTATE YA.! \n[/vc_column_text][/vc_column][vc_column width=»1/2″][vc_column_text]ROGAMOS MÁXIMA PUNTUALIDAD \nInicio del evento a las 19:00h\nFinalización del evento a las 21:00h[/vc_column_text][vc_column_text]ACTIVIDAD GRATUITA[/vc_column_text][vc_column_text]IMPRESCINDIBLE RESERVAR:[/vc_column_text]\n\n    \n    \n      \n      \n        \n  \n\n\n\n\n\n\n\n\n\n\n\n\n\n\nHe leído y acepto la política de privacidad de Asociación CompARTE\n\n \n        \n\n    \n    \n\n   [/vc_column][/vc_row]
URL:https://www.compartealicante.com/evento/club-de-lectura-con-el-libro-el-murmullo-de-las-abejas-de-sofia-segovia/
LOCATION:SEDE ASOCIACIÓN compARTE – SALA TOLÓN TELL ON\, Carrer Gastón Castelló\, 4\, El Campello\, Alicante\, 03560\, España
CATEGORIES:club de lectura
ATTACH;FMTTYPE=image/png:https://www.compartealicante.com/wp-content/uploads/2025/08/CARTEL-CLUB-DE-LECTURA-el-MURMULLO-DE-LAS-ABEJAS-1.png
END:VEVENT
END:VCALENDAR