BEGIN:VCALENDAR
VERSION:2.0
PRODID:-//CompARTE Alicante · Asociación Cultural - ECPv5.3.2.1//NONSGML v1.0//EN
CALSCALE:GREGORIAN
METHOD:PUBLISH
X-WR-CALNAME:CompARTE Alicante · Asociación Cultural
X-ORIGINAL-URL:https://www.compartealicante.com
X-WR-CALDESC:Eventos para CompARTE Alicante · Asociación Cultural
BEGIN:VTIMEZONE
TZID:Europe/Madrid
BEGIN:DAYLIGHT
TZOFFSETFROM:+0100
TZOFFSETTO:+0200
TZNAME:CEST
DTSTART:20240331T010000
END:DAYLIGHT
BEGIN:STANDARD
TZOFFSETFROM:+0200
TZOFFSETTO:+0100
TZNAME:CET
DTSTART:20241027T010000
END:STANDARD
END:VTIMEZONE
BEGIN:VEVENT
DTSTART;TZID=Europe/Madrid:20240711T190000
DTEND;TZID=Europe/Madrid:20240711T210000
DTSTAMP:20260423T162844
CREATED:20240417T083315Z
LAST-MODIFIED:20240417T090530Z
UID:5568-1720724400-1720731600@www.compartealicante.com
SUMMARY:Club de lectura con el libro Todo va a mejorar de Almudena Grandes
DESCRIPTION:[vc_row][vc_column width=»1/2″][vc_column_text]¡Atención\, amantes de la lectura! \nEl jueves 11 de julio a las 19:00 horas\, nos complace invitarte a un nuevo encuentro de nuestro club de lectura. En esta ocasión\, nos sumergiremos en la obra  «Todo va a mejorar» de la aclamada autora Almudena Grandes. \nNos acompañará en este viaje literario nuestro socio y amigo Víctor García Font\, quien presentará y conducirá la actividad. \n¡Únete a nuestro club de lectura! Sumérgete en el mundo de la literatura junto a personas apasionadas como tú. Regularmente seleccionamos un libro interesante para que lo disfrutes y después nos reunimos para charlar sobre él. ¡Es una oportunidad genial para descubrir nuevas historias y compartir opiniones mientras exploramos juntos el universo de los libros! ¡No te lo pierdas![/vc_column_text][vc_column_text] \nTODO VA A MEJORAR \nAÑO: 2022\nPÁGINAS: 500\nAUTORA: Almudena Grandes\nNACIONALIDAD: Española\nEDITORIAL: Editorial Tusquets \nSINOPSIS: Narra la creación y evolución de un nuevo partido político “Movimiento Ciudadano\, Soluciones ya” y la transformación social que significa su ascenso al poder. Muy coral. Tiene una relación de personajes al final \nCOMENTARIOS DE VÍCTOR GARCÍA SOBRE EL LIBRO PROPUESTO \nObra póstuma iniciada en la pandemia de 2020 y terminada\, el último capítulo\, por su compañero Luis García Montero. Merece la pena leer “Nota final de Luis García Montero” a la conclusión del libro \nNo te pierdas la oportunidad de compartir tus impresiones\, debatir ideas y disfrutar de una velada llena de literatura y compañerismo. \n¡NO TE LO PIERDAS! APÚNTATE YA.! \n[/vc_column_text][/vc_column][vc_column width=»1/2″][vc_column_text]ROGAMOS MÁXIMA PUNTUALIDAD \nInicio del evento a las 19:00h\nFinalización del evento a las 21:00h[/vc_column_text][vc_column_text]ACTIVIDAD GRATUITA[/vc_column_text][vc_column_text]IMPRESCINDIBLE RESERVAR:[/vc_column_text]\n\n    \n    \n      \n      \n        \n  \n\n\n\n\n\n\n\n\n\n\n\n\n\n\nHe leído y acepto la política de privacidad de Asociación CompARTE\n\n \n        \n\n    \n    \n\n   [/vc_column][/vc_row]
URL:https://www.compartealicante.com/evento/club-de-lectura-con-el-libro-todo-va-a-mejorar-de-almudena-grandes/
LOCATION:Libros de Ultramar\, Calle Bazán\, 61\, Alicante\, Alicante\, 03001\, España
CATEGORIES:club de lectura
ATTACH;FMTTYPE=image/png:https://www.compartealicante.com/wp-content/uploads/2024/04/Cartel-de-Todo-va-a-mejorar-de-Almudena-Grandes-1-1.png
END:VEVENT
END:VCALENDAR