BEGIN:VCALENDAR
VERSION:2.0
PRODID:-//CompARTE Alicante · Asociación Cultural - ECPv5.3.2.1//NONSGML v1.0//EN
CALSCALE:GREGORIAN
METHOD:PUBLISH
X-WR-CALNAME:CompARTE Alicante · Asociación Cultural
X-ORIGINAL-URL:https://www.compartealicante.com
X-WR-CALDESC:Eventos para CompARTE Alicante · Asociación Cultural
BEGIN:VTIMEZONE
TZID:Europe/Madrid
BEGIN:DAYLIGHT
TZOFFSETFROM:+0100
TZOFFSETTO:+0200
TZNAME:CEST
DTSTART:20240331T010000
END:DAYLIGHT
BEGIN:STANDARD
TZOFFSETFROM:+0200
TZOFFSETTO:+0100
TZNAME:CET
DTSTART:20241027T010000
END:STANDARD
END:VTIMEZONE
BEGIN:VEVENT
DTSTART;TZID=Europe/Madrid:20241026T193000
DTEND;TZID=Europe/Madrid:20241026T220000
DTSTAMP:20260425T001027
CREATED:20241013T093958Z
LAST-MODIFIED:20241013T093958Z
UID:6366-1729971000-1729980000@www.compartealicante.com
SUMMARY:Concha López Sarasúa\, la escritora de las dos orillas
DESCRIPTION:[vc_row][vc_column width=»1/2″][vc_column_text]¿Te interesa conocer cómo la literatura puede fomentar el entendimiento entre culturas? \nEl próximo sábado 26 de octubre\, nuestra amiga y socia Ana Cristina Baidal López\, nos hablará de la vida y obra literaria de su madre Concha López Sarasúa\, una escritora que nos invitó a mirar más allá de nuestras fronteras y a descubrir la belleza de la diversidad cultural.[/vc_column_text][vc_column_text] \nCONCHA LÓPEZ SARASÚA \n(Mieres\, 1932- Alicante\, 2021) vivió veinte años en Marruecos\, país que la marcó profundamente y que la motivó para escribir la mayor parte de su obra literaria. \nSus libros publicados abarcan desde la novela (La llamada del almuédano\, ¿Qué buscabais en Marrakech?\, Cita en París\, Celanova 42\, Regreso a la Patagonia)\, pasando por el cuento (A vuelo de pájaro sobre Marruecos\, La daga turca y otros relatos mediterráneos\, Secretos que dan al mar) hasta la literatura infantil (Meriem y la ruta fantástica\, En el país de Meriem\, Los mil y un cuentos de Meriem) y juvenil (¿Por qué tengo que emigrar?).  \nVarios de sus libros han sido traducidos al francés y al árabe. Su obra sobre el mundo árabe ha sido objeto de varios estudios\, entre los que destaca el ensayo del Dr. Mohamed Abrighach (Universidad Ibnou Zohr de Agadir) en su libro Superando orillas: Lectura intercultural de la narrativa de Concha López Sarasúa. \nCon una profunda convicción y un inmenso amor por Marruecos\, para Concha López Sarasúa el verdadero objetivo siempre fue el conocimiento y el acercamiento entre las culturas de nuestros dos países. Sin pretenderlo\, se fue convirtiendo en una “embajadora cultural\, empeñada sin descanso en acercar las dos orillas del Mediterráneo”\, como refleja Mohamed Abrighach\, en su libro mencionado anteriormente.\nEs por esta razón que Casa Mediterráneo (Organismo Público dependiente del Ministerio de Asuntos Exteriores\, Unión Europea y Cooperación del Gobierno de España)\, que comparte esa misión de tender puentes entre culturas\, decidió rendir un homenaje a su figura en 2023 y publicar en 2024 sus relatos inéditos Cuentos de las dos orillas\, en edición bilingüe español-árabe\, para que puedan llegar a los lectores de los dos países.[/vc_column_text][vc_column_text] \n  \nObra destacada de Concha López Sarasúa \n\nA vuelo de pájaro sobre Marruecos: Una colección de relatos que nos sumerge en la vida cotidiana y las costumbres marroquíes\, ofreciendo una visión mágica y realista a la vez.\nLa llamada del almuédano: Esta novela\, finalista del Premio Ateneo de Sevilla\, narra la historia de la emigración española al Magreb\, explorando las dificultades y las esperanzas de quienes dejaron su tierra en busca de un futuro mejor.\nCelanova 42: Ambientada en la España rural de la posguerra\, esta novela nos cuenta la historia de una niña inquieta a través de una mirada tierna y nostálgica.\nLa daga turca y otros relatos mediterráneos: Un conjunto de relatos que nos transportan a diferentes lugares del Mediterráneo\, donde el amor\, la pasión y la intriga se entrelazan.\n¿Qué buscabais en Marrakech? Cuatro amigas emprenden un viaje a Marruecos en busca de la tumba del rey poeta al-Mu’tamid Ben Abbad. A través de esta aventura\, las mujeres descubrirán aspectos desconocidos de sí mismas.\nCita en París: Esta novela retrata la vida de mujeres españolas en París y en la España de la posguerra\, con un enfoque especial en el mundo del cabaret.\n¿Por qué tengo que emigrar? Dirigida al público juvenil\, esta obra aborda el tema de la migración desde la perspectiva de un niño\, explorando los miedos\, las esperanzas y los desafíos que implica dejar el hogar.\nLos mil y un cuentos de Meriem: Inspirado en un viaje a Yemen\, este libro recopila cuentos tradicionales árabes\, adaptados y enriquecidos por la autora.\n\nOtras obras importantes: \nSuperando orillas: Una novela que reflexiona sobre la identidad y la búsqueda de raíces.\nRegreso a la Patagonia: Una historia de amor y aventuras ambientada en la Patagonia argentina. \nTemas recurrentes en la obra de Concha López Sarasúa: \n\nLa migración: La autora explora las experiencias de los migrantes\, tanto los que llegan a España como los que emigran hacia otros países.\nLa identidad: La búsqueda de raíces y la construcción de una identidad propia son temas recurrentes en su obra.\nLa mujer: López Sarasúa otorga un papel fundamental a las mujeres en sus novelas\, retratándolas como personajes fuertes y complejos.\nEl encuentro entre culturas: La autora muestra un gran interés por el diálogo intercultural y la riqueza que surge del encuentro entre diferentes tradiciones.\n\nSumérgete en las historias de dos orillas y descubre el legado de Concha López Sarasúa. \n ¡Inscríbete ahora y sé parte de esta experiencia única! \n[/vc_column_text][/vc_column][vc_column width=»1/2″][vc_column_text]ROGAMOS MÁXIMA PUNTUALIDAD \nApertura de puertas a las 19:15h\nInicio a las 19:30h[/vc_column_text][vc_column_text]EVENTO GRATUITO \n[/vc_column_text][vc_column_text]IMPRESCINDIBLE RESERVAR:[/vc_column_text]\n\n    \n    \n      \n      \n        \n  \n\n\n\n\n\n\n\n\n\n\n\n\n\n\nHe leído y acepto la política de privacidad de Asociación CompARTE\n\n \n        \n\n    \n    \n\n   [/vc_column][/vc_row]
URL:https://www.compartealicante.com/evento/concha-lopez-sarasua-la-escritora-de-las-dos-orillas/
CATEGORIES:Presentación de libro
ATTACH;FMTTYPE=image/png:https://www.compartealicante.com/wp-content/uploads/2024/10/PRESENTACION-OBRA-CONCHA-LOPEZ-SARASUA-1.png
END:VEVENT
END:VCALENDAR