BEGIN:VCALENDAR
VERSION:2.0
PRODID:-//CompARTE Alicante · Asociación Cultural - ECPv5.3.2.1//NONSGML v1.0//EN
CALSCALE:GREGORIAN
METHOD:PUBLISH
X-WR-CALNAME:CompARTE Alicante · Asociación Cultural
X-ORIGINAL-URL:https://www.compartealicante.com
X-WR-CALDESC:Eventos para CompARTE Alicante · Asociación Cultural
BEGIN:VTIMEZONE
TZID:Europe/Madrid
BEGIN:DAYLIGHT
TZOFFSETFROM:+0100
TZOFFSETTO:+0200
TZNAME:CEST
DTSTART:20240331T010000
END:DAYLIGHT
BEGIN:STANDARD
TZOFFSETFROM:+0200
TZOFFSETTO:+0100
TZNAME:CET
DTSTART:20241027T010000
END:STANDARD
END:VTIMEZONE
BEGIN:VEVENT
DTSTART;TZID=Europe/Madrid:20240406T200000
DTEND;TZID=Europe/Madrid:20240406T213000
DTSTAMP:20260421T020143
CREATED:20240331T091616Z
LAST-MODIFIED:20240331T091616Z
UID:5492-1712433600-1712439000@www.compartealicante.com
SUMMARY:Concierto acústico tributo a The Beatles por el dúo THE HATS
DESCRIPTION:[vc_row][vc_column width=»1/2″][vc_column_text]El próximo sábado 6 de abril a las 20:00 tenemos el placer de volver a recibir en la sede al dúo The Hats  donde disfrutaremos de un concierto acústico tributo a The Beatles.[/vc_column_text][vc_column_text] \n¡Prepárate para un viaje musical inolvidable! \nEl dúo acústico The Hats (Jose Herrera y Gabriel Mirelman) reinterpretaran grandes éxitos de los Beatles y otros grupos en formato acústico. Una forma divertida de escuchar los clásicos de la era beat. \n¿Te imaginas una banda que no solo te haga bailar\, sino que también cambie la sociedad? ¡Esa es la historia de The Beatles! Estos cuatro chicos de Liverpool\, John Lennon\, Paul McCartney\, George Harrison (el más grande\, sin duda*) y Ringo Starr\, se convirtieron en un fenómeno mundial en la década de 1960. \nOlvídate del skiffle y el rock and roll de los 50\, estos genios exploraron un sinfín de estilos\, desde el clásico Tin Pan Alley hasta el psicodélico. No solo su música era increíble\, su estilo\, sus looks y sus palabras marcaban tendencia. ¡Eran los ídolos de toda una generación! \nPero no solo se dedicaban a la música\, también usaron su fama para promover la paz\, el amor y la igualdad. Sus canciones hablaban de temas importantes como la guerra\, la pobreza y la discriminación. \nLamentablemente\, se separaron en 1970\, pero su legado sigue vivo. Sus canciones siguen sonando en las radios de todo el mundo y su influencia se puede ver en miles de artistas. \n  \n¡Reserva ya tu plaza y no te pierdas este viaje musical! \n(*) A la copywriter se le permite alguna licencia.[/vc_column_text][vc_video link=»https://www.youtube.com/watch?v=aepSd90JoJM» align=»center»][/vc_column][vc_column width=»1/2″][vc_column_text]ROGAMOS MÁXIMA PUNTUALIDAD \nApertura de puertas a las 19:30h\nInicio del evento a las 20:00h[/vc_column_text][vc_column_text]Aportación socios: 10€\nGeneral : 15€[/vc_column_text][vc_column_text]IMPRESCINDIBLE RESERVAR:[/vc_column_text]\n\n    \n    \n      \n      \n        \n  \n\n\n\n\n\n\n\n\n\n\n\n\n\n\nHe leído y acepto la política de privacidad de Asociación CompARTE\n\n \n        \n\n    \n    \n\n   [/vc_column][/vc_row]
URL:https://www.compartealicante.com/evento/concierto-acustico-tributo-a-the-beatles-por-el-duo-the-hats/
CATEGORIES:Conciertos
ATTACH;FMTTYPE=image/png:https://www.compartealicante.com/wp-content/uploads/2024/03/thehats-3-1.png
END:VEVENT
END:VCALENDAR