BEGIN:VCALENDAR
VERSION:2.0
PRODID:-//CompARTE Alicante · Asociación Cultural - ECPv5.3.2.1//NONSGML v1.0//EN
CALSCALE:GREGORIAN
METHOD:PUBLISH
X-WR-CALNAME:CompARTE Alicante · Asociación Cultural
X-ORIGINAL-URL:https://www.compartealicante.com
X-WR-CALDESC:Eventos para CompARTE Alicante · Asociación Cultural
BEGIN:VTIMEZONE
TZID:Europe/Madrid
BEGIN:DAYLIGHT
TZOFFSETFROM:+0100
TZOFFSETTO:+0200
TZNAME:CEST
DTSTART:20250330T010000
END:DAYLIGHT
BEGIN:STANDARD
TZOFFSETFROM:+0200
TZOFFSETTO:+0100
TZNAME:CET
DTSTART:20251026T010000
END:STANDARD
END:VTIMEZONE
BEGIN:VEVENT
DTSTART;TZID=Europe/Madrid:20251115T200000
DTEND;TZID=Europe/Madrid:20251115T213000
DTSTAMP:20260422T204442
CREATED:20251024T053610Z
LAST-MODIFIED:20251024T053610Z
UID:8042-1763236800-1763242200@www.compartealicante.com
SUMMARY:Concierto de “DOODLERS”
DESCRIPTION:[vc_row][vc_column width=»1/2″][vc_column_text]El próximo sábado 15 de noviembre a las 20:00h estamos muy contentos de presentar en compARTE con la colaboración de Casa Sofía a esta magnífica formación musical\, de nombre DOODLERS\, en nuestra sede. [/vc_column_text][vc_column_text]Doodle (verb): to draw pictures while thinking about something else or when you are bored. (Hacer dibujos mientras se piensa en otra cosa o cuando uno está aburrido). \nDOODLERS es un trío de jazz vocal surgido en 2013 al calor de los encuentros en Casa Sofía (El Altet) y dirigido por Esther Eu. El color de su armonía los diferencia\, pues no existe un reparto de voces estable. Por eso les gusta decir que “garabatean” las partituras (“Doodlers”: los que garabatean). El grupo ha sido invitado a diversos eventos en la zona de Levante\, obteniendo muy buenas críticas\, especialmente en las últimas ediciones del International Jazz Day en Alicante. \nEsther Eu escoge el repertorio y hace los arreglos atendiendo a la magia de la armonía vocal. La selección recoge éxitos de grandes artistas (Manhattan Transfer\, Antonio Carlos Jobim\, Lambert\, Hendrix&Ross…)\, destacando el gusto por el estilo “vocalese” (solos instrumentales cantados con letra). \nEl espectáculo tiene un carácter cercano y pedagógico\, invitando siempre al público a conocer los temas y su contexto en la escena musical e histórica \nDOODLERS son:\nESTHER EU (A veces soprano\, a veces tenor)\nEMILIO CABANES (Casi siempre soprano\, a veces barítono)\nMARISA ESCOLANO (Bajo casi siempre\, alto a veces)\nMERCHE MUÑOZ (piano)[/vc_column_text][vc_column_text] \n¡RESERVA YA TU PLAZA!\n[/vc_column_text][/vc_column][vc_column width=»1/2″][vc_column_text]ROGAMOS MÁXIMA PUNTUALIDAD \nApertura de puertas a las 19:45h\nInicio del evento a las 20:00h[/vc_column_text][vc_column_text]Aportación socios: 10€\nAportación general : 15€[/vc_column_text][vc_column_text]IMPRESCINDIBLE RESERVAR:[/vc_column_text]\n\n    \n    \n      \n      \n        \n  \n\n\n\n\n\n\n\n\n\n\n\n\n\n\nHe leído y acepto la política de privacidad de Asociación CompARTE\n\n \n        \n\n    \n    \n\n   [/vc_column][/vc_row]
URL:https://www.compartealicante.com/evento/concierto-de-doodlers/
LOCATION:SEDE ASOCIACIÓN compARTE – SALA TOLÓN TELL ON\, Carrer Gastón Castelló\, 4\, El Campello\, Alicante\, 03560\, España
CATEGORIES:Conciertos
ATTACH;FMTTYPE=image/png:https://www.compartealicante.com/wp-content/uploads/2025/10/DOODLERS-TRIOJAZZVOCAL-7-1.png
END:VEVENT
END:VCALENDAR