BEGIN:VCALENDAR
VERSION:2.0
PRODID:-//CompARTE Alicante · Asociación Cultural - ECPv5.3.2.1//NONSGML v1.0//EN
CALSCALE:GREGORIAN
METHOD:PUBLISH
X-WR-CALNAME:CompARTE Alicante · Asociación Cultural
X-ORIGINAL-URL:https://www.compartealicante.com
X-WR-CALDESC:Eventos para CompARTE Alicante · Asociación Cultural
BEGIN:VTIMEZONE
TZID:Europe/Madrid
BEGIN:DAYLIGHT
TZOFFSETFROM:+0100
TZOFFSETTO:+0200
TZNAME:CEST
DTSTART:20220327T010000
END:DAYLIGHT
BEGIN:STANDARD
TZOFFSETFROM:+0200
TZOFFSETTO:+0100
TZNAME:CET
DTSTART:20221030T010000
END:STANDARD
END:VTIMEZONE
BEGIN:VEVENT
DTSTART;TZID=Europe/Madrid:20220827T213000
DTEND;TZID=Europe/Madrid:20220827T220000
DTSTAMP:20260421T054038
CREATED:20220725T180639Z
LAST-MODIFIED:20220818T104218Z
UID:3684-1661635800-1661637600@www.compartealicante.com
SUMMARY:Concierto de Jazz de Martin Andersen & Arturo Serra trío.
DESCRIPTION:[vc_row][vc_column width=»1/2″][vc_column_text]El próximo sábado 27 de agosto  tenemos el placer de compartir con vosotros el concierto de jazz de Martin Andersen & Arturo Serra trío.[/vc_column_text][vc_column_text]Martin Andersen es un batería danés que ha acompañado a destacados artistas escandinavos y europeos con una expresiva y poderosa forma de tocar y un amplio registro de estilos. \nEn esta ocasión viene a comparte acompañado de dos músicos ya conocidos nuestros: Arturo Serra y Andrés Lizón. El vibráfonista Arturo Serra es sin duda uno de los referentes del jazz en España. \nHa intervenido en numerosos festivales como el de Málaga\, Ibiza\, Estepona\, Logroño\, etc. ha sido miembro de la Big Band de Sedaví (Valencia). En 1993\, obtuvo el primer premio del festival de jazz de Getxo. Actualmente es profesor de la “Orquesta Filarmónica de Málaga”. \nDe la música de este trío que completa el contrabajista Andrés Lizón\, podemos destacar además de su gran talento\, energía y musicalidad\, una continua búsqueda de la belleza y el firme propósito de conectar con el público\, que se traduce en una cuidada selección del repertorio y de los arreglos musicales con los que nos deleitarán en la actuación. \n¡No te lo puedes perder! \n[/vc_column_text][/vc_column][vc_column width=»1/2″][vc_column_text]ROGAMOS MÁXIMA PUNTUALIDAD \nApertura de puertas a las 21:10h\nInicio del evento a las 21:30h[/vc_column_text][vc_column_text]Aportación socios CompARTE\, El Refugio y Casa Sofía: 10€\nGeneral : 15€[/vc_column_text][vc_column_text]IMPRESCINDIBLE RESERVAR:[/vc_column_text]\n\n    \n    \n      \n      \n        \n  \n\n\n\n\n\n\n\n\n\n\n\n\n\n\nHe leído y acepto la política de privacidad de Asociación CompARTE\n\n \n        \n\n    \n    \n\n   [/vc_column][/vc_row]
URL:https://www.compartealicante.com/evento/concierto-de-jazz-de-martin-andersen-arturo-serra-trio/
CATEGORIES:Conciertos
ATTACH;FMTTYPE=image/jpeg:https://www.compartealicante.com/wp-content/uploads/2022/07/Concierto-de-Jazz-de-Martin-Andersen-Arturo-Serra-trio.-2.jpg
END:VEVENT
END:VCALENDAR