BEGIN:VCALENDAR
VERSION:2.0
PRODID:-//CompARTE Alicante · Asociación Cultural - ECPv5.3.2.1//NONSGML v1.0//EN
CALSCALE:GREGORIAN
METHOD:PUBLISH
X-WR-CALNAME:CompARTE Alicante · Asociación Cultural
X-ORIGINAL-URL:https://www.compartealicante.com
X-WR-CALDESC:Eventos para CompARTE Alicante · Asociación Cultural
BEGIN:VTIMEZONE
TZID:Europe/Madrid
BEGIN:DAYLIGHT
TZOFFSETFROM:+0100
TZOFFSETTO:+0200
TZNAME:CEST
DTSTART:20220327T010000
END:DAYLIGHT
BEGIN:STANDARD
TZOFFSETFROM:+0200
TZOFFSETTO:+0100
TZNAME:CET
DTSTART:20221030T010000
END:STANDARD
END:VTIMEZONE
BEGIN:VEVENT
DTSTART;TZID=Europe/Madrid:20220813T203000
DTEND;TZID=Europe/Madrid:20220813T220000
DTSTAMP:20260421T054443
CREATED:20220723T082228Z
LAST-MODIFIED:20220723T082228Z
UID:3682-1660422600-1660428000@www.compartealicante.com
SUMMARY:Concierto de Jazz de RANDY GREER interpreta a Nat King Cole
DESCRIPTION:[vc_row][vc_column width=»1/2″][vc_column_text]El próximo sábado 13 de agosto tenemos el placer de compartir con vosotros el  concierto de jazz de RANDY GREER interpreta a Nat King Cole.[/vc_column_text][vc_column_text]El norteamericano Randy Greer\, uno de los cantantes masculinos de jazz más sólidos de la escena internacional. Nieto del famoso batería de Duke Ellington Sonnyd Greer\, fue bautizado por Charlie Mingus en el club Soulville\, propiedad de sus padres. \nY si sus orígenes sonaban a jazz\, su voz excepcional recuerda a la de Nat ‘King’ Cole\, con un tono romántico y lleno de swing\, y a la de otros grandes como Cab Calloway\, Stevie Wonder o Ella Fitzgerald.[/vc_column_text][vc_column_text]Greer cuenta con una amplia discografía a su nombre\, entre la que cabe destacar los álbumes realizados junto al trío del guitarrista Robin Nolan\, la Barcelona Jazz Orchestra o el pianista catalán Ignasi Terraza. \nSu exquisita selección del repertorio\, su perfección y dominio vocal remiten directamente a su mentor\, Nat Cole\, pero ha alcanzado una extraordinaria calidez y una personalidad propia\, en la que destacan la pureza de su voz\, su extraordinaria afinación y su sofisticado sentido del ritmo\, cualidades destiladas a lo largo de más de 30 años de carrera\, y que su nuevo trabajo muestra con más rotundidad que nunca. \n¡Reserva tu plaza ya! \n[/vc_column_text][/vc_column][vc_column width=»1/2″][vc_column_text]ROGAMOS MÁXIMA PUNTUALIDAD \nApertura de puertas a las 20:10h\nInicio del evento a las 20:30h[/vc_column_text][vc_column_text]Aportación socios de CompArte | El Refugio | Casa Sofía : 10€\nGeneral : 15€[/vc_column_text][vc_column_text]IMPRESCINDIBLE RESERVAR:[/vc_column_text]\n\n    \n    \n      \n      \n        \n  \n\n\n\n\n\n\n\n\n\n\n\n\n\n\nHe leído y acepto la política de privacidad de Asociación CompARTE\n\n \n        \n\n    \n    \n\n   [/vc_column][/vc_row]
URL:https://www.compartealicante.com/evento/concierto-de-jazz-de-randy-greer-interpreta-a-nat-king-cole/
CATEGORIES:Conciertos
END:VEVENT
END:VCALENDAR