BEGIN:VCALENDAR
VERSION:2.0
PRODID:-//CompARTE Alicante · Asociación Cultural - ECPv5.3.2.1//NONSGML v1.0//EN
CALSCALE:GREGORIAN
METHOD:PUBLISH
X-WR-CALNAME:CompARTE Alicante · Asociación Cultural
X-ORIGINAL-URL:https://www.compartealicante.com
X-WR-CALDESC:Eventos para CompARTE Alicante · Asociación Cultural
BEGIN:VTIMEZONE
TZID:Europe/Madrid
BEGIN:DAYLIGHT
TZOFFSETFROM:+0100
TZOFFSETTO:+0200
TZNAME:CEST
DTSTART:20220327T010000
END:DAYLIGHT
BEGIN:STANDARD
TZOFFSETFROM:+0200
TZOFFSETTO:+0100
TZNAME:CET
DTSTART:20221030T010000
END:STANDARD
END:VTIMEZONE
BEGIN:VEVENT
DTSTART;TZID=Europe/Madrid:20220923T203000
DTEND;TZID=Europe/Madrid:20220923T220000
DTSTAMP:20260421T042015
CREATED:20220919T151813Z
LAST-MODIFIED:20220919T151813Z
UID:3842-1663965000-1663970400@www.compartealicante.com
SUMMARY:Concierto de Jazz de SMART SET TRIO
DESCRIPTION:[vc_row][vc_column width=»1/2″][vc_column_text]El próximo viernes  23 de septiembre a las 20.30 os proponemos un concierto de Jazz con el SMART SET TRIO\, organizado en colaboración con el Refugio Club de Jazz\, para disfrutarlo en la sede de Comparte[/vc_column_text][vc_column_text]Una vez más organizamos este concierto de Jazz junto a El Refugio. \nSmart Set Trio\, un trío que funciona a las mil maravillas\, liderados por el talento natural del gran pianista Javier Bermejo que junto al contrabajista Andrés Lizón y a Curro García a la batería forman un todo musical lleno de belleza\, intensidad y mucha conexión. Su música abraza la tradición y la modernidad\, con gran influencia del swing y del hard bop pero sin renunciar a otras visiones más abiertas. El grupo se formó en 2005 a caballo entre Alicante y Murcia y desde que iniciaron su andadura no han parado de tocar como trío y acompañar a otros músicos nacionales e internacionales. Una buena oportunidad para ver un trío que funciona como tal y en las que sus tres elementos están en continua conexión entre ellos \n¡¡NO TE LO PIERDAS!![/vc_column_text][vc_column_text] \nSmart Set Trio\n♪♪ Javier Bermejo Piano\n♪♪ Andrés Lizón Contrabajo\n♪♪ Curro García Batería[/vc_column_text][/vc_column][vc_column width=»1/2″][vc_column_text]ROGAMOS MÁXIMA PUNTUALIDAD \nApertura de puertas a las 20:10h\nInicio del evento a las 20:30h[/vc_column_text][vc_column_text]Aportación socios: 10€\nGeneral : 15€[/vc_column_text][vc_column_text] \nIMPRESCINDIBLE RESERVAR:[/vc_column_text]\n\n    \n    \n      \n      \n        \n  \n\n\n\n\n\n\n\n\n\n\n\n\n\n\nHe leído y acepto la política de privacidad de Asociación CompARTE\n\n \n        \n\n    \n    \n\n   [/vc_column][/vc_row]
URL:https://www.compartealicante.com/evento/concierto-de-jazz-de-smart-set-trio/
CATEGORIES:Conciertos
ATTACH;FMTTYPE=image/jpeg:https://www.compartealicante.com/wp-content/uploads/2022/09/Smart-Set-Trio.jpg
END:VEVENT
END:VCALENDAR