BEGIN:VCALENDAR
VERSION:2.0
PRODID:-//CompARTE Alicante · Asociación Cultural - ECPv5.3.2.1//NONSGML v1.0//EN
CALSCALE:GREGORIAN
METHOD:PUBLISH
X-WR-CALNAME:CompARTE Alicante · Asociación Cultural
X-ORIGINAL-URL:https://www.compartealicante.com
X-WR-CALDESC:Eventos para CompARTE Alicante · Asociación Cultural
BEGIN:VTIMEZONE
TZID:Europe/Madrid
BEGIN:DAYLIGHT
TZOFFSETFROM:+0100
TZOFFSETTO:+0200
TZNAME:CEST
DTSTART:20240331T010000
END:DAYLIGHT
BEGIN:STANDARD
TZOFFSETFROM:+0200
TZOFFSETTO:+0100
TZNAME:CET
DTSTART:20241027T010000
END:STANDARD
END:VTIMEZONE
BEGIN:VEVENT
DTSTART;TZID=Europe/Madrid:20240525T200000
DTEND;TZID=Europe/Madrid:20240525T213000
DTSTAMP:20260421T061539
CREATED:20240423T184712Z
LAST-MODIFIED:20240423T184712Z
UID:5624-1716667200-1716672600@www.compartealicante.com
SUMMARY:Concierto de jazz por Gabriel Mirelman Quartet
DESCRIPTION:[vc_row][vc_column width=»1/2″][vc_column_text]El sábado 25 de mayo a las 20:00h. tendremos el placer de disfrutar del CONCIERTO DE JAZZ por  Gabriel Mirelman Quartet en  la sede de compArte. \n¿Te apasiona el jazz? ¿Buscas una noche inolvidable llena de ritmo y talento? ¡Entonces no te puedes perder este concierto! \n[/vc_column_text][vc_column_text]Gabriel Mirelman\, reconocido guitarrista y voz\, junto a su cuarteto\, ofrecerán una velada llena de talento y virtuosismo y te transportará a través de un repertorio cuidadosamente seleccionado\, donde el jazz será el protagonista. \nGabriel Mirelman se formó como músico en Madrid (becado por la A.I.E en la Escuela Creativa y Escuela de Música Popular).\nFundó su propio proyecto de jazz «Gabriel Mirelman Quartet». Se mudó a Alicante y formó un nuevo cuarteto\,  ha cosechado éxitos en diversos escenarios\, incluyendo el Jazz & Blues Club (C.C. Cigarreras) y el festival «La mar de Músicas de Cartagena»\, demostrando su dominio del género y su capacidad para conectar con el público. \nSi buscas una experiencia musical de calidad en un ambiente íntimo\, este concierto es para ti. No te pierdas la oportunidad de disfrutar de una noche llena de jazz y talento. En esta ocasión\, le acompañan tres de los mejores músicos de la zona: \n♪♪Guitarra y voz: Gabriel Mirelman\n♪♪ Piano: David González\n♪♪ Contrabajo: Jesús Gea\n♪♪ Batería: Curro García[/vc_column_text][vc_column_text] \n¡RESERVA YA TU PLAZA!\n[/vc_column_text][vc_video link=»https://youtu.be/-_SHBW6cogY»][/vc_column][vc_column width=»1/2″][vc_column_text]ROGAMOS MÁXIMA PUNTUALIDAD \nApertura de puertas a las 19:50h\nInicio del evento a las 20:00h[/vc_column_text][vc_column_text]Aportación socios: 10€\nGeneral : 15€[/vc_column_text][vc_column_text]IMPRESCINDIBLE RESERVAR:[/vc_column_text]\n\n    \n    \n      \n      \n        \n  \n\n\n\n\n\n\n\n\n\n\n\n\n\n\nHe leído y acepto la política de privacidad de Asociación CompARTE\n\n \n        \n\n    \n    \n\n   [/vc_column][/vc_row]
URL:https://www.compartealicante.com/evento/concierto-de-jazz-por-gabriel-mirelman-quartet-2/
CATEGORIES:Conciertos
ATTACH;FMTTYPE=image/png:https://www.compartealicante.com/wp-content/uploads/2024/04/Copia-de-GABRIEL-MIRELMAN-Quartet-1.png
END:VEVENT
END:VCALENDAR