BEGIN:VCALENDAR
VERSION:2.0
PRODID:-//CompARTE Alicante · Asociación Cultural - ECPv5.3.2.1//NONSGML v1.0//EN
CALSCALE:GREGORIAN
METHOD:PUBLISH
X-WR-CALNAME:CompARTE Alicante · Asociación Cultural
X-ORIGINAL-URL:https://www.compartealicante.com
X-WR-CALDESC:Eventos para CompARTE Alicante · Asociación Cultural
BEGIN:VTIMEZONE
TZID:Europe/Madrid
BEGIN:DAYLIGHT
TZOFFSETFROM:+0100
TZOFFSETTO:+0200
TZNAME:CEST
DTSTART:20230326T010000
END:DAYLIGHT
BEGIN:STANDARD
TZOFFSETFROM:+0200
TZOFFSETTO:+0100
TZNAME:CET
DTSTART:20231029T010000
END:STANDARD
END:VTIMEZONE
BEGIN:VEVENT
DTSTART;TZID=Europe/Madrid:20230526T200000
DTEND;TZID=Europe/Madrid:20230526T220000
DTSTAMP:20260421T043205
CREATED:20230515T180014Z
LAST-MODIFIED:20230520T082957Z
UID:4453-1685131200-1685138400@www.compartealicante.com
SUMMARY:Concierto de jazz por Gabriel Mirelman Quartet
DESCRIPTION:[vc_row][vc_column width=»1/2″][vc_column_text]El próximo 26 de mayo a las 20:00h. tendremos el placer de disfrutar del CONCIERTO DE JAZZ por  Gabriel Mirelman Quartet en el exterior de la sede de compArte.[/vc_column_text][vc_column_text]Gabriel Mirelman se formó como músico en Madrid (becado por la A.I.E en la Escuela Creativa y Escuela de Música Popular).\nFundó su propio proyecto de jazz «Gabriel Mirelman Quartet». Se mudó a Alicante y formó un nuevo cuarteto\, tocando en el Jazz & Blues Club (C.C. Cigarreras) así como en el festival «La mar de Músicas de Cartagena»\, entre otros.\nEn esta ocasión\, le acompañan tres de los mejores músicos de la zona: \n♪♪Guitarra y voz: Gabriel Mirelman\n♪♪ Piano: David Gonzalez\n♪♪ Contrabajo: Jesús Gea\n♪♪ Batería: Andrés Lafuente[/vc_column_text][vc_column_text] \n¡RESERVA YA TU PLAZA!\n[/vc_column_text][vc_video link=»https://youtu.be/-_SHBW6cogY»][/vc_column][vc_column width=»1/2″][vc_column_text]ROGAMOS MÁXIMA PUNTUALIDAD \nApertura de puertas a las 19:50h\nInicio del evento a las 20:00h[/vc_column_text][vc_column_text]Aportación socios: 10€\nGeneral : 15€[/vc_column_text][vc_column_text]IMPRESCINDIBLE RESERVAR:[/vc_column_text]\n\n    \n    \n      \n      \n        \n  \n\n\n\n\n\n\n\n\n\n\n\n\n\n\nHe leído y acepto la política de privacidad de Asociación CompARTE\n\n \n        \n\n    \n    \n\n   [/vc_column][/vc_row]
URL:https://www.compartealicante.com/evento/concierto-de-jazz-por-gabriel-mirelman-quartet/
CATEGORIES:Conciertos
ATTACH;FMTTYPE=image/jpeg:https://www.compartealicante.com/wp-content/uploads/2023/05/Gabriel-Mirelman-Quartet-3.jpg
END:VEVENT
END:VCALENDAR