BEGIN:VCALENDAR
VERSION:2.0
PRODID:-//CompARTE Alicante · Asociación Cultural - ECPv5.3.2.1//NONSGML v1.0//EN
CALSCALE:GREGORIAN
METHOD:PUBLISH
X-WR-CALNAME:CompARTE Alicante · Asociación Cultural
X-ORIGINAL-URL:https://www.compartealicante.com
X-WR-CALDESC:Eventos para CompARTE Alicante · Asociación Cultural
BEGIN:VTIMEZONE
TZID:Europe/Madrid
BEGIN:DAYLIGHT
TZOFFSETFROM:+0100
TZOFFSETTO:+0200
TZNAME:CEST
DTSTART:20210328T010000
END:DAYLIGHT
BEGIN:STANDARD
TZOFFSETFROM:+0200
TZOFFSETTO:+0100
TZNAME:CET
DTSTART:20211031T010000
END:STANDARD
END:VTIMEZONE
BEGIN:VEVENT
DTSTART;TZID=Europe/Madrid:20211203T183000
DTEND;TZID=Europe/Madrid:20211203T200000
DTSTAMP:20260421T041326
CREATED:20211130T175841Z
LAST-MODIFIED:20211201T094007Z
UID:3035-1638556200-1638561600@www.compartealicante.com
SUMMARY:Concierto de Jazz Smart Set Trio
DESCRIPTION:[vc_row][vc_column width=»1/2″][vc_column_text]El próximo 3 de diciembre a las 20.00 os proponemos un concierto de Jazz con SMART SET TRIO. El concierto se realizará en el el interior de nuestra sede.[/vc_column_text][vc_column_text]Una vez más organizamos este concierto de Jazz junto a El Refugio y la Sociedad Musical La Paz. \nSmart Set Trio. Liderados por el talento natural del gran pianista Javier Bermejo que junto al contrabajista Andrés Lizón y a Curro García a la batería forman un todo musical lleno de belleza\, intensidad y mucha conexión. Su música abraza la tradición y la modernidad\, con gran influencia del swing y del hard bop pero sin renunciar a otras visiones más abiertas. \n¡¡NO TE LO PIERDAS!![/vc_column_text][vc_column_text] \nSmart Set Trio\n♪♪ Javier Bermejo Piano\n♪♪ Andrés Lizón Contrabajo\n♪♪ Curro García Batería[/vc_column_text][/vc_column][vc_column width=»1/2″][vc_column_text]ROGAMOS MÁXIMA PUNTUALIDAD \nApertura de puertas a las 19:50h\nInicio del evento a las 20:00h[/vc_column_text][vc_column_text]Aportación socios: 10€\nGeneral : 15€[/vc_column_text][vc_column_text] \nSE PRECISA CERTIFICADO DE VACUNACIÓN ANTI-COVID19 –  \nMejor si se remite por correo al hacer la reserva \nIMPRESCINDIBLE RESERVAR: \n[/vc_column_text]\n\n    \n    \n      \n      \n        \n  \n\n\n\n\n\n\n\n\n\n\n\n\n\n\nHe leído y acepto la política de privacidad de Asociación CompARTE\n\n \n        \n\n    \n    \n\n   [/vc_column][/vc_row]
URL:https://www.compartealicante.com/evento/concierto-de-jazz-smart-set-trio/
LOCATION:Sede de CompARTE\, Enviamos ubicación tras confirmar la reserva\, Mutxamel\, Alicante\, España
CATEGORIES:Conciertos
ATTACH;FMTTYPE=image/jpeg:https://www.compartealicante.com/wp-content/uploads/2021/11/Smart-Set-Trio-Cartel.jpg
END:VEVENT
END:VCALENDAR