BEGIN:VCALENDAR
VERSION:2.0
PRODID:-//CompARTE Alicante · Asociación Cultural - ECPv5.3.2.1//NONSGML v1.0//EN
CALSCALE:GREGORIAN
METHOD:PUBLISH
X-WR-CALNAME:CompARTE Alicante · Asociación Cultural
X-ORIGINAL-URL:https://www.compartealicante.com
X-WR-CALDESC:Eventos para CompARTE Alicante · Asociación Cultural
BEGIN:VTIMEZONE
TZID:Europe/Madrid
BEGIN:DAYLIGHT
TZOFFSETFROM:+0100
TZOFFSETTO:+0200
TZNAME:CEST
DTSTART:20220327T010000
END:DAYLIGHT
BEGIN:STANDARD
TZOFFSETFROM:+0200
TZOFFSETTO:+0100
TZNAME:CET
DTSTART:20221030T010000
END:STANDARD
END:VTIMEZONE
BEGIN:VEVENT
DTSTART;TZID=Europe/Madrid:20220313T130000
DTEND;TZID=Europe/Madrid:20220313T143000
DTSTAMP:20260421T054101
CREATED:20220303T190337Z
LAST-MODIFIED:20220303T190337Z
UID:3281-1647176400-1647181800@www.compartealicante.com
SUMMARY:Concierto de Jazz Tony Lakatos & Fabio Miano Quartet
DESCRIPTION:[vc_row][vc_column width=»1/2″][vc_column_text]El próximo 13 de marzo tendremos un concierto de Jazz a cargo de Tony Lakatos & Fabio Miano Quartet. \nTony Lakatos & Fabio Miano Quartet \nTony Lakatos nació en Budapest \,Hungría en 1958 en una familia de músicos. Su padre y su hermano Roby Lakatos son violinistas reconocidos a nivel mundial. En 1981 fijó su residencia en Frankfurt\, Alemania donde trabaja con la big band de la radio. Tony esta considerado como uno de los mejores saxofonistas europeos. Aparece en mas de 350 discos tanto como líder como sideman y ha colaborado con músicos de la talla de Art Farmer\, Al Foster\, Randy Becker\, George Mraz\, Mingus Big Band\, Kenny Werner y un largo etc. En palabras del gran Juan Claudio Cifuentes : “Tony Lakatos es uno del los mas impresionantes saxos tenores que tenemos en europa”. \nEn esta ocasión tenemos doblete de figuras pues tocará con el reputado pianista italo-canadiense afincado en Alicante Fabio Miano. \n¡¡NO TE LO PIERDAS!![/vc_column_text][vc_column_text] \nTony Lakatos & Fabio Miano Quartet\n♪♪Saxo Tenor: Tony Lakatos\n♪♪Piano: Fabio Miano\n♪♪Batería: Jo Krause\n♪♪Contrabajo: Ignasi González[/vc_column_text][/vc_column][vc_column width=»1/2″][vc_column_text]ROGAMOS MÁXIMA PUNTUALIDAD \nApertura de puertas a las 12:45h\nInicio del evento a las 13:00h \nEvento en el exterior de nuestra sede[/vc_column_text][vc_column_text]Aportación socios: 15€\nGeneral : 20€[/vc_column_text][vc_column_text] \nIMPRESCINDIBLE RESERVAR:[/vc_column_text]\n\n    \n    \n      \n      \n        \n  \n\n\n\n\n\n\n\n\n\n\n\n\n\n\nHe leído y acepto la política de privacidad de Asociación CompARTE\n\n \n        \n\n    \n    \n\n   [/vc_column][/vc_row]
URL:https://www.compartealicante.com/evento/concierto-de-jazz-tony-lakatos-fabio-miano-quartet-2022/
CATEGORIES:Conciertos
ATTACH;FMTTYPE=image/jpeg:https://www.compartealicante.com/wp-content/uploads/2022/03/Tony-Lakato-2.jpg
END:VEVENT
END:VCALENDAR