BEGIN:VCALENDAR
VERSION:2.0
PRODID:-//CompARTE Alicante · Asociación Cultural - ECPv5.3.2.1//NONSGML v1.0//EN
CALSCALE:GREGORIAN
METHOD:PUBLISH
X-WR-CALNAME:CompARTE Alicante · Asociación Cultural
X-ORIGINAL-URL:https://www.compartealicante.com
X-WR-CALDESC:Eventos para CompARTE Alicante · Asociación Cultural
BEGIN:VTIMEZONE
TZID:Europe/Madrid
BEGIN:DAYLIGHT
TZOFFSETFROM:+0100
TZOFFSETTO:+0200
TZNAME:CEST
DTSTART:20230326T010000
END:DAYLIGHT
BEGIN:STANDARD
TZOFFSETFROM:+0200
TZOFFSETTO:+0100
TZNAME:CET
DTSTART:20231029T010000
END:STANDARD
END:VTIMEZONE
BEGIN:VEVENT
DTSTART;TZID=Europe/Madrid:20230819T203000
DTEND;TZID=Europe/Madrid:20230819T220000
DTSTAMP:20260423T145208
CREATED:20230803T074002Z
LAST-MODIFIED:20230803T074002Z
UID:4767-1692477000-1692482400@www.compartealicante.com
SUMMARY:Concierto de música norteafricana Mamá África - grupo Mouloud el Meskaoui
DESCRIPTION:[vc_row][vc_column width=»1/2″][vc_column_text]El próximo sábado 19 de agosto a las 20:30h. tenemos el placer de compartir con vosotros  el concierto de música norteafricana Mamá África del grupo Mouloud el Meskaoui .[/vc_column_text][vc_column_text]Este grupo marroquí Mouloud el Meskaoui tiene una gran proyección profesional en su país. Se definen como intérpretes de música norteafricana. \nLa música norteafricana es la muestra de una cultura muy rica\, que ha sobrevivido a la colonización y a la pobreza resurgiendo con la fuerza de los oprimidos. Los Imazighen «Berberes» que viven en las montañas del Atlas y de la Cabilia todavía conservan los cantos más antiguos de toda la África blanca\, la música gnawa deja de ser una música de los esclavos negros atraídos contra sus voluntades desde el «B’lad el Sudan: País de los negros»\, a formar parte del patrimonio musical\, sobre todo en Marruecos\, y lo que se denomina hoy música Andalusí-Magrebí. Es la herencia musical de Al-Andalus\, la España hispano musulmana durante más de siete siglos. \nMouloud el Meskaui es el creador de la canción que más fama le ha brindado Mamá África. \nHacen música hasta de las piedras y su ritmo es trepidante\, no podréis quedaros quietos.[/vc_column_text][vc_column_text] \n¡NO TE LO PIERDAS\, RESERVA YA TU ENTRADA! \n[/vc_column_text][/vc_column][vc_column width=»1/2″][vc_column_text]ROGAMOS MÁXIMA PUNTUALIDAD \nApertura de puertas a las 20:00h\nInicio del evento a las 20:30h[/vc_column_text][vc_column_text]Aportación socios: 10€\nGeneral : 15€[/vc_column_text][vc_column_text]IMPRESCINDIBLE RESERVAR:[/vc_column_text]\n\n    \n    \n      \n      \n        \n  \n\n\n\n\n\n\n\n\n\n\n\n\n\n\nHe leído y acepto la política de privacidad de Asociación CompARTE\n\n \n        \n\n    \n    \n\n   [/vc_column][/vc_row]
URL:https://www.compartealicante.com/evento/concierto-de-musica-norteafricana-mama-africa-grupo-mouloud-el-meskaoui/
CATEGORIES:Conciertos
ATTACH;FMTTYPE=image/png:https://www.compartealicante.com/wp-content/uploads/2023/08/Copia-de-Concierto-mouloudelmeskaui-comp.png
END:VEVENT
END:VCALENDAR