BEGIN:VCALENDAR
VERSION:2.0
PRODID:-//CompARTE Alicante · Asociación Cultural - ECPv5.3.2.1//NONSGML v1.0//EN
CALSCALE:GREGORIAN
METHOD:PUBLISH
X-WR-CALNAME:CompARTE Alicante · Asociación Cultural
X-ORIGINAL-URL:https://www.compartealicante.com
X-WR-CALDESC:Eventos para CompARTE Alicante · Asociación Cultural
BEGIN:VTIMEZONE
TZID:Europe/Madrid
BEGIN:DAYLIGHT
TZOFFSETFROM:+0100
TZOFFSETTO:+0200
TZNAME:CEST
DTSTART:20220327T010000
END:DAYLIGHT
BEGIN:STANDARD
TZOFFSETFROM:+0200
TZOFFSETTO:+0100
TZNAME:CET
DTSTART:20221030T010000
END:STANDARD
END:VTIMEZONE
BEGIN:VEVENT
DTSTART;TZID=Europe/Madrid:20220702T210000
DTEND;TZID=Europe/Madrid:20220702T233000
DTSTAMP:20260421T055552
CREATED:20220628T072105Z
LAST-MODIFIED:20220628T072105Z
UID:3661-1656795600-1656804600@www.compartealicante.com
SUMMARY:Concierto Fusta i Jazz
DESCRIPTION:[vc_row][vc_column width=»1/2″][vc_column_text]Nos complace informar que el próximo sábado 2 de julio tenemos el placer de presentar el CONCIERTO de FUSTA I JAZZ en nuestra sede.[/vc_column_text][vc_column_text]Formación de Hot jazz y Swing\, con influencias de distintos estilos de música popular\, compuesta por músicos de diversa trayectoria reunidos desde 2015 en este fresco y original proyecto. En sus propias palabras “nuestras interpretaciones intentan aproximarse al Jazz arcaico o Hot Jazz\, utilizando temas que en la mayoría de los casos están entre 1914 y 1940\, con swing y con la particularidad tímbrica que aportan los instrumentos que utilizamos\, todos ellos con el denominador común de la madera (o “fusta” en Valenciano)».\nTienen amplia experiencia en diferentes eventos de música de calle (festivales y mercados de arte urbano y ecología) y actuaciones en locales de toda la provincia\, destacando su participación en las sucesivas ediciones del International Jazz Day desde 2017 en el ADDA\, el Teatro Principal y otros lugares de Alicante.[/vc_column_text][vc_column_text]♪♪ Voz y cajón: Natalia García Fernández.\n♪♪ Clarinete\,  saxos alto y tenor: Rafa Sempere Abad.\n♪♪ Contrabajo: Umberto Corrales Tejada.\n♪♪ Ukelele\, banjolele: Miguel Marín García. \n  \n ¡No os lo perdáis! \n¡RESERVA TU PLAZA YA! \n[/vc_column_text][/vc_column][vc_column width=»1/2″][vc_column_text]ROGAMOS MÁXIMA PUNTUALIDAD \nApertura de puertas a las 20:40h\nInicio del evento a las 21:00h[/vc_column_text][vc_column_text]Aportación socios: 10€\nGeneral : 15€[/vc_column_text][vc_column_text]IMPRESCINDIBLE RESERVAR:[/vc_column_text]\n\n    \n    \n      \n      \n        \n  \n\n\n\n\n\n\n\n\n\n\n\n\n\n\nHe leído y acepto la política de privacidad de Asociación CompARTE\n\n \n        \n\n    \n    \n\n   [/vc_column][/vc_row]
URL:https://www.compartealicante.com/evento/concierto-fusta-i-jazz/
CATEGORIES:Conciertos
ATTACH;FMTTYPE=image/jpeg:https://www.compartealicante.com/wp-content/uploads/2022/06/Concierto-de-Fusta-Jazz.jpg
END:VEVENT
END:VCALENDAR