BEGIN:VCALENDAR
VERSION:2.0
PRODID:-//CompARTE Alicante · Asociación Cultural - ECPv5.3.2.1//NONSGML v1.0//EN
CALSCALE:GREGORIAN
METHOD:PUBLISH
X-WR-CALNAME:CompARTE Alicante · Asociación Cultural
X-ORIGINAL-URL:https://www.compartealicante.com
X-WR-CALDESC:Eventos para CompARTE Alicante · Asociación Cultural
BEGIN:VTIMEZONE
TZID:Europe/Madrid
BEGIN:DAYLIGHT
TZOFFSETFROM:+0100
TZOFFSETTO:+0200
TZNAME:CEST
DTSTART:20210328T010000
END:DAYLIGHT
BEGIN:STANDARD
TZOFFSETFROM:+0200
TZOFFSETTO:+0100
TZNAME:CET
DTSTART:20211031T010000
END:STANDARD
END:VTIMEZONE
BEGIN:VEVENT
DTSTART;TZID=Europe/Madrid:20210824T203000
DTEND;TZID=Europe/Madrid:20210824T223000
DTSTAMP:20260423T105418
CREATED:20210816T100052Z
LAST-MODIFIED:20210816T082129Z
UID:2654-1629837000-1629844200@www.compartealicante.com
SUMMARY:Concierto Gino Marcelli Trío
DESCRIPTION:[vc_row][vc_column width=»1/2″][vc_column_text]El próximo martes 24 de agosto os invitamos a disfrutar de un sensacional concierto al aire libre\, dedicado a Ennio Morricone\, yras cuyas obras interpretará al piano Gino Marcelli. Doncierto en colaboración con El Refugio y la asociación musical La Paz.[/vc_column_text][vc_column_text]El próximo martes 24 a las 20.30 disfrutaremos del magnífico pianista Gino Marcelli\, compositor y arreglista\, es de origen italiano\, afincado en Milán. De formación y estilo muy ecléctico\, sus interpretaciones van desde el jazz hasta la música contemporánea. \n \n¡¡NO TE LO PIERDAS!![/vc_column_text][vc_column_text]♪Piano: Gino Marcelli\n♪Batería: Gonzalo del Val\n♪Contrabajo: Andrés Lizón[/vc_column_text][/vc_column][vc_column width=»1/2″][vc_column_text]ROGAMOS MÁXIMA PUNTUALIDAD \nApertura de puertas a las 20:10h\nInicio del evento a las 20:30h[/vc_column_text][vc_column_text]Aportación socios: 10€\nGeneral : 15€[/vc_column_text][vc_column_text]IMPRESCINDIBLE RESERVAR:[/vc_column_text]\n\n    \n    \n      \n      \n        \n  \n\n\n\n\n\n\n\n\n\n\n\n\n\n\nHe leído y acepto la política de privacidad de Asociación CompARTE\n\n \n        \n\n    \n    \n\n   [/vc_column][/vc_row]
URL:https://www.compartealicante.com/evento/concierto-gino-marcelli-trio/
LOCATION:Sede de CompARTE\, Enviamos ubicación tras confirmar la reserva\, Mutxamel\, Alicante\, España
CATEGORIES:Conciertos
ATTACH;FMTTYPE=image/jpeg:https://www.compartealicante.com/wp-content/uploads/2021/08/Gino-Marcelli-Trio.jpg
END:VEVENT
END:VCALENDAR