BEGIN:VCALENDAR
VERSION:2.0
PRODID:-//CompARTE Alicante · Asociación Cultural - ECPv5.3.2.1//NONSGML v1.0//EN
CALSCALE:GREGORIAN
METHOD:PUBLISH
X-WR-CALNAME:CompARTE Alicante · Asociación Cultural
X-ORIGINAL-URL:https://www.compartealicante.com
X-WR-CALDESC:Eventos para CompARTE Alicante · Asociación Cultural
BEGIN:VTIMEZONE
TZID:Europe/Madrid
BEGIN:DAYLIGHT
TZOFFSETFROM:+0100
TZOFFSETTO:+0200
TZNAME:CEST
DTSTART:20220327T010000
END:DAYLIGHT
BEGIN:STANDARD
TZOFFSETFROM:+0200
TZOFFSETTO:+0100
TZNAME:CET
DTSTART:20221030T010000
END:STANDARD
END:VTIMEZONE
BEGIN:VEVENT
DTSTART;TZID=Europe/Madrid:20220729T203000
DTEND;TZID=Europe/Madrid:20220729T220000
DTSTAMP:20260421T055850
CREATED:20220721T172115Z
LAST-MODIFIED:20220721T172115Z
UID:3680-1659126600-1659132000@www.compartealicante.com
SUMMARY:Concierto Jazz de Luiz Murakami guitarra y voz
DESCRIPTION:[vc_row][vc_column width=»1/2″][vc_column_text]El próximo viernes 29 de julio tenemos el placer de compartir con vosotros el concierto de jazz de LUIZ MURAKAMI guitarra y voz.[/vc_column_text][vc_column_text]Mestizo de los pies a la cabeza\, el guitarrista y cantante Luiz Murakami tiene orígenes japoneses\, italianos\, portugueses\, brasileños… La suya es una música en busca de los elementos culturales que forman su identidad. Murakami compara ese proceso de experimentación y autoconocimiento con la voz japonesa «Umami»\, un vocablo gastronómico empleado para expresar una armonía de sabores a partir de una combinación de ingredientes que encajen.[/vc_column_text][vc_column_text]Conocido por su dominio de la bossa nova\, un género que adora\, Murakami ha grabado más de ocho trabajos en Suecia\, Hungría\, Italia\, Brasil y México. En el año 2012 se estableció en Barcelona\, donde fundó Miramundo\, un proyecto con el que ha actuado en países de toda Europa y América Latina. Además de sus propuestas en solitario\, Luiz Murakami es conocido por las colaboraciones con Maria Gadú\, Mel Semé\, Gustav Lundgren\, Sylvinho Mazzuca y Macaco\, entre otros. \n  \n¡NO TE LO PUEDES PERDER! \n[/vc_column_text][/vc_column][vc_column width=»1/2″][vc_column_text]ROGAMOS MÁXIMA PUNTUALIDAD \nApertura de puertas a las 20:10h\nInicio del evento a las 20:30h[/vc_column_text][vc_column_text]Aportación socios de CompArte | El Refugio | Casa Sofía : 10€\nGeneral : 15€[/vc_column_text][vc_column_text]IMPRESCINDIBLE RESERVAR:[/vc_column_text]\n\n    \n    \n      \n      \n        \n  \n\n\n\n\n\n\n\n\n\n\n\n\n\n\nHe leído y acepto la política de privacidad de Asociación CompARTE\n\n \n        \n\n    \n    \n\n   [/vc_column][/vc_row]
URL:https://www.compartealicante.com/evento/concierto-jazz-de-luiz-murakami-guitarra-y-voz/
CATEGORIES:Conciertos
ATTACH;FMTTYPE=image/jpeg:https://www.compartealicante.com/wp-content/uploads/2022/07/LUIZ-MURAKAMI-Guitarra-y-voz.jpg
END:VEVENT
END:VCALENDAR