BEGIN:VCALENDAR
VERSION:2.0
PRODID:-//CompARTE Alicante · Asociación Cultural - ECPv5.3.2.1//NONSGML v1.0//EN
CALSCALE:GREGORIAN
METHOD:PUBLISH
X-WR-CALNAME:CompARTE Alicante · Asociación Cultural
X-ORIGINAL-URL:https://www.compartealicante.com
X-WR-CALDESC:Eventos para CompARTE Alicante · Asociación Cultural
BEGIN:VTIMEZONE
TZID:Europe/Madrid
BEGIN:DAYLIGHT
TZOFFSETFROM:+0100
TZOFFSETTO:+0200
TZNAME:CEST
DTSTART:20250330T010000
END:DAYLIGHT
BEGIN:STANDARD
TZOFFSETFROM:+0200
TZOFFSETTO:+0100
TZNAME:CET
DTSTART:20251026T010000
END:STANDARD
END:VTIMEZONE
BEGIN:VEVENT
DTSTART;TZID=Europe/Madrid:20251012T120000
DTEND;TZID=Europe/Madrid:20251012T133000
DTSTAMP:20260422T120915
CREATED:20250923T080946Z
LAST-MODIFIED:20250923T080946Z
UID:7879-1760270400-1760275800@www.compartealicante.com
SUMMARY:Concierto "Música para dos violonchelos del Siglo XVIII" por Coro Hernández y Antonio Pérglez
DESCRIPTION:[vc_row][vc_column width=»1/2″][vc_column_text]El próximo domingo 12 de octubre a las 12:00h  tenemos el placer de invitaros al  CONCIERTO del dúo Aresti «Música para dos violonchelos del siglo XVIII» interpretada por los músicos Coro Hernández y Antonio Pérglez  que harán un recorrido por la música de ese siglo con obras de F. Couperin\, J.B. Barrière\, G. Cervetto y L. Boccherini.[/vc_column_text][vc_column_text]El programa elegido representa un viaje por el Barroco musical a través de diversos duetos compuestos por destacados violonchelistas de la época\, que dedicaron gran parte de su obra a este instrumento.\nEs un continuo diálogo entre dos violonchelos\, con obras capaces de cautivarnos y con gran variedad de contrastes rítmicos y tímbricos. \nPROGRAMA \nF. COUPERIN (1668- 1733) – “Les goûts réunis”. Treizième Concert a 2 instruments à L’unisson. (Fecha obra 1724)\n• Vivement\n• Air agréablement\n• Sarabande tendrement\n• Chaconne légère \nJ. B. BARRIÈRE (1707- 1747) – Sonata en sol mayor. (Fecha obra ca. 1740)\n• Andante\n• Adagio\n• Allegro prestissimo \nG. CERVETTO (1682-1783) – Divertimento en sol menor. (Fecha obra 1761)\n• Adagio\n• Andante\n• Tempo comodo – Andante – Presto – Tempo comodo \nL. BOCCHERINI (1743-1805) – Sonata en do mayor G. 74. (Fecha desconocida)\n• Allegro Moderato\n• Largo\n• Allegro[/vc_column_text][vc_column_text]El dúo está formado por Antonio Pérglez y Coro Hernández.\nNacido en el seno de una familia de músicos\, Antonio entra en contacto con la música desde muy pequeño. Después de estudiar diversos instrumentos finalmente se especializa en la interpretación del violoncelo\, realizando sus estudios en el conservatorio de Alicante para más tarde perfeccionarse en Rotterdam. \nGracias al entorno musical en el que creció\, Coro desarrolló una sensibilidad artística que canalizó a través del violonchelo. Cursa sus estudios en los conservatorios de Alicante y Rotterdam y compagina su labor docente con la actividad orquestal. \n¡NO TE PIERDAS ESTE CONCIERTO\, HAZ TU RESERVA YA! \n[/vc_column_text][/vc_column][vc_column width=»1/2″][vc_column_text]ROGAMOS MÁXIMA PUNTUALIDAD \nApertura de puertas a las 11:45h\nInicio del evento a las 12:00h[/vc_column_text][vc_column_text]Aportación socios: 10€\nGeneral : 15€[/vc_column_text][vc_column_text]IMPRESCINDIBLE RESERVAR:[/vc_column_text]\n\n    \n    \n      \n      \n        \n  \n\n\n\n\n\n\n\n\n\n\n\n\n\n\nHe leído y acepto la política de privacidad de Asociación CompARTE\n\n \n        \n\n    \n    \n\n   [/vc_column][/vc_row]
URL:https://www.compartealicante.com/evento/concierto-musica-para-dos-violonchelos-del-siglo-xviii-por-coro-hernandez-y-antonio-perglez/
LOCATION:SEDE ASOCIACIÓN compARTE – SALA TOLÓN TELL ON\, Carrer Gastón Castelló\, 4\, El Campello\, Alicante\, 03560\, España
CATEGORIES:Conciertos
ATTACH;FMTTYPE=image/png:https://www.compartealicante.com/wp-content/uploads/2025/09/CARTEL-MUSICA-PARA-DOS-VIOLONCHELOS-DEL-SIGLO-XVIII-1.png
END:VEVENT
END:VCALENDAR