BEGIN:VCALENDAR
VERSION:2.0
PRODID:-//CompARTE Alicante · Asociación Cultural - ECPv5.3.2.1//NONSGML v1.0//EN
CALSCALE:GREGORIAN
METHOD:PUBLISH
X-WR-CALNAME:CompARTE Alicante · Asociación Cultural
X-ORIGINAL-URL:https://www.compartealicante.com
X-WR-CALDESC:Eventos para CompARTE Alicante · Asociación Cultural
BEGIN:VTIMEZONE
TZID:Europe/Madrid
BEGIN:DAYLIGHT
TZOFFSETFROM:+0100
TZOFFSETTO:+0200
TZNAME:CEST
DTSTART:20230326T010000
END:DAYLIGHT
BEGIN:STANDARD
TZOFFSETFROM:+0200
TZOFFSETTO:+0100
TZNAME:CET
DTSTART:20231029T010000
END:STANDARD
END:VTIMEZONE
BEGIN:VEVENT
DTSTART;TZID=Europe/Madrid:20230902T213000
DTEND;TZID=Europe/Madrid:20230902T230000
DTSTAMP:20260423T130036
CREATED:20230823T082952Z
LAST-MODIFIED:20230823T082952Z
UID:4846-1693690200-1693695600@www.compartealicante.com
SUMMARY:Concierto SOMOS DE COLORES por Billy Mandanga Trío
DESCRIPTION:[vc_row][vc_column width=»1/2″][vc_column_text]El próximo sábado 2 de septiembre en tenemos el placer de invitaros al concierto SOMOS COLORES por el Billy Mandanga Trío. Os invitamos a nuestro concierto donde la música vibrante y contagiosa os hará bailar y disfrutar al máximo. \n¡Únete y disfruta de una noche llena de alegría y ritmo! \n[/vc_column_text][vc_column_text]Un show divertido\, potente y positivo\, que te mueve las entrañas\, la cabeza y el cuerpo\, Billy Mandanga nunca deja indiferente.\nHará que olvidemos todo mal que nos maltrata el pensamiento y lo convertirá en algo positivo para volver a comenzar sin ataduras! Sé lo que tú quieras ser! \nEstilos musicales:\nInfluencias de la canción de autor latinoamericana\, la cumbia\, el Ska\, viaja por ritmos africanos sencillos con pulso fijo\, sencillo y orientado al baile. Coquetea con la rumba cubana. Simplemente Billy Mandanga es puro mestizaje fusión. \nEl directo podríamos resumirlo como chute de alegría\, descaro y verborrea. El público sale renovado\, consigue sumergirte en ese aura de «todo es posible».[/vc_column_text][vc_column_text]Billy Mandanga lleva más de 700 conciertos a sus espaldas girando por España\, Europa y Latinoamérica. \n♪♪ Trompeta: Joaquín Silva\n♪♪ Percusión latina y coros: Kevin Mendes\n♪♪ Voz principal y guitarra: Billy Mandanga (Iván Serrano) \n¡QUÉ NO TE LO CUENTEN\, HAZ TU RESERVA YA! \n[/vc_column_text][vc_video link=»https://www.youtube.com/watch?v=5jumFNN0wRQ»][/vc_column][vc_column width=»1/2″][vc_column_text]ROGAMOS MÁXIMA PUNTUALIDAD \nApertura de puertas a las 21:10h\nInicio del evento a las 21:30h[/vc_column_text][vc_column_text]Aportación socios: 10€\nGeneral : 15€[/vc_column_text][vc_column_text]IMPRESCINDIBLE RESERVAR:[/vc_column_text]\n\n    \n    \n      \n      \n        \n  \n\n\n\n\n\n\n\n\n\n\n\n\n\n\nHe leído y acepto la política de privacidad de Asociación CompARTE\n\n \n        \n\n    \n    \n\n   [/vc_column][/vc_row]
URL:https://www.compartealicante.com/evento/concierto-somos-de-colores-por-billy-mandanga-trio-2/
CATEGORIES:Conciertos
ATTACH;FMTTYPE=image/png:https://www.compartealicante.com/wp-content/uploads/2023/08/Copia-de-Copia-de-Concierto-Billy-Mandanga-1-1.png
END:VEVENT
END:VCALENDAR