BEGIN:VCALENDAR
VERSION:2.0
PRODID:-//CompARTE Alicante · Asociación Cultural - ECPv5.3.2.1//NONSGML v1.0//EN
CALSCALE:GREGORIAN
METHOD:PUBLISH
X-WR-CALNAME:CompARTE Alicante · Asociación Cultural
X-ORIGINAL-URL:https://www.compartealicante.com
X-WR-CALDESC:Eventos para CompARTE Alicante · Asociación Cultural
BEGIN:VTIMEZONE
TZID:Europe/Madrid
BEGIN:DAYLIGHT
TZOFFSETFROM:+0100
TZOFFSETTO:+0200
TZNAME:CEST
DTSTART:20210328T010000
END:DAYLIGHT
BEGIN:STANDARD
TZOFFSETFROM:+0200
TZOFFSETTO:+0100
TZNAME:CET
DTSTART:20211031T010000
END:STANDARD
END:VTIMEZONE
BEGIN:VEVENT
DTSTART;TZID=Europe/Madrid:20210821T203000
DTEND;TZID=Europe/Madrid:20210821T223000
DTSTAMP:20260421T071113
CREATED:20210816T073257Z
LAST-MODIFIED:20210819T100317Z
UID:2485-1629577800-1629585000@www.compartealicante.com
SUMMARY:Concierto Vera Lu Quartet
DESCRIPTION:[vc_row][vc_column width=»1/2″][vc_column_text]El próximo 21 de agosto os invitamos a disfrutar de un sensacional concierto al aire libre a cargo de Vera Lu Quartet\, en colaboración con El Refugio y la asociación musical La Paz.[/vc_column_text][vc_column_text]El próximo sábado 21 de agosto al caer el día\, en las horas más fresquitas\, os proponemos un concierto en el que disfrutaremos de la voz de Vera Lu junto al pianista Enrique Pedrón «Palmera»\, el batería Carles Pérez y al contrabajo Andrés Lizón. \n \n¡¡NO TE LO PIERDAS!![/vc_column_text][vc_column_text]♪Voz: Vera Lu\n♪Piano: Enrique Pedrón «Palmera»\n♪Batería: Carles Pérez\n♪Contrabajo: Andrés Lizó[/vc_column_text][/vc_column][vc_column width=»1/2″][vc_column_text]ROGAMOS MÁXIMA PUNTUALIDAD \nApertura de puertas a las 20:10h\nInicio del evento a las 20:30h[/vc_column_text][vc_column_text]Aportación socios: 10€\nGeneral : 15€[/vc_column_text][vc_column_text]IMPRESCINDIBLE RESERVAR:[/vc_column_text]\n\n    \n    \n      \n      \n        \n  \n\n\n\n\n\n\n\n\n\n\n\n\n\n\nHe leído y acepto la política de privacidad de Asociación CompARTE\n\n \n        \n\n    \n    \n\n   [/vc_column][/vc_row]
URL:https://www.compartealicante.com/evento/concierto-vera-lu-quartet/
LOCATION:Sede de CompARTE\, Enviamos ubicación tras confirmar la reserva\, Mutxamel\, Alicante\, España
CATEGORIES:Conciertos
ATTACH;FMTTYPE=image/png:https://www.compartealicante.com/wp-content/uploads/2021/08/Vera-Lu-bw.png
END:VEVENT
END:VCALENDAR