BEGIN:VCALENDAR
VERSION:2.0
PRODID:-//CompARTE Alicante · Asociación Cultural - ECPv5.3.2.1//NONSGML v1.0//EN
CALSCALE:GREGORIAN
METHOD:PUBLISH
X-WR-CALNAME:CompARTE Alicante · Asociación Cultural
X-ORIGINAL-URL:https://www.compartealicante.com
X-WR-CALDESC:Eventos para CompARTE Alicante · Asociación Cultural
BEGIN:VTIMEZONE
TZID:Europe/Madrid
BEGIN:DAYLIGHT
TZOFFSETFROM:+0100
TZOFFSETTO:+0200
TZNAME:CEST
DTSTART:20250330T010000
END:DAYLIGHT
BEGIN:STANDARD
TZOFFSETFROM:+0200
TZOFFSETTO:+0100
TZNAME:CET
DTSTART:20251026T010000
END:STANDARD
END:VTIMEZONE
BEGIN:VEVENT
DTSTART;TZID=Europe/Madrid:20250613T200000
DTEND;TZID=Europe/Madrid:20250613T223000
DTSTAMP:20260424T213452
CREATED:20250606T073020Z
LAST-MODIFIED:20250607T063557Z
UID:7443-1749844800-1749853800@www.compartealicante.com
SUMMARY:"Coneixer el nostre mon" -  La Havana con V y La Habana con B.
DESCRIPTION:[vc_row][vc_column width=»1/2″][vc_column_text]Arrancamos el ciclo «Coneixer el nostre mon»\, una iniciativa fantástica para explorar culturas y destinos fascinantes\, impulsada por nuestro querido amigo y vocal de la asociación Javier Morena\, quien ya nos lo anticipó en la última Asamblea General. \nOs invitamos el próximo viernes\, 13 de junio\, a las 20:00h. a una  charla bajo el sugerente título «La Havana con V y La Habana con B». Nuestros queridos socio y amigo Eliseo Fernández\, junto con el director artístico y escritor Carlos Bretón\, nos guiarán por una presentación que promete ser tan interesante como inolvidable. \nEn nuestra asociación\, siempre buscamos nuevas formas de fomentar la cultura y compartir experiencias enriquecedoras. Si hasta ahora hemos explorado las maravillas de nuestro entorno cercano «Coneixer i estimar el nostre entorn «\, ha llegado el momento de ampliar horizontes y viajar más allá de nuestras fronteras. \n¿De qué trata «Coneixer el nostre mon»?\nMientras que en «Coneixer i estimar el nostre entorn» descubríamos los tesoros que nos rodean —desde parques naturales y pueblos con historia hasta nuestra rica gastronomía—\, con «Coneixer el nostre mon» queremos invitaros a una aventura diferente: explorar los rincones más fascinantes del planeta a través de las vivencias de nuestros propios socios o expertos invitados. \nEn esta sección\, os propondremos una serie de charlas inspiradoras donde quienes ya han recorrido el mundo compartirán sus experiencias\, anécdotas\, conocimientos y perspectivas únicas. \nLa finalidad de «Coneixer el nostre mon» es acercar la diversidad del planeta a nuestra asociación\, fomentando el conocimiento\, la comprensión y el respeto por otras culturas y realidades. Queremos que estas charlas no solo sean un viaje virtual\, sino una fuente de inspiración y aprendizaje\, despertando la curiosidad por lo desconocido y animándoos a futuras aventuras.[/vc_column_text][vc_column_text] \n  \nLA HABANA\nLa Habana que muchos conocen —la de los almendrones\, el ron Havana Club\, el Tropicana o los coches vintage— es solo una parte del relato. Una Habana con «V»\, vistosa\, superficial\, construida para el escaparate turístico. Pero hay otra Habana\, con «B»: la que late bajo el asfalto\, la que se encuentra en sus raíces profundas\, en sus poetas\, en su literatura\, en su música\, en su cine\, en su teatro\, en la resistencia cotidiana de su gente.\nLa mirada que proponemos en esta charla es la de quienes buscan esa otra Habana\, lejos del cliché\, más cerca del alma. Una Habana que\, como escribió María Zambrano en Delirio y destino\, es “una isla apenas posada sobre las aguas. En esta isla en la luz\, más que en el mar… como si flotara en el océano luminoso u oscuro del espacio interestelar”.\nY también una Habana que los cubanos llevan consigo cuando se van. Porque\, como decía José Martí\, “el que ha andado la vida y visto reyes\, sabe que no hay palacio como la casa de familia”. Esa casa\, ese calor\, ese sentido de pertenencia es lo que muchos buscan cuando regresan\, y lo que también el visitante atento puede descubrir si sabe mirar más allá de lo superficial.\nA través de una experiencia sensorial\, visual y testimonial\, participarán Carlos —cubano residente en el extranjero\, con el corazón dividido pero fiel a su tierra— y otra mirada\, foránea\, la mía\, pero cercana\, que busca penetrar en la “cubanía” más auténtica. Entre ambas se construye un relato coral\, honesto y humano de esa Habana que\, cuando se descubre\, ya no se olvida.\nPero esta charla no pretende ser una visión única ni una postal cerrada. Hay muchas miradas que no solo dependen de lo que vemos\, sino de lo que sentimos\, de nuestro estado de ánimo. Cuba es un sitio donde uno no solo encuentra a los otros\, sino donde uno también se busca y se encuentra. Invitamos a quienes han pisado su suelo\, sentido su calor\, oído su risa y vivido su mezcla de belleza y contradicción\, a que compartan también sus propias miradas. Porque hay tantas Habanas como ojos la han recorrido. Y quizás\, entre todas\, podamos acercarnos un poco más a esa verdad que no aparece en los folletos: la de una isla viva\, compleja\, luminosa\, que sigue latiendo bajo el asfalto… esperando ser escuchada. \n📅 Agenda cultural de La Habana\nCanal de Telegram «Aguacero»\nUna de las fuentes más completas y actualizadas sobre la vida cultural habanera. A diario publica funciones de teatro\, conciertos\, exposiciones\, charlas\, proyecciones y actividades en bares\, museos y centros culturales de toda la ciudad.\n📲 Canal de Telegram Aguacero \n🏛️ Instituciones culturales y artísticas \n\nInstituto de Historia de Cuba (IHC)\nInvestigación histórica de referencia nacional.\n🌐 ihc.cu\nCasa de las Américas\nEpicentro del pensamiento y las artes de América Latina y el Caribe.\n🌐 casadelasamericas.org\nUnión de Escritores y Artistas de Cuba (UNEAC)\nAgrupa a los principales intelectuales y artistas del país.\n🌐 org.cu\nCentro Cultural Dulce María Loynaz\nPromotor de la literatura cubana contemporánea.\n🌐 com/CentroLoynaz\nCasa del Historiador de La Habana\nSede patrimonial de la Oficina del Historiador\, clave en la restauración del centro histórico.\n🌐 ohc.cu\nMuseo Nacional de Bellas Artes\nReúne arte cubano e internacional de todas las épocas.\n🌐 bellasartes.co.cu\nBallet Nacional de Cuba\nUna de las compañías más prestigiosas del mundo.\n🌐 balletcuba.cult.cu\nTeatro Nacional de Cuba\nEscenario emblemático de ópera\, danza y teatro.\n🌐 teatronacional.cu\nFábrica de Arte Cubano (FAC)\nFusión de arte\, música\, gastronomía y moda en un solo espacio.\n🌐 fac.cu\n\n🎭 Espacios escénicos y musicales\n\nYarini Bar\nArte\, cócteles y música en San Isidro.\n📍 San Isidro 214\, Habana Vieja.\nLa Zorra y el Cuervo\nTemplo del jazz cubano.\n📍 Calle 23 entre N y O\, Vedado.\nEl Gato Tuerto\nBolero\, trova y bohemia desde los años 60.\n📍 Calle O entre 17 y 19\, Vedado.\nSaudade Jazz Club\nDedicado al jazz latino y brasileño.\n📍 Calle 26 entre 11 y 13\, Vedado.\n\n📚 Librerías destacadas\nCalle Obispo (La Habana Vieja)\n\nLibrería Fayad Jamís\nModerna y vibrante\, sede de encuentros literarios.\n📍 Obispo entre Habana y Aguiar.\nLibrería Victoria\nSegunda mano\, con rarezas y carteles históricos.\n📍 Obispo entre Habana y Compostela.\nLibrería Venecia\nTemas revolucionarios y políticos.\n📍 Calle Obispo.\nEdiciones Boloña\nEditorial patrimonial con dos sedes.\n🌐 ohc.cu\nLibrería La Moderna Poesía (cerrada actualmente)\nMítica\, punto de encuentro literario.\n📰 Ver artículo\n\nOtras librerías notables\n\nLibrería Alma Mater\nEspecializada en textos académicos y universitarios.\n📍 Infanta y San Lázaro.\n📰 Onlinetours\nLibrería Centenario del Apóstol (25 y O)\nPequeña\, bien surtida.\n📍\nLibrería Fernando Ortiz\nOfrece libros\, música y papelería.\n📍 Calle L y 25\, Vedado.\nLibrería La Avellaneda\nDe segunda mano\, muy organizada.\n📍 Reina entre Campanario y Manrique.\nLibrería Ireti\nIndependiente y afrocentrada\, muy singular.\n🌐 @libreria.ireti en Instagram\n\nP.D. Hemos detectado que algunos enlaces no están operativos. Os sugerimos buscar alternativas en redes sociales. Los problemas se atribuyen\, en su mayoría\, a que las páginas emplean el protocolo HTTP  (consideradas no seguras por Google) en vez de HTTPS  y a las limitaciones de acceso a internet en Cuba\, derivadas de la infraestructura\, conectividad y las sanciones económicas de Estados Unidos. \nNo te lo pierdas. ¿te apuntas? ¡ya sabes! haz tu reserva. \n[/vc_column_text][/vc_column][vc_column width=»1/2″][vc_column_text]ROGAMOS MÁXIMA PUNTUALIDAD \nApertura de puertas: 19:40h.\nInicio de la charla: 20:00h.[/vc_column_text][vc_column_text]ACTIVIDAD GRATUITA \n[/vc_column_text][vc_column_text]IMPRESCINDIBLE RESERVAR:[/vc_column_text]\n\n    \n    \n      \n      \n        \n  \n\n\n\n\n\n\n\n\n\n\n\n\n\n\nHe leído y acepto la política de privacidad de Asociación CompARTE\n\n \n        \n\n    \n    \n\n   [/vc_column][/vc_row]
URL:https://www.compartealicante.com/evento/coneixer-el-nostre-mon-la-havana-con-v-y-la-habana-con-b/
LOCATION:SEDE ASOCIACIÓN compARTE – SALA TOLÓN TELL ON\, Carrer Gastón Castelló\, 4\, El Campello\, Alicante\, 03560\, España
CATEGORIES:Presentación cultural
ATTACH;FMTTYPE=image/png:https://www.compartealicante.com/wp-content/uploads/2025/06/CONEIXER-EL-NOSTRE-MON-LA-HAVANA-CON-V-Y-LA-HABANA-CON-B-1.png
END:VEVENT
END:VCALENDAR