BEGIN:VCALENDAR
VERSION:2.0
PRODID:-//CompARTE Alicante · Asociación Cultural - ECPv5.3.2.1//NONSGML v1.0//EN
CALSCALE:GREGORIAN
METHOD:PUBLISH
X-WR-CALNAME:CompARTE Alicante · Asociación Cultural
X-ORIGINAL-URL:https://www.compartealicante.com
X-WR-CALDESC:Eventos para CompARTE Alicante · Asociación Cultural
BEGIN:VTIMEZONE
TZID:Europe/Madrid
BEGIN:DAYLIGHT
TZOFFSETFROM:+0100
TZOFFSETTO:+0200
TZNAME:CEST
DTSTART:20220327T010000
END:DAYLIGHT
BEGIN:STANDARD
TZOFFSETFROM:+0200
TZOFFSETTO:+0100
TZNAME:CET
DTSTART:20221030T010000
END:STANDARD
END:VTIMEZONE
BEGIN:VEVENT
DTSTART;TZID=Europe/Madrid:20220528T080000
DTEND;TZID=Europe/Madrid:20220528T170000
DTSTAMP:20260423T175215
CREATED:20220523T170255Z
LAST-MODIFIED:20220525T074456Z
UID:3570-1653724800-1653757200@www.compartealicante.com
SUMMARY:[CANCELADO] Coneixer i estimar el nostre entorn-Ruta por los 8 pueblos de la Vall de la Gallinera
DESCRIPTION:[vc_row][vc_column width=»1/2″][vc_column_text][EVENTO CANCELADO] Por motivos de salud\, el guía y responsable de la actividad no se puede realizar. \nEl próximo sábado 28 de mayo os proponemos una nueva actividad de la sección CONEIXER I ESTIMAR EL NOSTRE ENTORN con una excursión senderista por la ruta morisca de los cerezos y los 8 pueblos de la Vall de la Gallinera. \nEl objetivo de nuestra asociación es el fomento de la cultura y compartirla. Por ello\, a petición de varias personas y gracias a que la cultura\, como término polisémico\, nos permite desarrollar actividades de toda índole\, queremos inaugurar una sección que denominaremos “CONEIXER I ESTIMAR EL NOSTRE ENTORN”. \nVivimos en una zona privilegiada de mar y montaña con un vasto patrimonio cultural.[/vc_column_text][vc_column_text] \nRuta morisca y de la cereza de la Vall de la Gallinera\nLa cereza de la comarca alicantina de la Marina Alta rivaliza con la de Alfarnate\, en Málaga\, la del Valle del Jerte\, en Cáceres\, la de El Hornillo en Ávila y la del Valle de las Caderechas en Burgos.\nEn esta comarca visitaremos la Vall de Gallinera\, formada por ocho núcleos urbanos diferentes\, Benirrama\, Benialí\, Benissivà\, Benitaia\, La Carroja\, Alpatró\, Llombai y Benissili\, nombres que dan a conocer su pasado árabe.\nRodeada de montañas\, Vall de Gallinera ofrece un entorno único para realizar rutas y descubrir la naturaleza del valle. Para contemplar este espectáculo que nos regala la naturaleza realizaremos la “Ruta de los 8 pueblos”\, que recorre los 8 núcleos urbanos de la Vall de Gallinera pasando por fuentes\, abrevaderos\, callejuelas con encanto\, campo y\, como no\, cerezos.\nDurante el mes de mayo se puede participar en la recogida de la cereza o disfrutar de la Fiesta de la cereza que se celebra a principios de junio.\nUnas pinceladas de historia\nComo en todos los otros valles del interior de la Marina Alta\, los árabes ocuparon durante casi seis siglos estas tierras. Después de la expulsión de los moriscos en 1609\, la Vall de la Gallinera quedó tan despoblada\, que el Duque de Gandía\, al que pertenecía este territorio\, trajo de Mallorca 150 familias para repoblar el valle. Las consecuencias de este hecho serían contadas por el botánico Antonio José de Cavanilles de la siguiente manera:\n“Echase de ver todavía el origen de todos ellos en el acento y dialecto de sus moradores. Son muy aplicados al trabajo\, todo lo aprovechan y viven contentos en aquel recinto delicioso”.\nMonumentos y lugares de interés\n● Castillo de Benirrama. Tuvo mucha importancia en la época de Jaume I.\n● Fuerte islámico. Los restos del fuerte de Benisili están ubicados en la alturas que dominan la Vall de la Gallinera.\n● Ruinas del convento. Las ruinas de este convento del siglo XVIII se encuentran en las cercanías de Benitaia. \nAcabaremos el recorrido aprox. a las 14:00h \n Comida por libre no incluida en la excursión (en función de los participantes\, se ofrecerá la posibilidad de la comida en un restaurante de la zona). \n[/vc_column_text][/vc_column][vc_column width=»1/2″][vc_column_text]ROGAMOS MÁXIMA PUNTUALIDAD \nPunto de encuentro aparcamiento del Decatlon de Alicante a las 8:00h\nSalida en coches particulares a las 8:15h \nLa ruta senderista por los 8 pueblos tiene un recorrido aproximado de 15 kms. de dificultad baja. \nEsta ruta se puede adaptar a la capacidad de los participantes.  \nPincha este enlace sobre información técnica de la ruta[/vc_column_text][vc_column_text]EVENTO GRATUITO[/vc_column_text][vc_column_text]IMPRESCINDIBLE RESERVAR:[/vc_column_text]\n\n    \n    \n      \n      \n        \n  \n\n\n\n\n\n\n\n\n\n\n\n\n\n\nHe leído y acepto la política de privacidad de Asociación CompARTE\n\n \n        \n\n    \n    \n\n   [/vc_column][/vc_row]
URL:https://www.compartealicante.com/evento/coneixer-i-estimar-el-nostre-entorn-ruta-por-los-8-pueblos-de-la-vall-de-la-gallinera/
LOCATION:aparcamiento del Decatlon\, Calle Bolulla\, 20\, Alicante\, Alicante\, 03009\, España
CATEGORIES:Excursiones
ATTACH;FMTTYPE=image/jpeg:https://www.compartealicante.com/wp-content/uploads/2022/05/Ruta-de-Cerezos.jpg
END:VEVENT
END:VCALENDAR