BEGIN:VCALENDAR
VERSION:2.0
PRODID:-//CompARTE Alicante · Asociación Cultural - ECPv5.3.2.1//NONSGML v1.0//EN
CALSCALE:GREGORIAN
METHOD:PUBLISH
X-WR-CALNAME:CompARTE Alicante · Asociación Cultural
X-ORIGINAL-URL:https://www.compartealicante.com
X-WR-CALDESC:Eventos para CompARTE Alicante · Asociación Cultural
BEGIN:VTIMEZONE
TZID:Europe/Madrid
BEGIN:DAYLIGHT
TZOFFSETFROM:+0100
TZOFFSETTO:+0200
TZNAME:CEST
DTSTART:20240331T010000
END:DAYLIGHT
BEGIN:STANDARD
TZOFFSETFROM:+0200
TZOFFSETTO:+0100
TZNAME:CET
DTSTART:20241027T010000
END:STANDARD
END:VTIMEZONE
BEGIN:VEVENT
DTSTART;TZID=Europe/Madrid:20240218T090000
DTEND;TZID=Europe/Madrid:20240218T180000
DTSTAMP:20260423T165024
CREATED:20240211T173704Z
LAST-MODIFIED:20240211T173704Z
UID:5274-1708246800-1708279200@www.compartealicante.com
SUMMARY:Coneixer i estimar el nostre entorn: Ruta senderista vía verde del xixarra - Villena al Santuario de las Virtudes
DESCRIPTION:[vc_row][vc_column width=»1/2″][vc_column_text]El próximo domingo 18 de febrero os proponemos una ruta senderista vía verde del xixarra de baja dificultad\, partiendo desde Villena hasta el Santuario de las Virtudes. \nEl objetivo de nuestra asociación es el fomento de la cultura y compartirla. Por ello\, a petición de varias personas y gracias a que la cultura\, como término polisémico\, nos permite desarrollar actividades de toda índole\, dentro de nuestra conocida actividad de  “CONEIXER I ESTIMAR EL NOSTRE ENTORN”. \nVivimos en una zona privilegiada de mar y montaña con un vasto patrimonio cultural. \nEn esta sección os propondremos actividades que nos ayuden a conocer nuestro entorno desde múltiples puntos de vista: geográfico\, histórico\, artístico\, humanístico y gastronómico\, pero también\, a conservar ese entorno con actividades cuyo fin sea el fomento\, cuidado y conservación del medio ambiente.[/vc_column_text][vc_column_text] \nRUTA SENDERISTA VÍA VERDE DEL XIXARRA.\nVILLENA AL SANTUARIO DE LAS VIRTUDES \nInicio: Estación de tren de Villena\nFinal: Santuario de las Virtudes. Restaurante Mesón Los Reyes\nDesnivel: 80 m\nDistancia: 8\,7 km – Baja dificultad\nTipo de terreno: 7 km tierra y 1\,7 km asfalto\nCartografía: Mapa Militar de España\, escala 1:50.000\, hojas 27-33 y 28-33 \nuna ruta en línea desde la estación de tren de Villena hasta el Santuario de las Virtudes\, siguiendo la antigua vía del tren Chicharra\, el mítico VAY\, Villena – Alcoy – Yecla. \nComida en el restaurante mesón Los Reyes del Santuario de las Virtudes\, se darán más detalles a los inscritos. \nNo te lo pierdas. ¿Te apuntas? ¡Ya sabes! Haz tu reserva. \n[/vc_column_text][/vc_column][vc_column width=»1/2″][vc_column_text]ROGAMOS MÁXIMA PUNTUALIDAD \nPunto de encuentro aparcamiento del Decatlon a las 8:45h\nSalida en coches particulares a las 9:00h\nHora prevista de llegada a Alicante a las 18:00h \n[/vc_column_text][vc_column_text]EVENTO GRATUITO  \nLlevar ropa\, calzado adecuado\, agua y almuerzo de sobaquillo. \n*Si no recibes confirmación en las 24 horas siguientes al envío del formulario de contacto\, por favor haz tu petición directamente a compartealicante@gmail.com[/vc_column_text][vc_column_text]IMPRESCINDIBLE RESERVAR:[/vc_column_text]\n\n    \n    \n      \n      \n        \n  \n\n\n\n\n\n\n\n\n\n\n\n\n\n\nHe leído y acepto la política de privacidad de Asociación CompARTE\n\n \n        \n\n    \n    \n\n   [/vc_column][/vc_row]
URL:https://www.compartealicante.com/evento/coneixer-i-estimar-el-nostre-entorn-ruta-senderista-via-verde-del-xixarra-villena-al-santuario-de-las-virtudes/
LOCATION:aparcamiento del Decatlon\, Calle Bolulla\, 20\, Alicante\, Alicante\, 03009\, España
CATEGORIES:Excursiones
ATTACH;FMTTYPE=image/png:https://www.compartealicante.com/wp-content/uploads/2024/02/de-villena-santuario-de-las-virtudes-1-1.png
END:VEVENT
END:VCALENDAR