BEGIN:VCALENDAR
VERSION:2.0
PRODID:-//CompARTE Alicante · Asociación Cultural - ECPv5.3.2.1//NONSGML v1.0//EN
CALSCALE:GREGORIAN
METHOD:PUBLISH
X-WR-CALNAME:CompARTE Alicante · Asociación Cultural
X-ORIGINAL-URL:https://www.compartealicante.com
X-WR-CALDESC:Eventos para CompARTE Alicante · Asociación Cultural
BEGIN:VTIMEZONE
TZID:Europe/Madrid
BEGIN:DAYLIGHT
TZOFFSETFROM:+0100
TZOFFSETTO:+0200
TZNAME:CEST
DTSTART:20250330T010000
END:DAYLIGHT
BEGIN:STANDARD
TZOFFSETFROM:+0200
TZOFFSETTO:+0100
TZNAME:CET
DTSTART:20251026T010000
END:STANDARD
END:VTIMEZONE
BEGIN:VEVENT
DTSTART;TZID=Europe/Madrid:20250510T083000
DTEND;TZID=Europe/Madrid:20250510T170000
DTSTAMP:20260423T165729
CREATED:20250412T181952Z
LAST-MODIFIED:20250412T182044Z
UID:7183-1746865800-1746896400@www.compartealicante.com
SUMMARY:Coneixer i estimar el nostre entorn - Visita guiada a Bocairent\, una joya del patrimonio tallada en la roca.
DESCRIPTION:[vc_row][vc_column width=»1/2″][vc_column_text]Bocairent: un recorrido a través de su historia y cultura. \nEl próximo sábado 10 de mayo\, te invitamos a vivir una jornada inolvidable en Bocairent\, una auténtica joya de nuestro patrimonio. De la mano de un experto guía local\, exploraremos la rica historia y la profunda cultura que emanan de cada rincón de este singular enclave. \nPasearemos por sus históricas calles y admiraremos sus emblemáticos monumentos\, sumergiéndonos en un viaje a través del tiempo para comprender la esencia de este valioso legado. Culminaremos la jornada con una comida opcional en un restaurante local. \nEl objetivo de nuestra asociación es el fomento de la cultura y compartirla. Por ello\, a petición de varias personas y gracias a que la cultura\, como término polisémico\, nos permite desarrollar actividades de toda índole\, queremos inaugurar una sección que denominaremos “CONEIXER I ESTIMAR EL NOSTRE ENTORN”. \nVivimos en una zona privilegiada de mar y montaña con un vasto patrimonio cultural. \nEn esta sección os propondremos actividades que nos ayuden a conocer nuestro entorno desde múltiples puntos de vista: geográfico\, histórico\, artístico\, humanístico y gastronómico\, pero también\, a conservar ese entorno con actividades cuyo fin sea el fomento\, cuidado y conservación del medio ambiente. \nLa finalidad es la de conocer nuestro entorno cercano\, con diversas opciones: \n\nParques naturales de la zona\npueblos y ciudades (historia y patrimonio)\nvisitas a diferentes industrias\n\n[/vc_column_text][vc_column_text] \nEsta ya es nuestra 3ª actividad de 2025 de Coneixer i estimar el nostre entorne. \nRecorriendo las calles y monumentos de Bocairent daremos un paseo a lo largo de la historia que nos permitirá entender el lugar con una perspectiva profunda.\nHaremos breves pinceladas sobre los diferentes asentamientos humanos de la antigüedad\, la época medieval desde el tiempo fundacional en el contexto del Xarq Al-Andalus hasta la conquista cristiana de Jaime I\, y entenderemos como se han ganado la vida la gente de estas tierras hasta la actualidad\, explicando también la desaparecida industria del hielo (s.XVI-XIX).\n–Comenzaremos la visita en la plaza de toros\, la más antigua del territorio valenciano. El hecho de estar excavada en la roca hace del monumento un lugar singular y único.\n–Recorreremos los callejones del casco antiguo\, declarado Conjunto Histórico-Artístico\, donde entenderemos la importancia del agua en los asentamientos humanos; cómo la arquitectura responde a necesidades concretas\, incluso veremos diferentes formas de construir asociadas a diferentes culturas. La relación de las personas con la naturaleza y el Parque Natural de la Sierra Mariola.\n–Visitaremos la Cava de Sant Blai donde entenderemos como era la producción del hielo y los usos de este bien tan preciado antes de la llegada de la electricidad. \nITINERARIO \n\n\n\n10:00 h. Hora estimada de llegada a Bocairent (WC disponible).\n11:00 h. Inicio de la visita guiada a los monumentos:\n\nPlaza de toros\nBarrio medieval\nNevero de Sant Blai\n\n\n14:00 h. Comida opcional. Al confirmar tu asistencia\, te informaremos del restaurante y el precio del menú.\n16:00 h. Regreso.\n\n\n\nCONSIDERACIONES \nImportante: Reserva y Pago Anticipado \nDebido a la alta demanda de visitas guiadas en estas fechas y en cumplimiento de nuestro compromiso con la empresa colaboradora\, os solicitamos que\, al formalizar su reserva\, realicéis una transferencia bancaria por el importe de la visita. \nIndicar en el concepto de la transferencia: Bocairent + nombre y apellidos de los asistentes\, y hacer la transferencia a la cuenta de la Asociación compARTEcine en TRIODOS BANK:\nIBAN: ES23 1491 0001 2230 0009 5764\nBIC/SWIFT: TRIOESMMXXX \nNo te lo pierdas. ¿te apuntas? ¡ya sabes! haz tu reserva. \n[/vc_column_text][/vc_column][vc_column width=»1/2″][vc_column_text]ROGAMOS MÁXIMA PUNTUALIDAD \nSaldremos desde Alicante en coches particulares. \nPunto de encuentro en el Decatlon 8:30h[/vc_column_text][vc_column_text]PRECIO \n● Visita guiada Socios: 10€\n● Visita guiada General: 12€ \nTe recordamos que para confirmar tu plaza\, es imprescindible realizar la transferencia del importe correspondiente de forma anticipada. \n[/vc_column_text][vc_column_text]IMPRESCINDIBLE RESERVAR:[/vc_column_text]\n\n    \n    \n      \n      \n        \n  \n\n\n\n\n\n\n\n\n\n\n\n\n\n\nHe leído y acepto la política de privacidad de Asociación CompARTE\n\n \n        \n\n    \n    \n\n   [/vc_column][/vc_row]
URL:https://www.compartealicante.com/evento/coneixer-i-estimar-el-nostre-entorn-visita-a-bocairent-una-joya-del-patrimonio-tallada-en-la-roca/
LOCATION:aparcamiento del Decatlon\, Calle Bolulla\, 20\, Alicante\, Alicante\, 03009\, España
CATEGORIES:Excursiones,Visitas culturales
ATTACH;FMTTYPE=image/png:https://www.compartealicante.com/wp-content/uploads/2025/04/VISITA-GUIADA-A-BOCAIRENT-2-1.png
END:VEVENT
END:VCALENDAR