BEGIN:VCALENDAR
VERSION:2.0
PRODID:-//CompARTE Alicante · Asociación Cultural - ECPv5.3.2.1//NONSGML v1.0//EN
CALSCALE:GREGORIAN
METHOD:PUBLISH
X-WR-CALNAME:CompARTE Alicante · Asociación Cultural
X-ORIGINAL-URL:https://www.compartealicante.com
X-WR-CALDESC:Eventos para CompARTE Alicante · Asociación Cultural
BEGIN:VTIMEZONE
TZID:Europe/Madrid
BEGIN:DAYLIGHT
TZOFFSETFROM:+0100
TZOFFSETTO:+0200
TZNAME:CEST
DTSTART:20220327T010000
END:DAYLIGHT
BEGIN:STANDARD
TZOFFSETFROM:+0200
TZOFFSETTO:+0100
TZNAME:CET
DTSTART:20221030T010000
END:STANDARD
END:VTIMEZONE
BEGIN:VEVENT
DTSTART;TZID=Europe/Madrid:20220501T084500
DTEND;TZID=Europe/Madrid:20220501T133000
DTSTAMP:20260424T000205
CREATED:20220426T085849Z
LAST-MODIFIED:20220426T085849Z
UID:3473-1651394700-1651411800@www.compartealicante.com
SUMMARY:CONEIXER I ESTIMAR EL NOSTRE ENTORN VISITA AL PARQUE NATURAL DE LAS SALINAS DE SANTA POLA
DESCRIPTION:[vc_row][vc_column width=»1/2″][vc_column_text]El próximo domingo 1 de mayo os proponemos una nueva actividad de la sección CONEIXER I ESTIMAR EL NOSTRE ENTORN con una excursión con visita al Parque Natural de las Salinas de Santa Pola. \nEl objetivo de nuestra asociación es el fomento de la cultura y compartirla. Por ello\, a petición de varias personas y gracias a que la cultura\, como término polisémico\, nos permite desarrollar actividades de toda índole\, queremos inaugurar una sección que denominaremos “CONEIXER I ESTIMAR EL NOSTRE ENTORN”. \nVivimos en una zona privilegiada de mar y montaña con un vasto patrimonio cultural. \n[/vc_column_text][vc_column_text] \nPara conocer y disfrutar del Parque\, comenzaremos con la visita al Museo de la Sal para después\, realizar una de las dos rutas que recorren parte de este espacio natural. \nMuseo de la Sal\nUna visita guiada a esta antigua factoría de sal nos permitirá conocer el proceso de la extracción de la misma y la importancia de la sal a lo largo de la historia\, así como el ecosistema a su alrededor mediante la recreación de una salina. \nSendero del Pinet \nEs un itinerario sencillo con un recorrido de 3\,8 km..\nDiscurre entre unas antiguas balsas salineras (hoy en desuso aunque mantienen el agua) y el cordón dunar.\nObservaremos dos de los ambientes del Parque: el saladar y el dunar\, con su respectiva fauna y flora\, disfrutando del Mediterráneo presidido por el Cabo de Santa Pola y la isla de Tabarca. \nParque Natural de los Humedales y Salinas de Santa Pola\nImportante humedal costero\, dedicado fundamentalmente a la explotación salinera\, así como a usos cinegéticos y piscícolas\, de gran importancia para las aves acuáticas. Veremos como la actividad salinera ha permitido conjugar de manera armónica esta peculiar actividad minera con el mantenimiento del medio natural.\nLas salinas de Santa Pola\, junto con los cercanos embalses de El Hondo\, son los restos de lo que antaño ocupaba la Albufera de Elche\, una gran zona pantanosa y marismeña que se extendía por la mayor parte de la llanura de Elche (ocupando de manera continua la Vega Baja del Segura hasta Albatera\, los marjales hondeños y las salinas de Santa Pola) y donde desembocaban los ríos Segura y Vinalopó.\nNuestra ruta discurre de norte a sur\, desde las cercanías de Santa Pola hasta la playa del Pinet. En su recorrido disfrutaremos de la observación de aves desde distintos puntos del recorrido ya sean salinas\, charcas o altozanos.\nVeremos la torre vigía de Tamarit (emblema señero de las salinas) que vigilaba esta zona de la costa de los ataques de los piratas berberiscos.\nConoceremos\, asimismo\, la problemática del parque que\, a pesar de ser un espacio protegido sobre el papel\, este paraje\, al igual que el resto de humedales\, se encuentra todavía con una serie de factores lesivos de sus valores medioambientales. \nAcabaremos la visita a las 13:30h \n Comida por libre no incluida en la excursión \n[/vc_column_text][/vc_column][vc_column width=»1/2″][vc_column_text]ROGAMOS MÁXIMA PUNTUALIDAD \nPunto de encuentro Centro comercial  Puerta de Alicante a las 8:45h\nSalida en coches particulares a las 9:00h \n[/vc_column_text][vc_column_text]EVENTO GRATUITO[/vc_column_text][vc_column_text]IMPRESCINDIBLE RESERVAR:[/vc_column_text]\n\n    \n    \n      \n      \n        \n  \n\n\n\n\n\n\n\n\n\n\n\n\n\n\nHe leído y acepto la política de privacidad de Asociación CompARTE\n\n \n        \n\n    \n    \n\n   [/vc_column][/vc_row]
URL:https://www.compartealicante.com/evento/coneixer-i-estimar-el-nostre-entorn-visita-al-parque-natural-de-las-salinas-de-santa-pola/
LOCATION:Centro Comercial Puerta de Alicante\, Av. José María Hernández Mata\, S/N\, Alicante\, Alicante\, 03007
CATEGORIES:Excursiones
END:VEVENT
END:VCALENDAR