BEGIN:VCALENDAR
VERSION:2.0
PRODID:-//CompARTE Alicante · Asociación Cultural - ECPv5.3.2.1//NONSGML v1.0//EN
CALSCALE:GREGORIAN
METHOD:PUBLISH
X-WR-CALNAME:CompARTE Alicante · Asociación Cultural
X-ORIGINAL-URL:https://www.compartealicante.com
X-WR-CALDESC:Eventos para CompARTE Alicante · Asociación Cultural
BEGIN:VTIMEZONE
TZID:Europe/Madrid
BEGIN:DAYLIGHT
TZOFFSETFROM:+0100
TZOFFSETTO:+0200
TZNAME:CEST
DTSTART:20240331T010000
END:DAYLIGHT
BEGIN:STANDARD
TZOFFSETFROM:+0200
TZOFFSETTO:+0100
TZNAME:CET
DTSTART:20241027T010000
END:STANDARD
END:VTIMEZONE
BEGIN:VEVENT
DTSTART;TZID=Europe/Madrid:20240112T200000
DTEND;TZID=Europe/Madrid:20240112T213000
DTSTAMP:20260425T144840
CREATED:20240103T165733Z
LAST-MODIFIED:20240103T181153Z
UID:5130-1705089600-1705095000@www.compartealicante.com
SUMMARY:Corto con directores - proyección de Angoixa de los directores Octavi Masiá y Marcos Cantó.
DESCRIPTION:[vc_row][vc_column width=»1/2″][vc_column_text]El próximo viernes 12 de enero a las 20:00h tenemos el placer de compartir con vosotros la proyección del cortometraje Angoixa de los directores Octaví Masiá y Carlos Cantó cuya presentación correrá a cargo de Adriá Carbonell. Después del visionado del corto podremos comentarlo con sus directores.[/vc_column_text][vc_column_text] \n  \nANGOIXA \nAÑO:2023\nDURACIÓN: 15 min\nPRESENTADO: Adrià Carbonell y directores:  Octavi Masiá y Marcos Cantó.\nDIRECCIÓN: Octavi Masiá y Marcos Cantó.\nNACIONALIDAD: española\nLENGUA V.S.O.: castellano.\nSINÓPSIS: Corto que trata el tema de la ludopatía\, inspirado en una pieza teatral escrita por Marcos Cantó. \nEstrenado en Alcoy el pasado 28 de octubre. Vendrán los directores del corto a presentarlo y a tener un coloquio con los asistentes. \n¡ INSCRÍBETE Y NO TE PIERDAS NUESTRO PRIMER EVENTO! \n[/vc_column_text][/vc_column][vc_column width=»1/2″][vc_column_text]ROGAMOS MÁXIMA PUNTUALIDAD \nApertura de puertas a las 19:40h\nInicio del evento a las 20:00h[/vc_column_text][vc_column_text]EVENTO GRATUITO[/vc_column_text][vc_column_text]IMPRESCINDIBLE RESERVAR:[/vc_column_text]\n\n    \n    \n      \n      \n        \n  \n\n\n\n\n\n\n\n\n\n\n\n\n\n\nHe leído y acepto la política de privacidad de Asociación CompARTE\n\n \n        \n\n    \n    \n\n   [/vc_column][/vc_row]
URL:https://www.compartealicante.com/evento/corto-con-directores-proyeccion-de-angoixa-de-los-directores-octavi-masia-y-marcos-canto/
CATEGORIES:Cine,Cine comentado
ATTACH;FMTTYPE=image/png:https://www.compartealicante.com/wp-content/uploads/2024/01/Copia-de-SESION-CORTOS-ANGOIXA-2-2.png
END:VEVENT
END:VCALENDAR