BEGIN:VCALENDAR
VERSION:2.0
PRODID:-//CompARTE Alicante · Asociación Cultural - ECPv5.3.2.1//NONSGML v1.0//EN
CALSCALE:GREGORIAN
METHOD:PUBLISH
X-WR-CALNAME:CompARTE Alicante · Asociación Cultural
X-ORIGINAL-URL:https://www.compartealicante.com
X-WR-CALDESC:Eventos para CompARTE Alicante · Asociación Cultural
BEGIN:VTIMEZONE
TZID:Europe/Madrid
BEGIN:DAYLIGHT
TZOFFSETFROM:+0100
TZOFFSETTO:+0200
TZNAME:CEST
DTSTART:20220327T010000
END:DAYLIGHT
BEGIN:STANDARD
TZOFFSETFROM:+0200
TZOFFSETTO:+0100
TZNAME:CET
DTSTART:20221030T010000
END:STANDARD
END:VTIMEZONE
BEGIN:VEVENT
DTSTART;TZID=Europe/Madrid:20220611T200000
DTEND;TZID=Europe/Madrid:20220611T220000
DTSTAMP:20260423T160953
CREATED:20220601T204815Z
LAST-MODIFIED:20220601T204815Z
UID:3602-1654977600-1654984800@www.compartealicante.com
SUMMARY:El Neolítico en Alicante - Charla y visita al yacimiento arqueológico de la Cova  d'Or
DESCRIPTION:[vc_row][vc_column width=»1/2″][vc_column_text]El próximo sábado 11 de junio\, tenemos el placer de conocer el neolítico en Alicante de la mano del arqueólogo Jorge A.  Soler Díaz. \nEsta actividad irá unida a la del domingo 12 de junio donde disfrutaremos del neolítico in situ en la cova d’Or.[/vc_column_text][vc_single_image image=»3616″ img_size=»medium»][vc_column_text]Jorge Soler Díaz es doctor en Historia\, especialista en Prehistoria reciente\, museología y museografía. Desde 1991 es conservador de Prehistoria del Museo Arqueológico Provincial de Alicante (MARQ). En 2003 ocupó la jefatura de la Unidad de Exposiciones y Difusión del MARQ y en 2018 fue nombrado director de Exposiciones de la Fundación Comunidad Valenciana MARQ. Ha coordinado desde estos puestos de responsabilidad más de un centenar de exposiciones temporales\, de carácter local\, nacional e internacional.[/vc_column_text][vc_column_text]Ha dirigido además el Departamento de Cultura e Investigación del Instituto Alicantino de Cultura Juan Gil Albert (2004-2007)\, la Revista Canelobre (1999-2004) y la Revista MARQ. Arqueología y Museos (2004-2018). Desde 2015 es profesor asociado adscrito al Área de Prehistoria del Departamento de Prehistoria\, Arqueología\, Historia Antigua\, Filología Griega y Filología Latina la Universidad de Alicante. \n¡NO TE LO PIERDAS\, INSCRÍBETE YA! \n[/vc_column_text][/vc_column][vc_column width=»1/2″][vc_column_text]ROGAMOS MÁXIMA PUNTUALIDAD \nApertura de puertas a las 19:40h\nInicio del evento a las 20:00h[/vc_column_text][vc_column_text] \nACTIVIDAD GRATUITA \nCHARLA + VISITA DE LA COVA DE L’OR \nMÁXIMO 15 PERSONAS \n[/vc_column_text][vc_column_text]IMPRESCINDIBLE RESERVAR:[/vc_column_text]\n\n    \n    \n      \n      \n        \n  \n\n\n\n\n\n\n\n\n\n\n\n\n\n\nHe leído y acepto la política de privacidad de Asociación CompARTE\n\n \n        \n\n    \n    \n\n   [/vc_column][/vc_row]
URL:https://www.compartealicante.com/evento/el-neolitico-en-alicante-charla-y-visita-al-yacimiento-arqueologico-de-la-cova-dor/
CATEGORIES:Otros,Visitas culturales
ATTACH;FMTTYPE=image/png:https://www.compartealicante.com/wp-content/uploads/2022/06/Charla-y-visita-a-yacimiento.png
END:VEVENT
END:VCALENDAR