BEGIN:VCALENDAR
VERSION:2.0
PRODID:-//CompARTE Alicante · Asociación Cultural - ECPv5.3.2.1//NONSGML v1.0//EN
CALSCALE:GREGORIAN
METHOD:PUBLISH
X-WR-CALNAME:CompARTE Alicante · Asociación Cultural
X-ORIGINAL-URL:https://www.compartealicante.com
X-WR-CALDESC:Eventos para CompARTE Alicante · Asociación Cultural
BEGIN:VTIMEZONE
TZID:Europe/Madrid
BEGIN:DAYLIGHT
TZOFFSETFROM:+0100
TZOFFSETTO:+0200
TZNAME:CEST
DTSTART:20240331T010000
END:DAYLIGHT
BEGIN:STANDARD
TZOFFSETFROM:+0200
TZOFFSETTO:+0100
TZNAME:CET
DTSTART:20241027T010000
END:STANDARD
END:VTIMEZONE
BEGIN:VEVENT
DTSTART;TZID=Europe/Madrid:20240119T193000
DTEND;TZID=Europe/Madrid:20240119T213000
DTSTAMP:20260425T182226
CREATED:20240115T135837Z
LAST-MODIFIED:20240115T161539Z
UID:5184-1705692600-1705699800@www.compartealicante.com
SUMMARY:Espectáculo de humor grabado DON'T EXPLAIN de los UMBILICAL BROTHERS
DESCRIPTION:[vc_row][vc_column width=»1/2″][vc_column_text]El próximo viernes día 19 de enero a las 19:30h\, anunciamos evento a propuesta y generosidad de Gabriel Mirelman (socio\, amigo y músico) podremos disfrutar del espectáculo de humor DON’T EXPLAIN de los UMBILICAL BROTHERS\, grabado  del show en directo.\n[/vc_column_text][vc_column_text]El espectáculo que vamos a disfrutar  es la grabación del show en directo “Dont Explain” \nLos Umbilical Brothers son un dúo de humor blanco australiano formado por David Collins y Shane Dundas. Este show está dirigido por Jim Hare.\nCon sonidos y mímica consiguen que entres en un universo imaginario pero a la vez universal pues aunque el idioma es en v.o.  (inglés) se entiende perfectamente por la gestualidad y el contexto. \nNuestros socios y amigos Gabriel y Teresa quedaron tan encantados con su espectáculo que decidieron adquirir varios de sus espectáculos que ponen a disposición de los socios para nuestro disfrute en grupo. En palabras de Gabriel «hasta mi hija se desternillaba de risa al verlos y lógicamente sin saber inglés»[/vc_column_text][vc_column_text]Algunos de los comentarios recogidos sobre el espectáculo: \n«Estos dos genios ofrecen una hora y media de entretenimiento único. ¡Y ni siquiera usan accesorios! solo tu imaginación\, y los sonidos en vivo que producen ellos mismos» \n«Aunque solo tienen un accesorio\, una pequeña pizarra verde erguida\, puedes ver exactamente lo que está sucediendo a través de sus acciones y efectos de sonido» \n¡No te lo puedes perder!\n[/vc_column_text][/vc_column][vc_column width=»1/2″][vc_column_text]ROGAMOS MÁXIMA PUNTUALIDAD \nApertura de puertas a las 19:10h\nInicio del evento a las 19:30h[/vc_column_text][vc_column_text]Evento GRATUITO[/vc_column_text][vc_column_text]IMPRESCINDIBLE RESERVAR:[/vc_column_text]\n\n    \n    \n      \n      \n        \n  \n\n\n\n\n\n\n\n\n\n\n\n\n\n\nHe leído y acepto la política de privacidad de Asociación CompARTE\n\n \n        \n\n    \n    \n\n   [/vc_column][/vc_row]
URL:https://www.compartealicante.com/evento/espectaculo-de-humor-grabado-dont-explain-de-los-umbilical-brothers/
CATEGORIES:Otros
ATTACH;FMTTYPE=image/png:https://www.compartealicante.com/wp-content/uploads/2024/01/dont-explain-de-Umbilical-Brothers-1.png
END:VEVENT
END:VCALENDAR