BEGIN:VCALENDAR
VERSION:2.0
PRODID:-//CompARTE Alicante · Asociación Cultural - ECPv5.3.2.1//NONSGML v1.0//EN
CALSCALE:GREGORIAN
METHOD:PUBLISH
X-WR-CALNAME:CompARTE Alicante · Asociación Cultural
X-ORIGINAL-URL:https://www.compartealicante.com
X-WR-CALDESC:Eventos para CompARTE Alicante · Asociación Cultural
BEGIN:VTIMEZONE
TZID:Europe/Madrid
BEGIN:DAYLIGHT
TZOFFSETFROM:+0100
TZOFFSETTO:+0200
TZNAME:CEST
DTSTART:20230326T010000
END:DAYLIGHT
BEGIN:STANDARD
TZOFFSETFROM:+0200
TZOFFSETTO:+0100
TZNAME:CET
DTSTART:20231029T010000
END:STANDARD
END:VTIMEZONE
BEGIN:VEVENT
DTSTART;TZID=Europe/Madrid:20231111T200000
DTEND;TZID=Europe/Madrid:20231111T220000
DTSTAMP:20260421T062151
CREATED:20231019T081003Z
LAST-MODIFIED:20231019T081003Z
UID:4990-1699732800-1699740000@www.compartealicante.com
SUMMARY:Espectáculo de poesía y música "Hasta que no queden pasos" de Lucía Ros y Gaia Schiller
DESCRIPTION:[vc_row][vc_column width=»1/2″][vc_column_text]El sábado 11 de noviembre a las 20:00h\, os proponemos  disfrutar del espectáculo «Hasta que no queden pasos» de las talentosas Lucía Ros (poesía)\, Gaia Schiller (música)\, en nuestra sede.\n[/vc_column_text][vc_column_text] \nHasta que no queden pasos es un espectáculo de poesía\, movimiento y música en vivo. \nHasta que no queden pasos es un viaje desde la semilla hasta la ﬂor; un abrazo entre la vida y la muerte\, una celebración de lo femenino\, un camino hacia dentro y una explosión hacia fuera. Es la erupción volcánica de la emoción y la calma de la contemplación\, es un sanar y un renacer\, es un camino que empieza pero no acaba porque al ﬁnal vivir es eso; caminar\, caminar hasta que no queden pasos.[/vc_column_text][vc_column_text]Si quieres conocer más sobre éste espectáculo\, pincha el siguiente enlace: \n\nCaminos de ida y vuelta\n\n  \n \n  \n¡No te lo puedes perder!\n[/vc_column_text][/vc_column][vc_column width=»1/2″][vc_column_text]ROGAMOS MÁXIMA PUNTUALIDAD \nApertura de puertas a las 19:40h\nInicio del evento a las 20:00h[/vc_column_text][vc_column_text]Precio socio: 10€\nPrecio general: 15€[/vc_column_text][vc_column_text]IMPRESCINDIBLE RESERVAR:[/vc_column_text]\n\n    \n    \n      \n      \n        \n  \n\n\n\n\n\n\n\n\n\n\n\n\n\n\nHe leído y acepto la política de privacidad de Asociación CompARTE\n\n \n        \n\n    \n    \n\n   [/vc_column][/vc_row]
URL:https://www.compartealicante.com/evento/espectaculo-de-poesia-y-musica-hasta-que-no-queden-pasos-de-lucia-ros-y-gaia-schiller/
CATEGORIES:Otros
ATTACH;FMTTYPE=image/png:https://www.compartealicante.com/wp-content/uploads/2023/10/Copia-de-HASTAQUENOQUEDEN-PASOS-1.png
END:VEVENT
END:VCALENDAR