BEGIN:VCALENDAR
VERSION:2.0
PRODID:-//CompARTE Alicante · Asociación Cultural - ECPv5.3.2.1//NONSGML v1.0//EN
CALSCALE:GREGORIAN
METHOD:PUBLISH
X-WR-CALNAME:CompARTE Alicante · Asociación Cultural
X-ORIGINAL-URL:https://www.compartealicante.com
X-WR-CALDESC:Eventos para CompARTE Alicante · Asociación Cultural
BEGIN:VTIMEZONE
TZID:Europe/Madrid
BEGIN:DAYLIGHT
TZOFFSETFROM:+0100
TZOFFSETTO:+0200
TZNAME:CEST
DTSTART:20250330T010000
END:DAYLIGHT
BEGIN:STANDARD
TZOFFSETFROM:+0200
TZOFFSETTO:+0100
TZNAME:CET
DTSTART:20251026T010000
END:STANDARD
END:VTIMEZONE
BEGIN:VEVENT
DTSTART;TZID=Europe/Madrid:20251019T190000
DTEND;TZID=Europe/Madrid:20251019T220000
DTSTAMP:20260422T183118
CREATED:20251014T094509Z
LAST-MODIFIED:20251014T122107Z
UID:7980-1760900400-1760911200@www.compartealicante.com
SUMMARY:Homenaje a Diane Keaton con la proyección de la película «Misterioso Asesinato en Manhattan» del director Woody Allen
DESCRIPTION:[vc_row][vc_column width=»1/2″][vc_column_text]El próximo domingo 19 de octubre a las 19:00 h. proyectaremos la película «Manhattan Murder Mystery» (Misterioso asesinato en Manhattan) de Woody Allen como homenaje a la actriz\, directora y productora Diane Keaton\, fallecida el pasado 11 de octubre. \nLa filmografía de Diane Keaton se podría resumir en una frase que describe su esencia cinematográfica: «Soy el tipo de actriz que es más ella misma cuando interpreta a alguien que no es ella misma»\, destacando su habilidad para inyectar su personalidad y estilo único\, desde la inocencia de Kay Adams en El Padrino hasta la icónica y neurótica Annie Hall\, en personajes femeninos que redefinieron la comedia y el drama en Hollywood.[/vc_column_text][vc_column_text] \nManhattan Murder Mystery (Misterioso asesinato en Manhattan) \nTítulo original: Manhattan Murder Mystery\nDirector: Woody Allen\nAño: 1993\nNacionalidad: Estados Unidos\nGuion: Woody Allen\, Marshall Brickman\nLengua: (V.O.S.)* Inglés\nDuración: 104 min\nReparto:  Diane Keaton\, Woody Allen\, Alan Alda\, Anjelica Huston\, Jerry Adler\, Lynn Cohen\, Zach Braff. \nSinopsis: La inesperada muerte de la vecina de los Lipton desencadena las sospechas de Carol\, quien empieza a indagar para confirmarlas o averiguar la verdad. Inicia una búsqueda a la que se irán uniendo diversos personajes con distintas motivaciones e intereses para participar en ella. Amor\, deseo\, celos\, aburrimiento e insatisfacción vital son emociones que se combinan en la investigación de una muerte en esta película de Woody Allen de los 90\, con Diane Keaton como protagonista principal. \nCalificaciones: (FA/IMDb/otros) 7\,8 (FA); 7.3 (IMDb) – Diane Keaton cuenta con un palmarés de más de 12 premios y 45 nominaciones\, destacando con el Oscar como mejor actriz en 1978 por “Anie Hall”\, además de otras nominaciones y galardones como los Globos de Oro 2004 por la Comedia o musical “Cuando menos te lo esperas».[/vc_column_text][vc_column_text][/vc_column_text][vc_column_text]Comentarios sobre Diane Keaton: \nDiane Keaton (5/enero/1946 – 11/10/2025)\, nos ha dejado un gran número de interpretaciones memorables y un estilo icónico e inconfundible.\nHemos querido homenajear su recuerdo con este cómico thriller\, inteligente y divertido. \nAlgunos enlaces de diversos homenajes a la actriz. \nWoody Allen rinde homenaje a Diane Keaton: “Sin ella\, este es un mundo más triste” \nDiane Keaton\, la mujer que rompió moldes en Hollywood \nDiane Keaton\, la actriz fetiche de Woody Allen que enamoró a Hollywood desafiando todos los estereotipos \n  \n  \n¡No te pierdas esta película\, envía ya tu inscripción! \n[/vc_column_text][/vc_column][vc_column width=»1/2″][vc_column_text]ROGAMOS MÁXIMA PUNTUALIDAD \nApertura de puertas a las 18:50h\nInicio del evento a las 19:00h[/vc_column_text][vc_column_text]Actividad Gratuita. Plazas limitadas. \n  \n[/vc_column_text][vc_column_text]IMPRESCINDIBLE RESERVAR:[/vc_column_text]\n\n    \n    \n      \n      \n        \n  \n\n\n\n\n\n\n\n\n\n\n\n\n\n\nHe leído y acepto la política de privacidad de Asociación CompARTE\n\n \n        \n\n    \n    \n\n   [/vc_column][/vc_row]
URL:https://www.compartealicante.com/evento/homenaje-a-diane-keaton-con-la-proyeccion-de-la-pelicula-misterioso-asesinato-en-manhattan-del-director-woody-allen/
LOCATION:SEDE ASOCIACIÓN compARTE – SALA TOLÓN TELL ON\, Carrer Gastón Castelló\, 4\, El Campello\, Alicante\, 03560\, España
CATEGORIES:Cine,Cine comentado
ATTACH;FMTTYPE=image/png:https://www.compartealicante.com/wp-content/uploads/2025/10/homenaje-a-Diane-Keaton-misterioso-asesinato-en-Manhattan-1.png
END:VEVENT
END:VCALENDAR