BEGIN:VCALENDAR
VERSION:2.0
PRODID:-//CompARTE Alicante · Asociación Cultural - ECPv5.3.2.1//NONSGML v1.0//EN
CALSCALE:GREGORIAN
METHOD:PUBLISH
X-WR-CALNAME:CompARTE Alicante · Asociación Cultural
X-ORIGINAL-URL:https://www.compartealicante.com
X-WR-CALDESC:Eventos para CompARTE Alicante · Asociación Cultural
BEGIN:VTIMEZONE
TZID:Europe/Madrid
BEGIN:DAYLIGHT
TZOFFSETFROM:+0100
TZOFFSETTO:+0200
TZNAME:CEST
DTSTART:20240331T010000
END:DAYLIGHT
BEGIN:STANDARD
TZOFFSETFROM:+0200
TZOFFSETTO:+0100
TZNAME:CET
DTSTART:20241027T010000
END:STANDARD
END:VTIMEZONE
BEGIN:VEVENT
DTSTART;TZID=Europe/Madrid:20240913T210000
DTEND;TZID=Europe/Madrid:20240913T233000
DTSTAMP:20260425T053943
CREATED:20240909T093801Z
LAST-MODIFIED:20240909T093801Z
UID:6176-1726261200-1726270200@www.compartealicante.com
SUMMARY:Homenaje a Donald Sutherland con la proyección de la película «El ojo de la aguja» del director Richard Marquand
DESCRIPTION:[vc_row][vc_column width=»1/2″][vc_column_text]El vienes 13 de septiembre a las 21:00h. proyectaremos la película «El ojo de la aguja»  como homenaje al actor Donald Sutherland\, fallecido recientemente. La película estará presentada por nuestra amiga y secretaría de la asociación Lola Ferrer. Al acabar la proyección mantendremos un debate sobre la misma. \nEl pasado 20 de junio perdimos al gran actor canadiense Donald Sutherland\, a un mes de cumplir 89 años. Uno de los actores más versátiles de la escena hollywoodiense. Podemos recordarlo en papeles muy recientes\, como Los juegos del hambre\, The Italian Job\, Orgullo y Prejuicio\, Matrix\, y otras de etapas anteriores como Casanova\, Novecento\, M.A.SH\, Doce del Patíbulo\, Tal como éramos … y tantas otras. \nProponemos ver una película que Donald Sutherland protagonizó en los años 80\, una adaptación de la novela Ken Follet\, un thriller de espionaje de la Segunda Guerra Mundial \nComentarios de Lola Ferrer sobre Donald Sutherland \nLa imagen de Donald es reconocible por todos. Gran intérprete de variedad de papeles desde terror a la comedia\, con un claro gran registro dramático\, múltiples fuentes han considerado a Sutherland como uno de los mejores actores de los que nunca fueron nominados a un Premio Óscar\, aun así\, recibió el Premio Honorífico de la Academia durante la 90.ª edición de los Premios de la Academia en 2017[/vc_column_text][vc_column_text] \nEye of the Needle – El ojo de la aguja\nDirector: Richard Marquand\nAño: 1981\nNacionalidad: Reino Unido\nGuion: Stanley Mann. Novela: Ken Follett\nLengua: (V.O.S.) inglés\nDuración: 112 min.\nFotografía: Alan Hume\nMúsica: Miklós Rózsa\nReparto: Donald Sutherland\, Kate Nelligan\, Chirstopher Cazenove\, Ian Bannen\, Alex McCrindle\, Stephen Mackenna\, Bil Nighy\, Philip Martin Brown\, George Belbin\, Faith Brook y otros.\nSinopsis:Corre el año 1940. Faber (Donald Sutherland) es un espía alemán que se encuentra Gran Bretaña recabando información sobre el bando Aliado. En Alemania le llaman «La Aguja» ya que tiene pocos escrúpulos a la hora de hacer su trabajo. Una vez que ha conseguido todos los detalles sobre el Desembarco de Normandía decide tomar un barco y volver a su país.\nDurante el trayecto su embarcación se va a pique pero logra llegar a una pequeña isla. Allí conoce a Lucy (Kate Nelligan) una bella mujer que vive con su marido paralítico. Ella tiene que soportar día a día las vejaciones de éste a quien ya dejó de amar hace mucho tiempo. \nFaber y Lucy pronto se enamorarán y comenzarán una relación a espaldas del marido. Pero Lucy desconoce que ese hombre es un espía nazi cuyos conocimientos sobre el Día D podrán perjudicarla directamente a ella. (Sensacine) \nCalificaciones: (FA/IMDb/otros)7\,1 (FA); 7\,1 (IMDb)[/vc_column_text][vc_column_text][/vc_column_text][vc_column_text]¿Por qué ver «El Ojo de la aguja»? \n\nUn homenaje a un grande: La reciente partida de Donald Sutherland nos brinda la oportunidad de recordar su talento y versatilidad como actor. En «El Ojo de la aguja»\, Sutherland encarna a un espía alemán enigmático y despiadado\, ofreciendo una actuación memorable que ha dejado una huella imborrable en la historia del cine.\nThriller de espionaje clásico: Si eres fan de las historias de espías\, intrigas y persecuciones\, esta película te cautivará con su atmósfera tensa y sus giros inesperados.\nIntriga y suspense: La trama mantiene al espectador al borde del asiento desde el principio hasta el final\, con un ritmo trepidante y un desenlace sorprendente.\nAmbientación histórica: La película recrea de manera realista la Inglaterra de la Segunda Guerra Mundial\, sumergiéndote en un contexto histórico fascinante.\nUn reparto de lujo: Además de Sutherland\, la película cuenta con un elenco de actores destacados que complementan a la perfección su interpretación.\n\nDonald Sutherland: Un actor inolvidable \nSutherland fue uno de los actores más versátiles y respetados de su generación. A lo largo de su extensa carrera\, interpretó una amplia variedad de roles\, desde antihéroes hasta personajes entrañables. Su interpretación en «El Ojo de la aguja» es un claro ejemplo de su habilidad para crear personajes complejos y memorables. \n¡NO TE LA PIERDAS\, RESERVA TU PLAZA! \n[/vc_column_text][/vc_column][vc_column width=»1/2″][vc_column_text]ROGAMOS MÁXIMA PUNTUALIDAD \nApertura de puertas a las 21:00h\nInicio del evento a las 20:40h[/vc_column_text][vc_column_text]Actividad Gratuita. Plazas limitadas a socios y acompañantes. \n[/vc_column_text][vc_column_text]IMPRESCINDIBLE RESERVAR:[/vc_column_text]\n\n    \n    \n      \n      \n        \n  \n\n\n\n\n\n\n\n\n\n\n\n\n\n\nHe leído y acepto la política de privacidad de Asociación CompARTE\n\n \n        \n\n    \n    \n\n   [/vc_column][/vc_row]
URL:https://www.compartealicante.com/evento/homenaje-a-donald-sutherland-con-la-proyeccion-de-la-pelicula-el-ojo-de-la-aguja-del-director-richard-marquand/
CATEGORIES:Cine,Cine comentado
ATTACH;FMTTYPE=image/png:https://www.compartealicante.com/wp-content/uploads/2024/09/homenaje-a-Donald-Sutherland-con-el-ojo-de-la-aguja-2-1.png
END:VEVENT
END:VCALENDAR