BEGIN:VCALENDAR
VERSION:2.0
PRODID:-//CompARTE Alicante · Asociación Cultural - ECPv5.3.2.1//NONSGML v1.0//EN
CALSCALE:GREGORIAN
METHOD:PUBLISH
X-WR-CALNAME:CompARTE Alicante · Asociación Cultural
X-ORIGINAL-URL:https://www.compartealicante.com
X-WR-CALDESC:Eventos para CompARTE Alicante · Asociación Cultural
BEGIN:VTIMEZONE
TZID:Europe/Madrid
BEGIN:DAYLIGHT
TZOFFSETFROM:+0100
TZOFFSETTO:+0200
TZNAME:CEST
DTSTART:20240331T010000
END:DAYLIGHT
BEGIN:STANDARD
TZOFFSETFROM:+0200
TZOFFSETTO:+0100
TZNAME:CET
DTSTART:20241027T010000
END:STANDARD
END:VTIMEZONE
BEGIN:VEVENT
DTSTART;TZID=Europe/Madrid:20240524T193000
DTEND;TZID=Europe/Madrid:20240524T220000
DTSTAMP:20260421T061906
CREATED:20240520T093442Z
LAST-MODIFIED:20240520T093442Z
UID:5747-1716579000-1716588000@www.compartealicante.com
SUMMARY:Homenaje a Paul Auster con la proyección de la película «Smoke» del director Wayne Wang
DESCRIPTION:[vc_row][vc_column width=»1/2″][vc_column_text]El vienes 24 de mayo a las 19:30h. proyectaremos la película «Smoke»  como homenaje al escritor\, ensayista\, guionista y director Paul Auster\, fallecido recientemente. La película estará presentada por nuestra amiga\, socia y vocal de la asociación Esperanza Fuster. Al acabar la proyección mantendremos un debate sobre la misma. \nPaul Auster domina el arte de crear personajes complejos y memorables que navegan por laberintos de memoria\, pérdida y autodescubrimiento. Sus novelas\, como «La trilogía de Nueva York»\, «Leviatán» o «El libro de las ilusiones»\, invitan a la reflexión sobre temas como la soledad\, la muerte\, el amor y la naturaleza de la realidad. \nPaul Auster también ha brillado como guionista\, director de cine y ensayista. Su trabajo en todas las disciplinas se caracteriza por la misma inteligencia\, sensibilidad y búsqueda de la verdad que lo define como novelista. \nEn definitiva\, Paul Auster es un artista polifacético que ha dejado una huella profunda en el mundo de la literatura contemporánea. \n”[/vc_column_text][vc_column_text] \nSMOKE   \nDirector: Wayne Wang\nAño: 1995\nNacionalidad: Estados Unidos\nGuion: Paul Auster\nLengua: (V.O.S.) inglés\nDuración: 112 min.\nFotografía: Adam Holender\nMúsica: Rachel Portman\nReparto: Harvey Keitel\, William Hurt\, Stockard Channing\, Forest Whitaker\, Ashley Judd\, Giancarlo Esposito\, Harold Perrineaud etc.\nSinopsis:Brooklyn\, verano de 1987. Algunas personas que frecuentan el estanco de Auggie Wren (Harvey Keitel) le confían sus problemas. La rocambolesca historia de cómo consiguió su cámara fotográfica y de por qué se decidió a elaborar su singular colección de fotografías le dará por fin un argumento a Paul Benjamin (William Hurt)\, un prestigioso novelista que atraviesa una crisis. Por su parte\, Paul ayudará a Rashid (Harold Perrineaud Jr.)\, un adolescente negro bastante desorientado que busca a su padre (Whitaker). (FILMAFFINITY) \n“El escritor Paul Auster firma el guion de «Smoke»\, obra maestra del cine cotidiano con la que colmó sus obsesiones con el medio cinematográfico. A través de la figura de un humilde estanquero aficionado a la fotografía\, accederemos a los rincones más íntimos de la ciudadanía neyorquina: sus problemas\, sus triunfos\, sus aspiraciones\, sus sueños rotos… Un viaje fascinante que nos devuelve tanto al cine trascendental de Yasujiro Ozu como al lirismo del autor de «La Trilogía de Nueva York». Imprescindible”.\n(FILMIN) \nCalificaciones: (FA/IMDb/otros)7\,6 (FA); 7\,4 (IMDb)[/vc_column_text][vc_column_text][/vc_column_text][vc_column_text]Smoke: Un viaje a través de la vida cotidiana en Brooklyn \nTemática: \n\nLa soledad y la búsqueda de conexión: Smoke explora la soledad que experimentan los individuos en la gran ciudad\, y cómo encuentran consuelo y conexión en las relaciones más inesperadas.\nEl poder de las historias: La película destaca el poder de las historias para conectar a las personas y dar sentido a nuestras vidas. Los personajes comparten sus historias entre sí\, tejiendo una rica red de experiencias humanas.\nLa importancia del azar: El azar juega un papel crucial en la película\, uniendo a los personajes de maneras inesperadas y poniendo en marcha los acontecimientos de la trama.\nLa belleza de lo cotidiano: Smoke encuentra belleza en la vida cotidiana\, celebrando los pequeños momentos y las interacciones ordinarias que conforman nuestras vidas.\n\nDirección: \n\nWayne Wang crea una atmósfera cálida e íntima: El director utiliza una dirección sutil y naturalista para crear una atmósfera cálida e íntima en la que los personajes se sienten reales y cercanos.\nRitmo pausado y contemplativo: Lo que permite al espectador sumergirse en las vidas de los personajes y reflexionar sobre los temas que se exploran.\nUso efectivo de la música: La música juega un papel importante en la película\, creando estados de ánimo y amplificando las emociones de los personajes.\n\nTécnica cinematográfica: \n\nUso de planos fijos y encuadres cuidadosamente compuestos\, para crear una sensación de quietud y observación.\nIluminación natural y realista: Que aporta autenticidad a las localizaciones y los personajes.\nEdición fluida y discreta:  Permite que la historia se desarrolle de forma natural y sin interrupciones.\n\nCuriosidades y anécdotas: \nLa película está basada en un relato corto de Paul Auster: Smoke se basa en el relato corto «Cuento de Navidad de Auggie Wren» de Paul Auster\, quien también escribió el guion de la película.\nLa película fue aclamada por la crítica: Smoke recibió elogios de la crítica por su dirección\, guion y actuaciones. Ganó el Oso de Plata en el Festival de Cine de Berlín y fue nominada a varios premios\, incluyendo el Independent Spirit Award al mejor guion. \nEn resumen\, Smoke es una película conmovedora y reflexiva que explora temas universales como la soledad\, la conexión humana y el poder de las historias. Su dirección sutil\, sus interpretaciones naturales y su atmósfera cálida la convierten en una experiencia cinematográfica única y memorable. \n¡No te pierdas esta película\, envía ya tu inscripción! \n[/vc_column_text][/vc_column][vc_column width=»1/2″][vc_column_text]ROGAMOS MÁXIMA PUNTUALIDAD \nApertura de puertas a las 19:20h\nInicio del evento a las 19:30h[/vc_column_text][vc_column_text]Actividad Gratuita. Plazas limitadas. \n  \n[/vc_column_text][vc_column_text]IMPRESCINDIBLE RESERVAR:[/vc_column_text]\n\n    \n    \n      \n      \n        \n  \n\n\n\n\n\n\n\n\n\n\n\n\n\n\nHe leído y acepto la política de privacidad de Asociación CompARTE\n\n \n        \n\n    \n    \n\n   [/vc_column][/vc_row]
URL:https://www.compartealicante.com/evento/homenaje-a-paul-auster-con-la-proyeccion-de-la-pelicula-smoke-del-director-wayne-wang/
CATEGORIES:Cine,Cine comentado
ATTACH;FMTTYPE=image/png:https://www.compartealicante.com/wp-content/uploads/2024/05/homenaje-Paul-Auster-con-Smoke-1.png
END:VEVENT
END:VCALENDAR