BEGIN:VCALENDAR
VERSION:2.0
PRODID:-//CompARTE Alicante · Asociación Cultural - ECPv5.3.2.1//NONSGML v1.0//EN
CALSCALE:GREGORIAN
METHOD:PUBLISH
X-WR-CALNAME:CompARTE Alicante · Asociación Cultural
X-ORIGINAL-URL:https://www.compartealicante.com
X-WR-CALDESC:Eventos para CompARTE Alicante · Asociación Cultural
BEGIN:VTIMEZONE
TZID:Europe/Madrid
BEGIN:DAYLIGHT
TZOFFSETFROM:+0100
TZOFFSETTO:+0200
TZNAME:CEST
DTSTART:20230326T010000
END:DAYLIGHT
BEGIN:STANDARD
TZOFFSETFROM:+0200
TZOFFSETTO:+0100
TZNAME:CET
DTSTART:20231029T010000
END:STANDARD
END:VTIMEZONE
BEGIN:VEVENT
DTSTART;TZID=Europe/Madrid:20230923T193000
DTEND;TZID=Europe/Madrid:20230923T213000
DTSTAMP:20260421T082339
CREATED:20230905T075717Z
LAST-MODIFIED:20230906T104926Z
UID:4869-1695497400-1695504600@www.compartealicante.com
SUMMARY:Les veus silenciades. Concierto del trío de música vocal de cámara Plaerdemavida Ensemble
DESCRIPTION:[vc_row][vc_column width=»1/2″][vc_column_text]Ens complau informar que dissabte 23 de setembre tenim el plaer de presentar el CONCERT  «Les Veus Silenciades»\, interpretat pel trio de música vocal de cambra Plaerdemavida Ensemble a la nostra seu.[/vc_column_text][vc_column_text]«Som Plaerdemavida Ensemble\, un trío de música vocal de cambra. Format per: Paloma Chiner (soprano)\, Jorge Fanjul (violoncel) iPablo García-Berlanga (piano).\nEn aquests darrers anys\, hem estat guanyadors i finalistes en diversos concursos\, destacant el primer premi al “Concurs Internacional de Música de Cofrents” i al Concurs Internacional “Ibla Grand Prize”\, amb una menció d’honor “Heitor Villa-Lobos” i una menció especial del Rotary Club de Ragusa (Sicília).\nIniciem la nostra activitat l’any 2015 amb el projecte Azulão\, materialitzat en disc el 2016.\nDes de llavors\, ens hem presentat per escenaris de tot el món\, destacant actuacions a Carnegie Hall de Nova York\, Kioi Hall de Tòquio i gires per Geòrgia\, Itàlia i Espanya.\nHem actuat també a festivals de música de cambra com el Festival de Música de Menorca i al Festival ENSEMS\, al Palau de la Música de València amb el nostre espectacle EGO\, amb estrenes absolutes de compositors com Voro García o Isabel Latorre.\nL’any 2019 vam gravar dos àlbums: “Desig\, Amor i Mort” en el qual vam rendir homenatge als compositors R.Wagner i F.Listz i “Sons de Llevant“\, àlbum que rescata patrimoni musical valencià.\nEl nostre repertori se centra en la música vocal de cambra composta des de finals del segle XVIII fins als nostres dies. Junts hem creat un espai de llibertat tímbrica on la calidesa del violoncel i la veu s’entrellacen amb l’àmplia sonoritat del piano amb l’objectiu de jugar amb les sonoritats.\nCada projecte és concebut conceptualment amb la finalitat d’experimentar nous formats\, als quals se sumen músics i professionals d’altres disciplines artístiques per presentar els diferents programes musicals.\nSom a més organitzadors i directors artístics del Festival Internacional de música de Quart de Poblet ” Musiquart “ i del Festival de Música de Tabarca\, “ Tabarfest “.[/vc_column_text][vc_column_text]“LES VEUS SILENCIADES”\nRaquel Lacruz Martínez\, en el seu estudi sobre compositores valencianes\, ens conta que en la mitologia grega\, ja les deesses compo- nien\, cantaven o dansaven. Elles recreaven els poemes èpics i transmetien les grans gestes dels semidéus.\nAquells orígens femenins de la creació artística van anar desapareixent a mesura que la societat separava allò intel·lectual i racional de l’esfera més sentimental. A les dones se les considerava uns éssers irracionals i emocionals i se’ls negava l’estudi. Així començà la prohibició\, per a compondre música\, una capacitat que semblava reservada als homes.\nPer aquest motiu i molts altres\, la composició musical femenina –igual que tot el que està relacionat amb la vida\, les arts i les dones– ha sigut\, minimitzada i devaluada per una mirada sempre distorsionada\, i de vegades misògina i masclista\, dels historiadors.\nSabem que la música ha acompanyat la humanitat des dels inicis. Per tant\, resulta incomprensible intentar amagar que una de les arts amb ma- jor capacitat d’expressió no haja sigut creada també per dones. De fet\, si la primera cançó que escoltem en la nostra vida és una cançó de bressol cantada per les nostres mares\, on estan escrites aquestes melodies. Elles sempre han estat component\, però des de la intimitat. I per això han pas- sat inadvertides. Estaven ahí\, les teníem ahí. Però no ens n’adonàvem.\nValència terra de músics ens ha donat molts i grans compositors coneguts i moltes compositores no tan conegudes però si amb suficient qualitat per a que es puguen donar a conéixer . En époques anteriors moltes d’elles van realitzar estudis en el Conservatori de València. Aquest conservatori\, fundat en 1879\, tenia les seues classes de cant i piano repletes d’alumnes. Generalment\, eren lles de famílies benestants. Aquestes alumnes van\nveure\, més tard\, com el seu aprenentatge musical era una porta oberta cap a la docència i la vida professional.\nElles van exercir\, socialment i culturalment\, en la història de la música en terres valencianes.\nPer una banda\, amb l’ensenyança musical en les dife- rents classes socials. Per una altra\, imitant la burgesia europea amb l’en-senyança del piano com un tret imprescindible de l’educació femenina.\nA principi del segle XX\, les dones valencianes se sumaven a les reivindicacions feministes internacionals i demanaven cada vegada més la seua presència en la vida política\, social i cultural i també musical.\nPerquè les dones no només van ser muses\, o intèrprets\, o professores. També van ser compositores. Ara ha arribat l’hora d’escoltar la seua veu\, la seua obra.\nLa nostra proposta de concert\, «Les veus silenciades»\, pretén escollir una mostra significativa del patrimoni musical creat per dones compositores valencianes nascudes al segle XX\, per a donar relevància al seu treball\, de gran qualitat i molt desconegut per al públic. La selecció de compositores i obres\, ve determinada per aquelles que son fàcilment adaptables per a la nostra formació (soprano\, violoncel i piano).\nLa nostra selecció inclou a més\, algún compositor home\, però amb textos d’escriptores valencianes ( María Beneyto i María Guerra ). \n  \nPunxa ací per a descarregar el programa de Les veus silenciades \n  \n\n[/vc_column_text][vc_column_text]Es un auténtico lujo recibir en nuestra sede a PLAERDEMAVIDA ENSAMBLE\, trío de música vocal de cámara\, formado por Paloma Chiner (soprano)\, Jorge Fanjul (violonchelo) y Pablo García-Berlanga (piano).\nGanadores y finalistas de prestigiosos concursos nacionales e internacionales\, desde 2015 han actuado en escenarios de todo el mundo (destacando el Carnegie Hall de NY y el Kioi Hall de Tokio)\, además de participar en festivales de música de cámara\, como el Festival de Música de Menorca o el Festival ENSEMS\, en el Palau de la Música de Valencia\, con su espectáculo EGO\, que incluye estrenos absolutos de compositores valencianos contemporáneos\, como Voro García o Isabel Latorre. \nHan grabado varios álbumes\, entre los que destacan: “Azulao” (2016)\, “Wagner & Liszt: Deseo\, Amor y Muerte” (2019)\, “Sons de Llevant” (2019)\, que recoge el patrimonio cultural valenciano\, “Luciérnagas” (2021)\, homenajea a Granados\, Falla y Rodrigo\, entre otros.\nLa finalidad como ensemble es realizar un amplio repertorio\, prestando atención a la música de cámara y vocal compuesta desde finales del XVIII hasta nuestros días. En esta ocasión nos traen un repertorio de canciones con textos de poetas valencianas y/o de temas de compositoras valencianas contemporáneas. (VER PROGRAMA DE LAS VOCES SILENCIADAS). \nEste concierto está patrocinado por la Dirección General de Política Lingüística de la GVA. \n¡No olvidéis hacer vuestra reserva! \n  \n\n[/vc_column_text][/vc_column][vc_column width=»1/2″][vc_column_text]ROGAMOS MÁXIMA PUNTUALIDAD \nApertura de puertas a las 19:10h\nInicio del evento a las 19:30h[/vc_column_text][vc_column_text]CONCIERTO GRATUITO – CONCERT GRATUÏT \nPRIORIDAD SOCIOS compARTE – PRIORITAT SOCIS compARTE \nAquest concert està patrocinat per la Direcció General de Política Lingüística de la GVA.[/vc_column_text][vc_column_text]IMPRESCINDIBLE RESERVAR:[/vc_column_text]\n\n    \n    \n      \n      \n        \n  \n\n\n\n\n\n\n\n\n\n\n\n\n\n\nHe leído y acepto la política de privacidad de Asociación CompARTE\n\n \n        \n\n    \n    \n\n   [/vc_column][/vc_row]
URL:https://www.compartealicante.com/evento/les-veus-silenciades-concierto-del-trio-vocal-de-camara-plaerdemavida-ensemble/
CATEGORIES:Conciertos
ATTACH;FMTTYPE=image/jpeg:https://www.compartealicante.com/wp-content/uploads/2023/09/IMG-20230904-WA0017.jpg
END:VEVENT
END:VCALENDAR