BEGIN:VCALENDAR
VERSION:2.0
PRODID:-//CompARTE Alicante · Asociación Cultural - ECPv5.3.2.1//NONSGML v1.0//EN
CALSCALE:GREGORIAN
METHOD:PUBLISH
X-WR-CALNAME:CompARTE Alicante · Asociación Cultural
X-ORIGINAL-URL:https://www.compartealicante.com
X-WR-CALDESC:Eventos para CompARTE Alicante · Asociación Cultural
BEGIN:VTIMEZONE
TZID:Europe/Madrid
BEGIN:DAYLIGHT
TZOFFSETFROM:+0100
TZOFFSETTO:+0200
TZNAME:CEST
DTSTART:20230326T010000
END:DAYLIGHT
BEGIN:STANDARD
TZOFFSETFROM:+0200
TZOFFSETTO:+0100
TZNAME:CET
DTSTART:20231029T010000
END:STANDARD
END:VTIMEZONE
BEGIN:VEVENT
DTSTART;TZID=Europe/Madrid:20231110T200000
DTEND;TZID=Europe/Madrid:20231110T220000
DTSTAMP:20260421T061537
CREATED:20231107T101524Z
LAST-MODIFIED:20231107T101524Z
UID:5060-1699646400-1699653600@www.compartealicante.com
SUMMARY:LIVE JAZZ SESSION - VICENT YOUMANS
DESCRIPTION:[vc_row][vc_column width=»1/2″][vc_column_text]Como os anticipábamos\, el próximo viernes 10 de noviembre a las 20:00h.  fruto de la  colaboración entre el Refugio Jazz Club y nuestra asociación compARTE\, os proponemos un concierto live jazz session dedicado a Vicent Youmans\,  genial compositor y productor de espectáculos musicales de Broadway y  que tendrá lugar en el Refugio Jazz Club en San Juan.[/vc_column_text][vc_column_text] \n  \nVincent Youmans\, hijo de un fabricante de sombreros de la ciudad de Nueva York\, donde nació el 27 de septiembre de 1898. A los dos años\, su padre se trasladó con la familia a Larchmont\, asistiendo a la Trinity School y al Heathcote Hall de Nueva York para cursar sus estudios. Inicialmente quería ser ingeniero y se matriculo en la Universidad de Yale por corto tiempo. Finalmente se retiró para convertirse en corredor de una firma en Wall Street\, pero estalló la primera guerra mundial y fue reclutado en la Armada\, aunque no tuvo que entrar en combate. Destinado en Illinois\, se interesó por el teatro y comenzó a producir espectáculos para las tropas de la Marina. \nFinalizada la guerra\, Youmans fue un cantante del Tin Pan Alley\, como se denominaba al grupo de productores y compositores musicales de la ciudad de Nueva York que dominaron la música popular de los Estados Unidos en los años finales del siglo XIX y comienzos del XX. En 1921 colaboró con el letrista Ira Gershwin en la banda sonora de una producción para Broadway\, que supuso su primer éxito con la canción titulada “Oh me\, Oh may”. \nSu éxito más duradero fue “No\, no\, Nanette”\, que llegó a Broadway en 1925. Fue el mayor éxito de la comedia musical de la década de los veinte tanto en Europa como en Estados Unidos y sus dos canciones\, “Tea for Two” y “I want to be happy” fueron éxitos mundiales. \nEn 1927\, Youmans comienza a producir sus propios espectáculos en Broadway. En 1933 escribe las canciones de “Flying down to Rio”\, la primera película que presenta a Fred Astaire y Ginger Rogers como pareja de baile y cuya canción Carioca fue nominada al Oscar como mejor canción en 1935. \nSin embargo\, con una carrera profesional en alza que había durado sólo 13 años\, Youmans tiene que jubilarse en 1934 debido a una tuberculosis. Pasó el resto de su vida luchando contra esa enfermedad de la que finalmente falleció a los 47 años en Denver\, Colorado. En 1970 fue incluido póstumamente en el Salón de la Fama de los Compositores.[/vc_column_text][vc_column_text]\n♪♪ Saxo: Rafa González\n♪♪ Contrabajo: Andrés Lizón\n♪♪ Batería: Curro García \n  \n¡RESERVA TU PLAZA EN NUESTRO FORMULARIO PARA BENEFICIARTE DEL PRECIO DE SOCIO compARTE! \n[/vc_column_text][/vc_column][vc_column width=»1/2″][vc_column_text]ROGAMOS MÁXIMA PUNTUALIDAD \nApertura de puertas a las 19:45h\nInicio del evento a las 20:00h \nEl concierto tendrá lugar en las instalaciones del Refugio Jazz Club[/vc_column_text][vc_column_text]Aportación socios: 10€*\nGeneral : 15€ \n* Para acreditaros como socios compARTE debéis inscribiros en nuestro formulario. Podéis pagar en efectivo en el Refugio y online en el siguiente enlace. \nCompra anticipada de entradas en entradium.com[/vc_column_text][vc_column_text]IMPRESCINDIBLE RESERVAR:[/vc_column_text]\n\n    \n    \n      \n      \n        \n  \n\n\n\n\n\n\n\n\n\n\n\n\n\n\nHe leído y acepto la política de privacidad de Asociación CompARTE\n\n \n        \n\n    \n    \n\n   [/vc_column][/vc_row]
URL:https://www.compartealicante.com/evento/live-jazz-session-vicent-youmans/
LOCATION:EL REFUJIO JAZZ\, Calle Dr. Ivorra\, 46- bajo\, San Juan\, Alicante\, 03550\, España
CATEGORIES:Ciclo de Jazz,Conciertos
ATTACH;FMTTYPE=image/png:https://www.compartealicante.com/wp-content/uploads/2023/11/copia-de-livejazzvicentyoumans-1.png
END:VEVENT
END:VCALENDAR