BEGIN:VCALENDAR
VERSION:2.0
PRODID:-//CompARTE Alicante · Asociación Cultural - ECPv5.3.2.1//NONSGML v1.0//EN
CALSCALE:GREGORIAN
METHOD:PUBLISH
X-WR-CALNAME:CompARTE Alicante · Asociación Cultural
X-ORIGINAL-URL:https://www.compartealicante.com
X-WR-CALDESC:Eventos para CompARTE Alicante · Asociación Cultural
BEGIN:VTIMEZONE
TZID:Europe/Madrid
BEGIN:DAYLIGHT
TZOFFSETFROM:+0100
TZOFFSETTO:+0200
TZNAME:CEST
DTSTART:20250330T010000
END:DAYLIGHT
BEGIN:STANDARD
TZOFFSETFROM:+0200
TZOFFSETTO:+0100
TZNAME:CET
DTSTART:20251026T010000
END:STANDARD
END:VTIMEZONE
BEGIN:VEVENT
DTSTART;TZID=Europe/Madrid:20250608T193000
DTEND;TZID=Europe/Madrid:20250608T213000
DTSTAMP:20260424T232646
CREATED:20250518T174609Z
LAST-MODIFIED:20250518T174925Z
UID:7362-1749411000-1749418200@www.compartealicante.com
SUMMARY:Nueva fecha - CONCIERTO JAZZ – GABRIEL MIRELMAN TRÍO
DESCRIPTION:[vc_row][vc_column width=»1/2″][vc_column_text] \nNUEVA FECHA – NUEVA FECHA – NUEVA FECHA – \nEl domingo 8 de junio a las 19:30h. tendremos el placer de disfrutar del CONCIERTO DE JAZZ por  Gabriel Mirelman Trío en  la sede de compArte (Tolón Tell on – interior). \n¿Te apasiona el jazz? ¿Buscas una noche inolvidable llena de ritmo y talento? ¡Entonces no te puedes perder este concierto![/vc_column_text][vc_column_text]Gabriel Mirelman TRIO\, presenta una cuidada selección de melodías encantadora\, interpretadas en clave de Jazz\, swing\, bossa nova y boleros. \nEl repertorio se complementa con breves explicaciones musicales que enriquecen la experiencia y ayudan al público a disfrutar aún más de la magia de la música en vivo. \nLos tres músicos cuentan con una amplia trayectoria\, colaborando con diversos artistas en numerosos proyectos \nPara que conozcas un poco mejor a los artistas: \n♪♪Guitarra y voz: Gabriel Mirelman\n♪♪ Piano: David González\n♪♪ Contrabajo: Antonio Peñalver \nGabriel Mirelman:\nPedagogo especializado en educación musical\, con más de 20 años de experiencia en el ámbito de la enseñanza. Diplomado como maestro en Educación Musical por la Universidad Autónoma de Madrid (U.A.M.)\, es autor del libro Introducción a la música moderna y creador del reconocido recurso didáctico Baraja Ladomi. \nA lo largo de su trayectoria\, ha impartido el taller «Iniciación al jazz y al rock» en múltiples ocasiones\, en espacios como centros culturales\, universidades y conservatorios\, consolidando su enfoque práctico y accesible a la enseñanza de la música moderna. \nNacido en Buenos Aires\, se trasladó a Madrid a los nueve años\, donde creció y comenzó su formación musical. Desde 2012 reside en Alicante. Finalizó sus estudios de magisterio musical a los 21 años en la U.A.M. y desde entonces ha desarrollado una carrera activa como músico de jazz\, combinando la interpretación con una intensa labor pedagógica centrada en adultos. \nDurante la última década ha perfeccionado su estilo participando en clases\, seminarios\, clases magistrales\, conciertos y jam sessions\, lo que le ha permitido mantenerse en constante evolución como músico y educador. \nDavid González:\nMúsico intérprete\, arreglista y compositor.\nRealiza sus estudios musicales en el Conservatorio Superior de Música de Alicante.\nProfesor del Conservatorio Profesional de Danza ¨José Espadero ¨de Alicante. \nAntonio Peñalver.\nBajista autodidacta que en su adolescencia quedó atrapado por el sonido del bajo de Jaco Pastorius a la vez que también escuchaba a contrabajistas como Dave Holland\, Scott Lafaro o Charlie Haden. \nTres décadas al servicio de bandas de todos los estilos han sido su laboratorio vital para equilibrar su personalidad intimista con un sonido enérgico y un acompañamiento de herencia melódica.\nHa actuado en multitud de Festivales de Jazz nacionales e internacionales durante toda su trayectoria junto a tríos\, cuartetos\, quintetos de Jazz\, así como en formatos más grandes como la Big Band Cotijazz bajo la dirección de Ramón Cardó. \nActualmente\, alterna su trabajo como músico con la docencia en la escuela de Jazz Groove In(Murcia)\, donde es codirector y profesor de bajo-contrabajo y combos.[/vc_column_text][vc_column_text] \n¡RESERVA TU PLAZA YA!\n[/vc_column_text][/vc_column][vc_column width=»1/2″][vc_column_text]ROGAMOS MÁXIMA PUNTUALIDAD \nApertura de puertas a las 19:150h\nInicio del evento a las 19:30h[/vc_column_text][vc_column_text]Aportación socios: 10€\nGeneral : 15€[/vc_column_text][vc_column_text]IMPRESCINDIBLE RESERVAR:[/vc_column_text]\n\n    \n    \n      \n      \n        \n  \n\n\n\n\n\n\n\n\n\n\n\n\n\n\nHe leído y acepto la política de privacidad de Asociación CompARTE\n\n \n        \n\n    \n    \n\n   [/vc_column][/vc_row]
URL:https://www.compartealicante.com/evento/nueva-fecha-concierto-jazz-gabriel-mirelman-trio/
LOCATION:SEDE ASOCIACIÓN compARTE – SALA TOLÓN TELL ON\, Carrer Gastón Castelló\, 4\, El Campello\, Alicante\, 03560\, España
CATEGORIES:Conciertos
ATTACH;FMTTYPE=image/png:https://www.compartealicante.com/wp-content/uploads/2025/05/GABRIEL-MIRELMAN-Trio1-3-1.png
END:VEVENT
END:VCALENDAR