BEGIN:VCALENDAR
VERSION:2.0
PRODID:-//CompARTE Alicante · Asociación Cultural - ECPv5.3.2.1//NONSGML v1.0//EN
CALSCALE:GREGORIAN
METHOD:PUBLISH
X-WR-CALNAME:CompARTE Alicante · Asociación Cultural
X-ORIGINAL-URL:https://www.compartealicante.com
X-WR-CALDESC:Eventos para CompARTE Alicante · Asociación Cultural
BEGIN:VTIMEZONE
TZID:Europe/Madrid
BEGIN:DAYLIGHT
TZOFFSETFROM:+0100
TZOFFSETTO:+0200
TZNAME:CEST
DTSTART:20250330T010000
END:DAYLIGHT
BEGIN:STANDARD
TZOFFSETFROM:+0200
TZOFFSETTO:+0100
TZNAME:CET
DTSTART:20251026T010000
END:STANDARD
END:VTIMEZONE
BEGIN:VEVENT
DTSTART;TZID=Europe/Madrid:20250818T193000
DTEND;TZID=Europe/Madrid:20250818T223000
DTSTAMP:20260421T010320
CREATED:20250811T141758Z
LAST-MODIFIED:20250811T141758Z
UID:7748-1755545400-1755556200@www.compartealicante.com
SUMMARY:Nueva fecha - Sesión de cine clásico con la película "Cuentos de Tokio" dirigida por Yasujirō Ozu
DESCRIPTION:[vc_row][vc_column width=»1/2″][vc_column_text] \nNUEVA FECHA \nEl próximo lunes 18 de agosto\, a las 19:30\, os proponemos una nueva sesión de cine clásico. En esta ocasión\, tendremos el placer de proyectar la película ‘Cuentos de Tokio’ dirigida por Yasujirō Ozu\, a propuesta de nuestra querida vocal Kika Colom. \nPrevia a la proyección se hará una pequeña presentación y al finalizar la película compartiremos comentarios del conjunto de asistentes.[/vc_column_text][vc_column_text] \n\nTítulo original: Tōkyō Monogatari (東京物語)\nAño: 1953\nDuración: 136 minutos\nDirección: JYasujirō Ozu\nNacionalidad: Japón\nGuion: Yasujirō Ozu y Kōgo Noda.\nLengua (V.O.S.): Japonés\nReparto: Chishu Ryu y Chieko Higashiyama\nGénero: Drama | Vejez / Madurez. Familia\n\nDescripción\nLa película se desarrolla en el Japón de la posguerra (1953)\, pocos años después del nuevo Código Civil de 1948 que favoreció los ideales capitalistas occidentales\, a la vez que trajo la destrucción simultánea de tradiciones más antiguas\, tales como los valores de la familia japonesa.\nEl anciano Shukishi (Chishu Ryu) y su esposa\, Tomi (Chieko Higashiyama)\, emprenden un largo viaje desde su pequeña aldea costera para visitar a sus hijos adultos en Tokio. Su hijo mayor\, Koichi (Sô Yamamura)\, médico\, y su hija\, Shige (Haruko Sugimura)\, peluquera\, no tienen mucho tiempo para dedicar a sus ancianos padres\, por lo que es Noriko (Setsuko Hara)\, la viuda de su hijo menor\, fallecido en la guerra\, quien se encarga de hacer compañía a sus suegros (wikipedia). \nCalificaciones: Filaffinity: 8\,2/10; IMDb: 8.1/10; Rotten tomatoes: 100%\nConsenso de la crítica (IMDb): Tokyo monogatari es una obra maestra de Yasujiro Ozu cuya gratificante complejidad no ha perdido nada de su fuerza tras más de medio siglo.[/vc_column_text][vc_column_text]COMENTARIOS DE KIKA COLOM: \nEsta sesión está dedicada a una obra maestra del cine japonés\, Cuentos de Tokio de Yasujiro Ozu\, y la veremos como consecuencia de la sesión en la que proyectamos una película que le rinde culto: Perfect day de Wim Wenders.\nEn ambas películas la ciudad de Tokio es un protagonista más y ambas tienen un ritmo lento. Hay muchas más coincidencias que comentaremos en la sala\, como la forma de vida de sus protagonistas y el modo en que enfrentan el día a día.\nEn los cuentos de Tokio\, los acontecimientos importantes a menudo no se muestran en la pantalla\, pero se descubren a través de los diálogos\, sin embargo\, en Perfect day es al revés y los diálogos son escasos y poco trascendentes\, es el recorrido de la cámara el que narra la historia.\nEn cualquier caso\, Cuentos de Tokio narra mucho más que una historia\, muestra una forma especial de sentir y expresar las emociones que generan los vínculos familiares\, absolutamente diferentes en oriente y occidente y con el trasfondo del drama y la vergüenza que supuso para Japón perder la guerra mundial y rendirse al gran poder norteamericano. El deseo de agradar al enemigo dominador arrasó con la forma de vida tradicional y rompió el vínculo entre dos generaciones. \n¡NO TE LA PIERDAS Y RESERVA TU PLAZA! \n[/vc_column_text][/vc_column][vc_column width=»1/2″][vc_column_text]ROGAMOS MÁXIMA PUNTUALIDAD \nApertura de puertas a las 19:15h\nInicio del evento a las 19:30h[/vc_column_text][vc_column_text]EVENTO GRATUITO[/vc_column_text][vc_column_text]IMPRESCINDIBLE RESERVAR:[/vc_column_text]\n\n    \n    \n      \n      \n        \n  \n\n\n\n\n\n\n\n\n\n\n\n\n\n\nHe leído y acepto la política de privacidad de Asociación CompARTE\n\n \n        \n\n    \n    \n\n   [/vc_column][/vc_row]
URL:https://www.compartealicante.com/evento/nueva-fecha-sesion-de-cine-clasico-con-la-pelicula-cuentos-de-tokio-dirigida-por-yasujiro-ozu/
CATEGORIES:Cine,Cine comentado
ATTACH;FMTTYPE=image/png:https://www.compartealicante.com/wp-content/uploads/2025/08/CARTEL-CINE-CLASICO-CON-CUENTOS-DE-TOKIO-2-1.png
END:VEVENT
END:VCALENDAR