BEGIN:VCALENDAR
VERSION:2.0
PRODID:-//CompARTE Alicante · Asociación Cultural - ECPv5.3.2.1//NONSGML v1.0//EN
CALSCALE:GREGORIAN
METHOD:PUBLISH
X-WR-CALNAME:CompARTE Alicante · Asociación Cultural
X-ORIGINAL-URL:https://www.compartealicante.com
X-WR-CALDESC:Eventos para CompARTE Alicante · Asociación Cultural
BEGIN:VTIMEZONE
TZID:Europe/Madrid
BEGIN:DAYLIGHT
TZOFFSETFROM:+0100
TZOFFSETTO:+0200
TZNAME:CEST
DTSTART:20260329T010000
END:DAYLIGHT
BEGIN:STANDARD
TZOFFSETFROM:+0200
TZOFFSETTO:+0100
TZNAME:CET
DTSTART:20261025T010000
END:STANDARD
END:VTIMEZONE
BEGIN:VEVENT
DTSTART;TZID=Europe/Madrid:20260502T190000
DTEND;TZID=Europe/Madrid:20260502T230000
DTSTAMP:20260422T163848
CREATED:20260422T080310Z
LAST-MODIFIED:20260422T080310Z
UID:8796-1777748400-1777762800@www.compartealicante.com
SUMMARY:Ópera en directo "EUGENE ONEGIN " de Piotr Ilich Chaikovski desde el MET de Nueva York
DESCRIPTION:[vc_row][vc_column width=»1/2″][vc_column_text]El próximo sábado\, 2 de mayo a las 19:00 horas\, tenemos el placer de proponeros la ópera Eugene Onegin de Piotr Ilich Chaikovski. Podremos disfrutar de esta ópera en directo desde el Metropolitan Opera  de Nueva York\, que se proyectará en los cines Yelmo Puerta de Alicante. \nEn estas actividades\, el elemento diferenciador que ofrecemos es la reunión previa de un grupo de socios y amigos. Durante este encuentro\, uno de nosotros realiza una presentación que enriquece aún más la experiencia de la proyección. En éste caso\, será nuestro socio y amigo Xema Alavedra.\nEn otras palabras\, nuestra actividad principal consiste en reunirnos previamente para socializar y disfrutar de una presentación introductoria\, lo que hace que la proyección posterior sea aún más gratificante.[/vc_column_text][vc_column_text]Título: Eugene Onegin\nMúsica: Piotr Ilich Chaikovski\nLibreto: Konstantín Shilovski y Modest Chaikovski\, hermano del compositor\, basado en la novela homónima en verso de Aleksandr Pushkin\, publicada en 1831.\nOrquesta: Metropolitan de Nueva York\nAño de estreno: 1879\nDuración: 3 h 45 min (incluye 2 descansos de 35 y 30 minutos)\nReparto: Director: Timur Zangiev\, Tatiana: Asmik Grigorian\, Olga: Maria Barakova\, Filippyevna: Larissa Diadkova\, Lenski: Stanislas de Barbeyrac\, Eugene Onegin: Iurii Samoilov\, Prince Gremin: Alexander Tsymbalyuk. \nDescripción: El libreto sigue muy estrechamente el original de Pushkin\, conservando gran parte de su poesía\, escrita casi completamente en tetrámero yámbico. Chaikovski añade al texto una música de gran talento dramático.\nLa historia se refiere a un héroe egoísta que vive lo suficiente como para lamentar su displicente rechazo al amor de una joven\, y su descuidada incitación a un duelo fatal con su mejor amigo.\nLa ópera tiene momentos muy destacados como el aria para bajo del Príncipe Gremin (una de las mejores piezas para bajo profundo de todas las óperas) o la polonesa que abre el tercer acto y que se suele acompañar de un ballet \nLos interesados deben comunicar su asistencia. Quedamos 15 minutos antes e introducimos la ópera. Como hay descansos largos\, nos juntaremos para tomar algo de cava y picar lo que llevéis mientras comentamos la ópera.\nLas entradas se pueden sacar online o en taquilla. \n ¡ÓPERA compARTE EN DIRECTO EN LOS CINES YELMO PUERTA DE ALICANTE\, COMUNICA TU ASISTENCIA! \n[/vc_column_text][/vc_column][vc_column width=»1/2″][vc_column_text]ROGAMOS MÁXIMA PUNTUALIDAD \nQuedamos en la entrada de los cines Yelmo a las 18:45h\nInicio del evento a las 19:00h[/vc_column_text][vc_column_text]PRECIO ONLINE: 20\,90€ \nHay precio reducido de 16\,00€ solo para jóvenes hasta 30 años.[/vc_column_text][vc_column_text]IMPRESCINDIBLE RESERVAR:[/vc_column_text]\n\n    \n    \n      \n      \n        \n  \n\n\n\n\n\n\n\n\n\n\n\n\n\n\nHe leído y acepto la política de privacidad de Asociación CompARTE\n\n \n        \n\n    \n    \n\n   [/vc_column][/vc_row]
URL:https://www.compartealicante.com/evento/opera-en-directo-eugene-onegin-de-piotr-ilich-chaikovski-desde-el-met-de-nueva-york/
LOCATION:Cine Yelmo Puerta de Alicante\, Avinguda de Alcalde Lorenzo Carbonell\, 66\, Alicante\, Alicante\, 03007\, España
CATEGORIES:Ópera
ATTACH;FMTTYPE=image/png:https://www.compartealicante.com/wp-content/uploads/2026/04/Opera-en-directo-Eugene-Onegin-en-los-Yelmo-1.png
END:VEVENT
END:VCALENDAR