BEGIN:VCALENDAR
VERSION:2.0
PRODID:-//CompARTE Alicante · Asociación Cultural - ECPv5.3.2.1//NONSGML v1.0//EN
CALSCALE:GREGORIAN
METHOD:PUBLISH
X-WR-CALNAME:CompARTE Alicante · Asociación Cultural
X-ORIGINAL-URL:https://www.compartealicante.com
X-WR-CALDESC:Eventos para CompARTE Alicante · Asociación Cultural
BEGIN:VTIMEZONE
TZID:Europe/Madrid
BEGIN:DAYLIGHT
TZOFFSETFROM:+0100
TZOFFSETTO:+0200
TZNAME:CEST
DTSTART:20250330T010000
END:DAYLIGHT
BEGIN:STANDARD
TZOFFSETFROM:+0200
TZOFFSETTO:+0100
TZNAME:CET
DTSTART:20251026T010000
END:STANDARD
END:VTIMEZONE
BEGIN:VEVENT
DTSTART;TZID=Europe/Madrid:20250424T193000
DTEND;TZID=Europe/Madrid:20250424T223000
DTSTAMP:20260423T105908
CREATED:20250416T090833Z
LAST-MODIFIED:20250416T090833Z
UID:7194-1745523000-1745533800@www.compartealicante.com
SUMMARY:Ópera grabada "Aida" de Giuseppe Verdi en los cines Kinépolis de Plazamar
DESCRIPTION:[vc_row][vc_column width=»1/2″][vc_column_text]El jueves 24 de abril a las 19:30 horas\, os proponemos la asistencia a la ópera Aida de Giuseppe Verdi\, en versión grabada. Podremos disfrutar de esta ópera desde el teatro Arena Sferisterio de Macerata que se proyectará en el cine Kinépolis Plazamar. \nEn estas actividades\, el elemento diferenciador que ofrecemos es la reunión previa de un grupo de socios y amigos. Durante este encuentro\, uno de nosotros realiza una presentación que enriquece aún más la experiencia de la proyección. En éste caso\, será nuestro socio y amigo Xema Alavedra. \nEn otras palabras\, nuestra actividad principal consiste en reunirnos previamente para socializar y disfrutar de una presentación introductoria\, lo que hace que la proyección posterior sea aún más gratificante.[/vc_column_text][vc_column_text]En el esplendor del antiguo Egipto\, Aida cuenta la historia de una princesa etíope atrapada entre su amor prohibido por el valiente comandante egipcio Radamés y la lealtad a su patria. En un escenario dominado por la guerra\, el honor y las tensiones políticas\, Aida y Radamés deben enfrentarse a sus propios sentimientos mientras el deber y la traición los rodean. El conflicto entre el amor y la obligación se despliega en una serie de desgarradoras decisiones que llevarán a los personajes hacia un trágico destino.[/vc_column_text][vc_column_text]Título: Aida\nMúsica: Giuseppe\nVerdi\nLibreto: Antonio Ghislanzoni\nDirección musical: Francesco Lanzillotta\nDirección de Escena: Valentina Carrasco\nOrquesta Filarmonica Marchigiana\nAño de estreno: 1871 – Versión grabada en 2021\nDuración: 153 minutos –\nReparto: El Rey: Fabrizio Beggi. Aida: María Teresa Leva. Amneris: Verónica Simeoni. Radamés: Luciano Ganci. Ramfis: Alessio Cacciamani. Amonosro: Marco Caria. \nCOMENTARIO DE XEMA ALAVEDRA: \nEsta ópera la vimos hace unos meses en versión del Metropolitan de Nueva York. Esta versión es distinta de escenografía\, director\, cantantes\, etc. \nLos interesados deben comunicar su asistencia. Quedamos 15 minutos antes e introducimos la ópera. \nLas entradas se pueden sacar online o en taquilla. \n ¡ÓPERA compARTE GRABADA EN LOS CINES KINÉPOLIS PLAZAMAR\, RESERVA TU PLAZA! \n[/vc_column_text][/vc_column][vc_column width=»1/2″][vc_column_text]ROGAMOS MÁXIMA PUNTUALIDAD \nApertura de puertas a las 19:15h\nInicio del evento a las 19:30h[/vc_column_text][vc_column_text]PRECIO ONLINE GENERAL: 13\,20€ \nPRECIO ONLINE REDUCIDO(>65\, Niño\,.): 12\,00€ \n[/vc_column_text][vc_column_text]IMPRESCINDIBLE RESERVAR:[/vc_column_text]\n\n    \n    \n      \n      \n        \n  \n\n\n\n\n\n\n\n\n\n\n\n\n\n\nHe leído y acepto la política de privacidad de Asociación CompARTE\n\n \n        \n\n    \n    \n\n   [/vc_column][/vc_row]
URL:https://www.compartealicante.com/evento/opera-grabada-aida-de-giuseppe-verdi-en-los-cines-kinepolis-de-plazamar/
LOCATION:Cine Kinépolis Plazamar\, Plaza Mar\, 2\, Alicante\, Alicante\, 03016\, España
CATEGORIES:Ópera
ATTACH;FMTTYPE=image/png:https://www.compartealicante.com/wp-content/uploads/2025/04/OPERA-GRABADA-AIDA-DE-VERDI-2-1.png
END:VEVENT
END:VCALENDAR