BEGIN:VCALENDAR
VERSION:2.0
PRODID:-//CompARTE Alicante · Asociación Cultural - ECPv5.3.2.1//NONSGML v1.0//EN
CALSCALE:GREGORIAN
METHOD:PUBLISH
X-WR-CALNAME:CompARTE Alicante · Asociación Cultural
X-ORIGINAL-URL:https://www.compartealicante.com
X-WR-CALDESC:Eventos para CompARTE Alicante · Asociación Cultural
BEGIN:VTIMEZONE
TZID:Europe/Madrid
BEGIN:DAYLIGHT
TZOFFSETFROM:+0100
TZOFFSETTO:+0200
TZNAME:CEST
DTSTART:20240331T010000
END:DAYLIGHT
BEGIN:STANDARD
TZOFFSETFROM:+0200
TZOFFSETTO:+0100
TZNAME:CET
DTSTART:20241027T010000
END:STANDARD
END:VTIMEZONE
BEGIN:VEVENT
DTSTART;TZID=Europe/Madrid:20240309T193000
DTEND;TZID=Europe/Madrid:20240309T210000
DTSTAMP:20260423T212540
CREATED:20240303T212551Z
LAST-MODIFIED:20240303T212551Z
UID:5400-1710012600-1710018000@www.compartealicante.com
SUMMARY:Presentación del libro “MI INFIERNO\, UN HOGAR” de Encarna Pujante Hidalgo
DESCRIPTION:[vc_row][vc_column width=»1/2″][vc_column_text]El próximo sábado 9 de marzo os invitamos a la presentación del libro de poemas ‘Mi infierno\, un hogar’ de nuestra socia y amiga Encarna Pujante. \nTras su presentación oficial\, tendremos el placer de conocer con más detalle su último libro de poemas que es una obra que nos invita a reflexionar\, a emocionarnos y a buscar juntos una sociedad más justa e igualitaria.[/vc_column_text][vc_column_text] \nEn la jornada conoceremos de la propia autora\, cómo surgió la idea\, que nos quiere transmitir principalmente y cual ha sido el camino creativo recorrido hasta su publicación. \nDisfrutaremos de la lectura de varios poemas\, cortesía de varias personas socias y podremos disfrutar de una muestra de cuadros originales que han ilustrado el libro. \nAl finalizar podremos adquirir la obra\, con la firma personalizada de la autora. \n“Mi infierno\, un hogar…es el último libro de Encarnación Pujante Hidalgo. Un poema épico que relata la gesta de una auténtica guerrera. Su camino del infierno del amor hasta la luz de la libertad no os dejará indiferentes. Un libro que ya empieza a abrir conciencia social ante el problema extendido de la violencia de género” \n¿te apuntas? \n[/vc_column_text][/vc_column][vc_column width=»1/2″][vc_column_text]ROGAMOS MÁXIMA PUNTUALIDAD:: \nInicio del evento: 19:30h \nFinalización del evento: 21:00h[/vc_column_text][vc_column_text]Evento Gratuito[/vc_column_text][vc_column_text]IMPRESCINDIBLE RESERVAR:[/vc_column_text]\n\n    \n    \n      \n      \n        \n  \n\n\n\n\n\n\n\n\n\n\n\n\n\n\nHe leído y acepto la política de privacidad de Asociación CompARTE\n\n \n        \n\n    \n    \n\n   [/vc_column][/vc_row]
URL:https://www.compartealicante.com/evento/presentacion-del-libro-mi-infierno-un-hogar-de-encarna-pujante-hidalgo-2/
CATEGORIES:Presentación de libro
ATTACH;FMTTYPE=image/png:https://www.compartealicante.com/wp-content/uploads/2024/03/PRESENTACION-DEL-LIBRO-MI-INFIERNO-UN-HOGAR-2-1-1.png
END:VEVENT
END:VCALENDAR