BEGIN:VCALENDAR
VERSION:2.0
PRODID:-//CompARTE Alicante · Asociación Cultural - ECPv5.3.2.1//NONSGML v1.0//EN
CALSCALE:GREGORIAN
METHOD:PUBLISH
X-WR-CALNAME:CompARTE Alicante · Asociación Cultural
X-ORIGINAL-URL:https://www.compartealicante.com
X-WR-CALDESC:Eventos para CompARTE Alicante · Asociación Cultural
BEGIN:VTIMEZONE
TZID:Europe/Madrid
BEGIN:DAYLIGHT
TZOFFSETFROM:+0100
TZOFFSETTO:+0200
TZNAME:CEST
DTSTART:20240331T010000
END:DAYLIGHT
BEGIN:STANDARD
TZOFFSETFROM:+0200
TZOFFSETTO:+0100
TZNAME:CET
DTSTART:20241027T010000
END:STANDARD
END:VTIMEZONE
BEGIN:VEVENT
DTSTART;TZID=Europe/Madrid:20240706T190000
DTEND;TZID=Europe/Madrid:20240706T233000
DTSTAMP:20260423T143734
CREATED:20240702T090356Z
LAST-MODIFIED:20240702T204556Z
UID:5905-1720292400-1720308600@www.compartealicante.com
SUMMARY:Sesión de cine a propuesta de socia con la película 'La estrella azul' de Javier Macipe
DESCRIPTION:[vc_row][vc_column width=»1/2″][vc_column_text]El próximo sábado 6 de julio a las 19:00h. tenemos el placer de presentar una sesión de cena-cine propuesto por socia que en este caso lo hará nuestra socia \, vocal de la asociación y amiga Esperanza Fuster\, quien nos presentará la película La estrella azul\,  del director Javier Macipe. \nTras la proyección\, disfrutaremos de una cena compartida donde cada participante puede llevar lo que desee\,  mientras comentamos la película y sus diferentes perspectivas. Una oportunidad única para intercambiar ideas\, disfrutar de la compañía y saborear una velada inolvidable.[/vc_column_text][vc_column_text] \nLA ESTRELLA AZUL  \nAÑO: 2023\nDURACIÓN: 129 min\nDIRECTOR: Javier Macipe\nGUION: Javier Macipe\nFOTOGRAFÍA: Álvaro Medina\nINTÉRPRETES: Pepe Lorente · Cuti Carabajal · Bruna Cusí · Marc Rodríguez · Mariela Carabajal\,\nSINOPSIS: La inminente muerte del anciano patriarca de una acomodada familia sureña crea una gran tensión ambiental. Uno de sus hijos\, Brick\, indeciso y apático\, se refugia en el alcohol y se muestra cAños 90. Mauricio Aznar\, un famoso rockero español recorre Latinoamérica buscando reencontrarse con su vocación dejando atrás el fantasma de la adicción. Allí conoce a Don Carlos\, un anciano músico en horas bajas que\, a pesar de ser autor de algunas de las canciones más famosas del folclore de su país\, apenas consigue pagar sus facturas. Carlos acoge con generosidad al extraño visitante haciendo las veces de maestro Miyagi musical. De su encuentro nace un extravagante dúo quijotesco\, con todos los visos de ser un absoluto fracaso comercial. \nCALIFICACIONES: (FA/IMDb/) 7\,50(Filmaffinity); 7\,5 (IMDb); \nRazones para ver «La estrella azul»\, la película de Javier Macipe: \nUna historia conmovedora: «La estrella azul» narra el viaje de Mauricio Aznar\, un rockero español en horas bajas que busca reavivar su pasión por la música en la Latinoamérica de los años 90. A través de su encuentro con Don Carlos\, un músico folclórico argentino\, Mauricio se enfrenta a sus demonios personales y redescubre el verdadero significado del arte. La película explora temas universales como la búsqueda de la identidad\, la superación de las adversidades y el poder transformador de la música. \nInterpretaciones magistrales: Pepe Lorente brilla como Mauricio Aznar\, capturando a la perfección la vulnerabilidad y la tenacidad de un músico que lucha por encontrar su lugar en el mundo. Cuti Carabajal\, como Don Carlos\, ofrece una interpretación conmovedora y llena de sabiduría. El resto del reparto\, incluyendo a Bruna Cusí y Marc Rodríguez\, también ofrece actuaciones sólidas. \nBanda sonora memorable: La música juega un papel fundamental en «La estrella azul». La película cuenta con una banda sonora original compuesta por el músico argentino Leo Minucci\, que mezcla rock\, folk y ritmos latinos. Las canciones no solo son pegadizas\, sino que también ayudan a contar la historia y a expresar las emociones de los personajes. \nDirección impecable: Para ser su ópera prima\, Javier Macipe demuestra una gran madurez como director. La película está rodada con sensibilidad y realismo\, y Macipe logra crear una atmósfera envolvente que transporta al espectador a la Latinoamérica de los años 90. \nUn homenaje al rock and roll: «La estrella azul» es un homenaje al rock and roll y a su poder para unir a las personas. La película celebra la pasión por la música y el espíritu rebelde del rock. \nUna película que te llega al corazón: «La estrella azul» es una película que te conmoverá y te hará reflexionar. Es una historia sobre la esperanza\, la redención y el poder de la música para cambiar vidas. Aunque la película tiene un final difícil en el sentido tradicional\, sí nos deja con un mensaje esperanzador sobre la capacidad del ser humano para superar las adversidades y encontrar un nuevo sentido en la vida. La película nos invita a reflexionar sobre la importancia de la esperanza\, la redención y el poder transformador de la música. \n Si buscas una película con una historia conmovedora\, interpretaciones magistrales\, una banda sonora memorable y una dirección impecable\, «La estrella azul» es una película que no te puedes perder. Es una película que te llegará al corazón y te hará creer en el poder de la música. \nResumiendo: \n\nEs una película que se puede disfrutar de principio a fin\, sin importar si eres fanático del rock or not 🎸.\nLa película te transportará a una época y a un lugar diferentes\, lo que te permitirá conocer una nueva cultura.\nEmotiva historia sobre la importancia de la familia\, la superación personal y la búsqueda de la felicidad.  La película nos invita a reflexionar sobre la importancia de los lazos afectivos y la esperanza en medio de las adversidades.\n\n¡INSCRÍBETE Y NO TE LA PIERDAS! \n[/vc_column_text][/vc_column][vc_column width=»1/2″][vc_column_text]ROGAMOS MÁXIMA PUNTUALIDAD \nApertura de puertas a las 18:45h\nInicio del evento a las 19:00h[/vc_column_text][vc_column_text]EVENTO GRATUITO \n[/vc_column_text][vc_column_text]IMPRESCINDIBLE RESERVAR:[/vc_column_text]\n\n    \n    \n      \n      \n        \n  \n\n\n\n\n\n\n\n\n\n\n\n\n\n\nHe leído y acepto la política de privacidad de Asociación CompARTE\n\n \n        \n\n    \n    \n\n   [/vc_column][/vc_row]
URL:https://www.compartealicante.com/evento/sesion-de-cine-a-propuesta-de-socia-con-la-pelicula-la-estrella-azul-de-javier-macipe/
CATEGORIES:Cine,Cine comentado
ATTACH;FMTTYPE=image/png:https://www.compartealicante.com/wp-content/uploads/2024/07/Copia-de-cartel-la-estrella-azul-3-1.png
END:VEVENT
END:VCALENDAR